BEGIN:VCALENDAR
VERSION:2.0
PRODID:-//Bagneux Environnement - ECPv6.2.4//NONSGML v1.0//EN
CALSCALE:GREGORIAN
METHOD:PUBLISH
X-ORIGINAL-URL:https://bagneuxenvironnement.org
X-WR-CALDESC:évènements pour Bagneux Environnement
REFRESH-INTERVAL;VALUE=DURATION:PT1H
X-Robots-Tag:noindex
X-PUBLISHED-TTL:PT1H
BEGIN:VTIMEZONE
TZID:Europe/Paris
BEGIN:DAYLIGHT
TZOFFSETFROM:+0100
TZOFFSETTO:+0200
TZNAME:CEST
DTSTART:20230326T010000
END:DAYLIGHT
BEGIN:STANDARD
TZOFFSETFROM:+0200
TZOFFSETTO:+0100
TZNAME:CET
DTSTART:20231029T010000
END:STANDARD
END:VTIMEZONE
BEGIN:VEVENT
DTSTART;TZID=Europe/Paris:20231205T171500
DTEND;TZID=Europe/Paris:20231205T174500
DTSTAMP:20260425T122453
CREATED:20230905T204448Z
LAST-MODIFIED:20230906T152452Z
UID:10003443-1701796500-1701798300@bagneuxenvironnement.org
SUMMARY:Distribution d'invendus alimentaires bio
DESCRIPTION:Distribution gratuite des invendus alimentaires bio\, tous les mardis et jeudis (sauf le dernier mardi du mois) à partir 17h15.\nOuverte à tous\, aucun document n’est demandé afin de bénéficier des invendus à part une adhésion à l’Asssociation 🙂 \nVous pouvez faire votre adhésion en ligne\, ou par papier lors de nos permanences (premier samedi du mois\, de 10h à 13h) 😉 \nAdhérer à Bagneux Environnement en ligne
URL:https://bagneuxenvironnement.org/evenement/invendus-alimentaires-95/2023-12-05/
LOCATION:Agrocité\, 23 rue de la Lisette\, Bagneux\, Hauts-de-Seine\, 92220\, France
CATEGORIES:invendus alimentaires
ATTACH;FMTTYPE=image/jpeg:https://bagneuxenvironnement.org/wp-content/uploads/2021/09/invendus-alimentaire-3.jpg
END:VEVENT
BEGIN:VEVENT
DTSTART;TZID=Europe/Paris:20231207T171500
DTEND;TZID=Europe/Paris:20231207T174500
DTSTAMP:20260425T122453
CREATED:20230905T204448Z
LAST-MODIFIED:20230906T152452Z
UID:10003444-1701969300-1701971100@bagneuxenvironnement.org
SUMMARY:Distribution d'invendus alimentaires bio
DESCRIPTION:Distribution gratuite des invendus alimentaires bio\, tous les mardis et jeudis (sauf le dernier mardi du mois) à partir 17h15.\nOuverte à tous\, aucun document n’est demandé afin de bénéficier des invendus à part une adhésion à l’Asssociation 🙂 \nVous pouvez faire votre adhésion en ligne\, ou par papier lors de nos permanences (premier samedi du mois\, de 10h à 13h) 😉 \nAdhérer à Bagneux Environnement en ligne
URL:https://bagneuxenvironnement.org/evenement/invendus-alimentaires-95/2023-12-07/
LOCATION:Agrocité\, 23 rue de la Lisette\, Bagneux\, Hauts-de-Seine\, 92220\, France
CATEGORIES:invendus alimentaires
ATTACH;FMTTYPE=image/jpeg:https://bagneuxenvironnement.org/wp-content/uploads/2021/09/invendus-alimentaire-3.jpg
END:VEVENT
BEGIN:VEVENT
DTSTART;TZID=Europe/Paris:20231212T171500
DTEND;TZID=Europe/Paris:20231212T174500
DTSTAMP:20260425T122453
CREATED:20230905T204448Z
LAST-MODIFIED:20230906T152452Z
UID:10003445-1702401300-1702403100@bagneuxenvironnement.org
SUMMARY:Distribution d'invendus alimentaires bio
DESCRIPTION:Distribution gratuite des invendus alimentaires bio\, tous les mardis et jeudis (sauf le dernier mardi du mois) à partir 17h15.\nOuverte à tous\, aucun document n’est demandé afin de bénéficier des invendus à part une adhésion à l’Asssociation 🙂 \nVous pouvez faire votre adhésion en ligne\, ou par papier lors de nos permanences (premier samedi du mois\, de 10h à 13h) 😉 \nAdhérer à Bagneux Environnement en ligne
URL:https://bagneuxenvironnement.org/evenement/invendus-alimentaires-95/2023-12-12/
LOCATION:Agrocité\, 23 rue de la Lisette\, Bagneux\, Hauts-de-Seine\, 92220\, France
CATEGORIES:invendus alimentaires
ATTACH;FMTTYPE=image/jpeg:https://bagneuxenvironnement.org/wp-content/uploads/2021/09/invendus-alimentaire-3.jpg
END:VEVENT
BEGIN:VEVENT
DTSTART;TZID=Europe/Paris:20231214T171500
DTEND;TZID=Europe/Paris:20231214T174500
DTSTAMP:20260425T122453
CREATED:20230905T204448Z
LAST-MODIFIED:20230906T152452Z
UID:10003446-1702574100-1702575900@bagneuxenvironnement.org
SUMMARY:Distribution d'invendus alimentaires bio
DESCRIPTION:Distribution gratuite des invendus alimentaires bio\, tous les mardis et jeudis (sauf le dernier mardi du mois) à partir 17h15.\nOuverte à tous\, aucun document n’est demandé afin de bénéficier des invendus à part une adhésion à l’Asssociation 🙂 \nVous pouvez faire votre adhésion en ligne\, ou par papier lors de nos permanences (premier samedi du mois\, de 10h à 13h) 😉 \nAdhérer à Bagneux Environnement en ligne
URL:https://bagneuxenvironnement.org/evenement/invendus-alimentaires-95/2023-12-14/
LOCATION:Agrocité\, 23 rue de la Lisette\, Bagneux\, Hauts-de-Seine\, 92220\, France
CATEGORIES:invendus alimentaires
ATTACH;FMTTYPE=image/jpeg:https://bagneuxenvironnement.org/wp-content/uploads/2021/09/invendus-alimentaire-3.jpg
END:VEVENT
BEGIN:VEVENT
DTSTART;TZID=Europe/Paris:20231219T171500
DTEND;TZID=Europe/Paris:20231219T174500
DTSTAMP:20260425T122453
CREATED:20230905T204448Z
LAST-MODIFIED:20230906T152452Z
UID:10003447-1703006100-1703007900@bagneuxenvironnement.org
SUMMARY:Distribution d'invendus alimentaires bio
DESCRIPTION:Distribution gratuite des invendus alimentaires bio\, tous les mardis et jeudis (sauf le dernier mardi du mois) à partir 17h15.\nOuverte à tous\, aucun document n’est demandé afin de bénéficier des invendus à part une adhésion à l’Asssociation 🙂 \nVous pouvez faire votre adhésion en ligne\, ou par papier lors de nos permanences (premier samedi du mois\, de 10h à 13h) 😉 \nAdhérer à Bagneux Environnement en ligne
URL:https://bagneuxenvironnement.org/evenement/invendus-alimentaires-95/2023-12-19/
LOCATION:Agrocité\, 23 rue de la Lisette\, Bagneux\, Hauts-de-Seine\, 92220\, France
CATEGORIES:invendus alimentaires
ATTACH;FMTTYPE=image/jpeg:https://bagneuxenvironnement.org/wp-content/uploads/2021/09/invendus-alimentaire-3.jpg
END:VEVENT
BEGIN:VEVENT
DTSTART;TZID=Europe/Paris:20231221T171500
DTEND;TZID=Europe/Paris:20231221T174500
DTSTAMP:20260425T122453
CREATED:20230905T204448Z
LAST-MODIFIED:20230906T152452Z
UID:10003448-1703178900-1703180700@bagneuxenvironnement.org
SUMMARY:Distribution d'invendus alimentaires bio
DESCRIPTION:Distribution gratuite des invendus alimentaires bio\, tous les mardis et jeudis (sauf le dernier mardi du mois) à partir 17h15.\nOuverte à tous\, aucun document n’est demandé afin de bénéficier des invendus à part une adhésion à l’Asssociation 🙂 \nVous pouvez faire votre adhésion en ligne\, ou par papier lors de nos permanences (premier samedi du mois\, de 10h à 13h) 😉 \nAdhérer à Bagneux Environnement en ligne
URL:https://bagneuxenvironnement.org/evenement/invendus-alimentaires-95/2023-12-21/
LOCATION:Agrocité\, 23 rue de la Lisette\, Bagneux\, Hauts-de-Seine\, 92220\, France
CATEGORIES:invendus alimentaires
ATTACH;FMTTYPE=image/jpeg:https://bagneuxenvironnement.org/wp-content/uploads/2021/09/invendus-alimentaire-3.jpg
END:VEVENT
BEGIN:VEVENT
DTSTART;TZID=Europe/Paris:20231228T171500
DTEND;TZID=Europe/Paris:20231228T174500
DTSTAMP:20260425T122453
CREATED:20230905T204448Z
LAST-MODIFIED:20230906T152452Z
UID:10003449-1703783700-1703785500@bagneuxenvironnement.org
SUMMARY:Distribution d'invendus alimentaires bio
DESCRIPTION:Distribution gratuite des invendus alimentaires bio\, tous les mardis et jeudis (sauf le dernier mardi du mois) à partir 17h15.\nOuverte à tous\, aucun document n’est demandé afin de bénéficier des invendus à part une adhésion à l’Asssociation 🙂 \nVous pouvez faire votre adhésion en ligne\, ou par papier lors de nos permanences (premier samedi du mois\, de 10h à 13h) 😉 \nAdhérer à Bagneux Environnement en ligne
URL:https://bagneuxenvironnement.org/evenement/invendus-alimentaires-95/2023-12-28/
LOCATION:Agrocité\, 23 rue de la Lisette\, Bagneux\, Hauts-de-Seine\, 92220\, France
CATEGORIES:invendus alimentaires
ATTACH;FMTTYPE=image/jpeg:https://bagneuxenvironnement.org/wp-content/uploads/2021/09/invendus-alimentaire-3.jpg
END:VEVENT
END:VCALENDAR