BEGIN:VCALENDAR
VERSION:2.0
PRODID:-//Bagneux Environnement - ECPv6.2.4//NONSGML v1.0//EN
CALSCALE:GREGORIAN
METHOD:PUBLISH
X-ORIGINAL-URL:https://bagneuxenvironnement.org
X-WR-CALDESC:évènements pour Bagneux Environnement
REFRESH-INTERVAL;VALUE=DURATION:PT1H
X-Robots-Tag:noindex
X-PUBLISHED-TTL:PT1H
BEGIN:VTIMEZONE
TZID:Europe/Paris
BEGIN:DAYLIGHT
TZOFFSETFROM:+0100
TZOFFSETTO:+0200
TZNAME:CEST
DTSTART:20280326T010000
END:DAYLIGHT
BEGIN:STANDARD
TZOFFSETFROM:+0200
TZOFFSETTO:+0100
TZNAME:CET
DTSTART:20281029T010000
END:STANDARD
END:VTIMEZONE
BEGIN:VEVENT
DTSTART;TZID=Europe/Paris:20280831T171500
DTEND;TZID=Europe/Paris:20280831T174500
DTSTAMP:20260425T040833
CREATED:20230905T204448Z
LAST-MODIFIED:20230906T152452Z
UID:10003881-1851354900-1851356700@bagneuxenvironnement.org
SUMMARY:Distribution d'invendus alimentaires bio
DESCRIPTION:Distribution gratuite des invendus alimentaires bio\, tous les mardis et jeudis (sauf le dernier mardi du mois) à partir 17h15.\nOuverte à tous\, aucun document n’est demandé afin de bénéficier des invendus à part une adhésion à l’Asssociation 🙂 \nVous pouvez faire votre adhésion en ligne\, ou par papier lors de nos permanences (premier samedi du mois\, de 10h à 13h) 😉 \nAdhérer à Bagneux Environnement en ligne
URL:https://bagneuxenvironnement.org/evenement/invendus-alimentaires-95/2028-08-31/
LOCATION:Agrocité\, 23 rue de la Lisette\, Bagneux\, Hauts-de-Seine\, 92220\, France
CATEGORIES:invendus alimentaires
ATTACH;FMTTYPE=image/jpeg:https://bagneuxenvironnement.org/wp-content/uploads/2021/09/invendus-alimentaire-3.jpg
END:VEVENT
BEGIN:VEVENT
DTSTART;TZID=Europe/Paris:20280905T171500
DTEND;TZID=Europe/Paris:20280905T174500
DTSTAMP:20260425T040833
CREATED:20230905T204448Z
LAST-MODIFIED:20230906T152452Z
UID:10003882-1851786900-1851788700@bagneuxenvironnement.org
SUMMARY:Distribution d'invendus alimentaires bio
DESCRIPTION:Distribution gratuite des invendus alimentaires bio\, tous les mardis et jeudis (sauf le dernier mardi du mois) à partir 17h15.\nOuverte à tous\, aucun document n’est demandé afin de bénéficier des invendus à part une adhésion à l’Asssociation 🙂 \nVous pouvez faire votre adhésion en ligne\, ou par papier lors de nos permanences (premier samedi du mois\, de 10h à 13h) 😉 \nAdhérer à Bagneux Environnement en ligne
URL:https://bagneuxenvironnement.org/evenement/invendus-alimentaires-95/2028-09-05/
LOCATION:Agrocité\, 23 rue de la Lisette\, Bagneux\, Hauts-de-Seine\, 92220\, France
CATEGORIES:invendus alimentaires
ATTACH;FMTTYPE=image/jpeg:https://bagneuxenvironnement.org/wp-content/uploads/2021/09/invendus-alimentaire-3.jpg
END:VEVENT
BEGIN:VEVENT
DTSTART;TZID=Europe/Paris:20280907T171500
DTEND;TZID=Europe/Paris:20280907T174500
DTSTAMP:20260425T040833
CREATED:20230905T204448Z
LAST-MODIFIED:20230906T152452Z
UID:10003883-1851959700-1851961500@bagneuxenvironnement.org
SUMMARY:Distribution d'invendus alimentaires bio
DESCRIPTION:Distribution gratuite des invendus alimentaires bio\, tous les mardis et jeudis (sauf le dernier mardi du mois) à partir 17h15.\nOuverte à tous\, aucun document n’est demandé afin de bénéficier des invendus à part une adhésion à l’Asssociation 🙂 \nVous pouvez faire votre adhésion en ligne\, ou par papier lors de nos permanences (premier samedi du mois\, de 10h à 13h) 😉 \nAdhérer à Bagneux Environnement en ligne
URL:https://bagneuxenvironnement.org/evenement/invendus-alimentaires-95/2028-09-07/
LOCATION:Agrocité\, 23 rue de la Lisette\, Bagneux\, Hauts-de-Seine\, 92220\, France
CATEGORIES:invendus alimentaires
ATTACH;FMTTYPE=image/jpeg:https://bagneuxenvironnement.org/wp-content/uploads/2021/09/invendus-alimentaire-3.jpg
END:VEVENT
BEGIN:VEVENT
DTSTART;TZID=Europe/Paris:20280912T171500
DTEND;TZID=Europe/Paris:20280912T174500
DTSTAMP:20260425T040834
CREATED:20230905T204448Z
LAST-MODIFIED:20230906T152452Z
UID:10003884-1852391700-1852393500@bagneuxenvironnement.org
SUMMARY:Distribution d'invendus alimentaires bio
DESCRIPTION:Distribution gratuite des invendus alimentaires bio\, tous les mardis et jeudis (sauf le dernier mardi du mois) à partir 17h15.\nOuverte à tous\, aucun document n’est demandé afin de bénéficier des invendus à part une adhésion à l’Asssociation 🙂 \nVous pouvez faire votre adhésion en ligne\, ou par papier lors de nos permanences (premier samedi du mois\, de 10h à 13h) 😉 \nAdhérer à Bagneux Environnement en ligne
URL:https://bagneuxenvironnement.org/evenement/invendus-alimentaires-95/2028-09-12/
LOCATION:Agrocité\, 23 rue de la Lisette\, Bagneux\, Hauts-de-Seine\, 92220\, France
CATEGORIES:invendus alimentaires
ATTACH;FMTTYPE=image/jpeg:https://bagneuxenvironnement.org/wp-content/uploads/2021/09/invendus-alimentaire-3.jpg
END:VEVENT
BEGIN:VEVENT
DTSTART;TZID=Europe/Paris:20280914T171500
DTEND;TZID=Europe/Paris:20280914T174500
DTSTAMP:20260425T040834
CREATED:20230905T204448Z
LAST-MODIFIED:20230906T152452Z
UID:10003885-1852564500-1852566300@bagneuxenvironnement.org
SUMMARY:Distribution d'invendus alimentaires bio
DESCRIPTION:Distribution gratuite des invendus alimentaires bio\, tous les mardis et jeudis (sauf le dernier mardi du mois) à partir 17h15.\nOuverte à tous\, aucun document n’est demandé afin de bénéficier des invendus à part une adhésion à l’Asssociation 🙂 \nVous pouvez faire votre adhésion en ligne\, ou par papier lors de nos permanences (premier samedi du mois\, de 10h à 13h) 😉 \nAdhérer à Bagneux Environnement en ligne
URL:https://bagneuxenvironnement.org/evenement/invendus-alimentaires-95/2028-09-14/
LOCATION:Agrocité\, 23 rue de la Lisette\, Bagneux\, Hauts-de-Seine\, 92220\, France
CATEGORIES:invendus alimentaires
ATTACH;FMTTYPE=image/jpeg:https://bagneuxenvironnement.org/wp-content/uploads/2021/09/invendus-alimentaire-3.jpg
END:VEVENT
BEGIN:VEVENT
DTSTART;TZID=Europe/Paris:20280919T171500
DTEND;TZID=Europe/Paris:20280919T174500
DTSTAMP:20260425T040834
CREATED:20230905T204448Z
LAST-MODIFIED:20230906T152452Z
UID:10003886-1852996500-1852998300@bagneuxenvironnement.org
SUMMARY:Distribution d'invendus alimentaires bio
DESCRIPTION:Distribution gratuite des invendus alimentaires bio\, tous les mardis et jeudis (sauf le dernier mardi du mois) à partir 17h15.\nOuverte à tous\, aucun document n’est demandé afin de bénéficier des invendus à part une adhésion à l’Asssociation 🙂 \nVous pouvez faire votre adhésion en ligne\, ou par papier lors de nos permanences (premier samedi du mois\, de 10h à 13h) 😉 \nAdhérer à Bagneux Environnement en ligne
URL:https://bagneuxenvironnement.org/evenement/invendus-alimentaires-95/2028-09-19/
LOCATION:Agrocité\, 23 rue de la Lisette\, Bagneux\, Hauts-de-Seine\, 92220\, France
CATEGORIES:invendus alimentaires
ATTACH;FMTTYPE=image/jpeg:https://bagneuxenvironnement.org/wp-content/uploads/2021/09/invendus-alimentaire-3.jpg
END:VEVENT
BEGIN:VEVENT
DTSTART;TZID=Europe/Paris:20280921T171500
DTEND;TZID=Europe/Paris:20280921T174500
DTSTAMP:20260425T040834
CREATED:20230905T204448Z
LAST-MODIFIED:20230906T152452Z
UID:10003887-1853169300-1853171100@bagneuxenvironnement.org
SUMMARY:Distribution d'invendus alimentaires bio
DESCRIPTION:Distribution gratuite des invendus alimentaires bio\, tous les mardis et jeudis (sauf le dernier mardi du mois) à partir 17h15.\nOuverte à tous\, aucun document n’est demandé afin de bénéficier des invendus à part une adhésion à l’Asssociation 🙂 \nVous pouvez faire votre adhésion en ligne\, ou par papier lors de nos permanences (premier samedi du mois\, de 10h à 13h) 😉 \nAdhérer à Bagneux Environnement en ligne
URL:https://bagneuxenvironnement.org/evenement/invendus-alimentaires-95/2028-09-21/
LOCATION:Agrocité\, 23 rue de la Lisette\, Bagneux\, Hauts-de-Seine\, 92220\, France
CATEGORIES:invendus alimentaires
ATTACH;FMTTYPE=image/jpeg:https://bagneuxenvironnement.org/wp-content/uploads/2021/09/invendus-alimentaire-3.jpg
END:VEVENT
BEGIN:VEVENT
DTSTART;TZID=Europe/Paris:20280928T171500
DTEND;TZID=Europe/Paris:20280928T174500
DTSTAMP:20260425T040834
CREATED:20230905T204448Z
LAST-MODIFIED:20230906T152452Z
UID:10003888-1853774100-1853775900@bagneuxenvironnement.org
SUMMARY:Distribution d'invendus alimentaires bio
DESCRIPTION:Distribution gratuite des invendus alimentaires bio\, tous les mardis et jeudis (sauf le dernier mardi du mois) à partir 17h15.\nOuverte à tous\, aucun document n’est demandé afin de bénéficier des invendus à part une adhésion à l’Asssociation 🙂 \nVous pouvez faire votre adhésion en ligne\, ou par papier lors de nos permanences (premier samedi du mois\, de 10h à 13h) 😉 \nAdhérer à Bagneux Environnement en ligne
URL:https://bagneuxenvironnement.org/evenement/invendus-alimentaires-95/2028-09-28/
LOCATION:Agrocité\, 23 rue de la Lisette\, Bagneux\, Hauts-de-Seine\, 92220\, France
CATEGORIES:invendus alimentaires
ATTACH;FMTTYPE=image/jpeg:https://bagneuxenvironnement.org/wp-content/uploads/2021/09/invendus-alimentaire-3.jpg
END:VEVENT
BEGIN:VEVENT
DTSTART;TZID=Europe/Paris:20281003T171500
DTEND;TZID=Europe/Paris:20281003T174500
DTSTAMP:20260425T040834
CREATED:20230905T204448Z
LAST-MODIFIED:20230906T152452Z
UID:10003889-1854206100-1854207900@bagneuxenvironnement.org
SUMMARY:Distribution d'invendus alimentaires bio
DESCRIPTION:Distribution gratuite des invendus alimentaires bio\, tous les mardis et jeudis (sauf le dernier mardi du mois) à partir 17h15.\nOuverte à tous\, aucun document n’est demandé afin de bénéficier des invendus à part une adhésion à l’Asssociation 🙂 \nVous pouvez faire votre adhésion en ligne\, ou par papier lors de nos permanences (premier samedi du mois\, de 10h à 13h) 😉 \nAdhérer à Bagneux Environnement en ligne
URL:https://bagneuxenvironnement.org/evenement/invendus-alimentaires-95/2028-10-03/
LOCATION:Agrocité\, 23 rue de la Lisette\, Bagneux\, Hauts-de-Seine\, 92220\, France
CATEGORIES:invendus alimentaires
ATTACH;FMTTYPE=image/jpeg:https://bagneuxenvironnement.org/wp-content/uploads/2021/09/invendus-alimentaire-3.jpg
END:VEVENT
BEGIN:VEVENT
DTSTART;TZID=Europe/Paris:20281005T171500
DTEND;TZID=Europe/Paris:20281005T174500
DTSTAMP:20260425T040834
CREATED:20230905T204448Z
LAST-MODIFIED:20230906T152452Z
UID:10003890-1854378900-1854380700@bagneuxenvironnement.org
SUMMARY:Distribution d'invendus alimentaires bio
DESCRIPTION:Distribution gratuite des invendus alimentaires bio\, tous les mardis et jeudis (sauf le dernier mardi du mois) à partir 17h15.\nOuverte à tous\, aucun document n’est demandé afin de bénéficier des invendus à part une adhésion à l’Asssociation 🙂 \nVous pouvez faire votre adhésion en ligne\, ou par papier lors de nos permanences (premier samedi du mois\, de 10h à 13h) 😉 \nAdhérer à Bagneux Environnement en ligne
URL:https://bagneuxenvironnement.org/evenement/invendus-alimentaires-95/2028-10-05/
LOCATION:Agrocité\, 23 rue de la Lisette\, Bagneux\, Hauts-de-Seine\, 92220\, France
CATEGORIES:invendus alimentaires
ATTACH;FMTTYPE=image/jpeg:https://bagneuxenvironnement.org/wp-content/uploads/2021/09/invendus-alimentaire-3.jpg
END:VEVENT
BEGIN:VEVENT
DTSTART;TZID=Europe/Paris:20281010T171500
DTEND;TZID=Europe/Paris:20281010T174500
DTSTAMP:20260425T040834
CREATED:20230905T204448Z
LAST-MODIFIED:20230906T152452Z
UID:10003891-1854810900-1854812700@bagneuxenvironnement.org
SUMMARY:Distribution d'invendus alimentaires bio
DESCRIPTION:Distribution gratuite des invendus alimentaires bio\, tous les mardis et jeudis (sauf le dernier mardi du mois) à partir 17h15.\nOuverte à tous\, aucun document n’est demandé afin de bénéficier des invendus à part une adhésion à l’Asssociation 🙂 \nVous pouvez faire votre adhésion en ligne\, ou par papier lors de nos permanences (premier samedi du mois\, de 10h à 13h) 😉 \nAdhérer à Bagneux Environnement en ligne
URL:https://bagneuxenvironnement.org/evenement/invendus-alimentaires-95/2028-10-10/
LOCATION:Agrocité\, 23 rue de la Lisette\, Bagneux\, Hauts-de-Seine\, 92220\, France
CATEGORIES:invendus alimentaires
ATTACH;FMTTYPE=image/jpeg:https://bagneuxenvironnement.org/wp-content/uploads/2021/09/invendus-alimentaire-3.jpg
END:VEVENT
BEGIN:VEVENT
DTSTART;TZID=Europe/Paris:20281012T171500
DTEND;TZID=Europe/Paris:20281012T174500
DTSTAMP:20260425T040834
CREATED:20230905T204448Z
LAST-MODIFIED:20230906T152452Z
UID:10003892-1854983700-1854985500@bagneuxenvironnement.org
SUMMARY:Distribution d'invendus alimentaires bio
DESCRIPTION:Distribution gratuite des invendus alimentaires bio\, tous les mardis et jeudis (sauf le dernier mardi du mois) à partir 17h15.\nOuverte à tous\, aucun document n’est demandé afin de bénéficier des invendus à part une adhésion à l’Asssociation 🙂 \nVous pouvez faire votre adhésion en ligne\, ou par papier lors de nos permanences (premier samedi du mois\, de 10h à 13h) 😉 \nAdhérer à Bagneux Environnement en ligne
URL:https://bagneuxenvironnement.org/evenement/invendus-alimentaires-95/2028-10-12/
LOCATION:Agrocité\, 23 rue de la Lisette\, Bagneux\, Hauts-de-Seine\, 92220\, France
CATEGORIES:invendus alimentaires
ATTACH;FMTTYPE=image/jpeg:https://bagneuxenvironnement.org/wp-content/uploads/2021/09/invendus-alimentaire-3.jpg
END:VEVENT
BEGIN:VEVENT
DTSTART;TZID=Europe/Paris:20281017T171500
DTEND;TZID=Europe/Paris:20281017T174500
DTSTAMP:20260425T040834
CREATED:20230905T204448Z
LAST-MODIFIED:20230906T152452Z
UID:10003893-1855415700-1855417500@bagneuxenvironnement.org
SUMMARY:Distribution d'invendus alimentaires bio
DESCRIPTION:Distribution gratuite des invendus alimentaires bio\, tous les mardis et jeudis (sauf le dernier mardi du mois) à partir 17h15.\nOuverte à tous\, aucun document n’est demandé afin de bénéficier des invendus à part une adhésion à l’Asssociation 🙂 \nVous pouvez faire votre adhésion en ligne\, ou par papier lors de nos permanences (premier samedi du mois\, de 10h à 13h) 😉 \nAdhérer à Bagneux Environnement en ligne
URL:https://bagneuxenvironnement.org/evenement/invendus-alimentaires-95/2028-10-17/
LOCATION:Agrocité\, 23 rue de la Lisette\, Bagneux\, Hauts-de-Seine\, 92220\, France
CATEGORIES:invendus alimentaires
ATTACH;FMTTYPE=image/jpeg:https://bagneuxenvironnement.org/wp-content/uploads/2021/09/invendus-alimentaire-3.jpg
END:VEVENT
BEGIN:VEVENT
DTSTART;TZID=Europe/Paris:20281019T171500
DTEND;TZID=Europe/Paris:20281019T174500
DTSTAMP:20260425T040834
CREATED:20230905T204448Z
LAST-MODIFIED:20230906T152452Z
UID:10003894-1855588500-1855590300@bagneuxenvironnement.org
SUMMARY:Distribution d'invendus alimentaires bio
DESCRIPTION:Distribution gratuite des invendus alimentaires bio\, tous les mardis et jeudis (sauf le dernier mardi du mois) à partir 17h15.\nOuverte à tous\, aucun document n’est demandé afin de bénéficier des invendus à part une adhésion à l’Asssociation 🙂 \nVous pouvez faire votre adhésion en ligne\, ou par papier lors de nos permanences (premier samedi du mois\, de 10h à 13h) 😉 \nAdhérer à Bagneux Environnement en ligne
URL:https://bagneuxenvironnement.org/evenement/invendus-alimentaires-95/2028-10-19/
LOCATION:Agrocité\, 23 rue de la Lisette\, Bagneux\, Hauts-de-Seine\, 92220\, France
CATEGORIES:invendus alimentaires
ATTACH;FMTTYPE=image/jpeg:https://bagneuxenvironnement.org/wp-content/uploads/2021/09/invendus-alimentaire-3.jpg
END:VEVENT
BEGIN:VEVENT
DTSTART;TZID=Europe/Paris:20281024T171500
DTEND;TZID=Europe/Paris:20281024T174500
DTSTAMP:20260425T040834
CREATED:20230905T204448Z
LAST-MODIFIED:20230906T152452Z
UID:10003895-1856020500-1856022300@bagneuxenvironnement.org
SUMMARY:Distribution d'invendus alimentaires bio
DESCRIPTION:Distribution gratuite des invendus alimentaires bio\, tous les mardis et jeudis (sauf le dernier mardi du mois) à partir 17h15.\nOuverte à tous\, aucun document n’est demandé afin de bénéficier des invendus à part une adhésion à l’Asssociation 🙂 \nVous pouvez faire votre adhésion en ligne\, ou par papier lors de nos permanences (premier samedi du mois\, de 10h à 13h) 😉 \nAdhérer à Bagneux Environnement en ligne
URL:https://bagneuxenvironnement.org/evenement/invendus-alimentaires-95/2028-10-24/
LOCATION:Agrocité\, 23 rue de la Lisette\, Bagneux\, Hauts-de-Seine\, 92220\, France
CATEGORIES:invendus alimentaires
ATTACH;FMTTYPE=image/jpeg:https://bagneuxenvironnement.org/wp-content/uploads/2021/09/invendus-alimentaire-3.jpg
END:VEVENT
BEGIN:VEVENT
DTSTART;TZID=Europe/Paris:20281026T171500
DTEND;TZID=Europe/Paris:20281026T174500
DTSTAMP:20260425T040834
CREATED:20230905T204448Z
LAST-MODIFIED:20230906T152452Z
UID:10003896-1856193300-1856195100@bagneuxenvironnement.org
SUMMARY:Distribution d'invendus alimentaires bio
DESCRIPTION:Distribution gratuite des invendus alimentaires bio\, tous les mardis et jeudis (sauf le dernier mardi du mois) à partir 17h15.\nOuverte à tous\, aucun document n’est demandé afin de bénéficier des invendus à part une adhésion à l’Asssociation 🙂 \nVous pouvez faire votre adhésion en ligne\, ou par papier lors de nos permanences (premier samedi du mois\, de 10h à 13h) 😉 \nAdhérer à Bagneux Environnement en ligne
URL:https://bagneuxenvironnement.org/evenement/invendus-alimentaires-95/2028-10-26/
LOCATION:Agrocité\, 23 rue de la Lisette\, Bagneux\, Hauts-de-Seine\, 92220\, France
CATEGORIES:invendus alimentaires
ATTACH;FMTTYPE=image/jpeg:https://bagneuxenvironnement.org/wp-content/uploads/2021/09/invendus-alimentaire-3.jpg
END:VEVENT
END:VCALENDAR