BEGIN:VCALENDAR
VERSION:2.0
PRODID:-//Bagneux Environnement - ECPv6.2.4//NONSGML v1.0//EN
CALSCALE:GREGORIAN
METHOD:PUBLISH
X-ORIGINAL-URL:https://bagneuxenvironnement.org
X-WR-CALDESC:évènements pour Bagneux Environnement
REFRESH-INTERVAL;VALUE=DURATION:PT1H
X-Robots-Tag:noindex
X-PUBLISHED-TTL:PT1H
BEGIN:VTIMEZONE
TZID:Europe/Paris
BEGIN:DAYLIGHT
TZOFFSETFROM:+0100
TZOFFSETTO:+0200
TZNAME:CEST
DTSTART:20240331T010000
END:DAYLIGHT
BEGIN:STANDARD
TZOFFSETFROM:+0200
TZOFFSETTO:+0100
TZNAME:CET
DTSTART:20241027T010000
END:STANDARD
END:VTIMEZONE
BEGIN:VEVENT
DTSTART;TZID=Europe/Paris:20240928T140000
DTEND;TZID=Europe/Paris:20240928T180000
DTSTAMP:20260422T002040
CREATED:20240906T103902Z
LAST-MODIFIED:20240906T123604Z
UID:10010226-1727532000-1727546400@bagneuxenvironnement.org
SUMMARY:[EXCEPTIONNELLEMENT] Fermeture de la Recyclerie !
DESCRIPTION:[EXCEPTIONNELLEMENT] Fermeture de la Recyclerie ! \nNous vous informons que la Recyclerie sera exceptionnellement fermée ce samedi 28 Septembre 2024\, car toute notre équipe sera présente sur la fête des Vendanges de Bagneux. Nous vous remercions de votre compréhension et nous vous invitons à venir nous rendre visite sur un des stands place Dampierre ou dans le Parce du Puits Saint Etienne pour nous rencontrer ou à une autre d’ouverture de la Recyclerie pour découvrir nos produits recyclés et faire des achats solidaires. Bonne fête des Vendanges à tous !
URL:https://bagneuxenvironnement.org/evenement/ouverture-de-la-recyclerie-2-2/
LOCATION:Recyclerie\, 1 rue de la fontaine\, Bagneux\, 92220\, France
CATEGORIES:Recyclerie
ATTACH;FMTTYPE=image/jpeg:https://bagneuxenvironnement.org/wp-content/uploads/2024/07/Recyclerie-e1772210702178.jpg
END:VEVENT
END:VCALENDAR