BEGIN:VCALENDAR
VERSION:2.0
PRODID:-//Bagneux Environnement - ECPv6.2.4//NONSGML v1.0//EN
CALSCALE:GREGORIAN
METHOD:PUBLISH
X-WR-CALNAME:Bagneux Environnement
X-ORIGINAL-URL:https://bagneuxenvironnement.org
X-WR-CALDESC:évènements pour Bagneux Environnement
REFRESH-INTERVAL;VALUE=DURATION:PT1H
X-Robots-Tag:noindex
X-PUBLISHED-TTL:PT1H
BEGIN:VTIMEZONE
TZID:Europe/Paris
BEGIN:DAYLIGHT
TZOFFSETFROM:+0100
TZOFFSETTO:+0200
TZNAME:CEST
DTSTART:20220327T010000
END:DAYLIGHT
BEGIN:STANDARD
TZOFFSETFROM:+0200
TZOFFSETTO:+0100
TZNAME:CET
DTSTART:20221030T010000
END:STANDARD
END:VTIMEZONE
BEGIN:VEVENT
DTSTART;TZID=Europe/Paris:20220315T171500
DTEND;TZID=Europe/Paris:20220315T180000
DTSTAMP:20260420T054403
CREATED:20220302T140927Z
LAST-MODIFIED:20220302T140927Z
UID:10002973-1647364500-1647367200@bagneuxenvironnement.org
SUMMARY:INVENDUS ALIMENTAIRES
DESCRIPTION:Distribution gratuite des invendus alimentaires tous les mardis (sauf dernier du mois) à partir 17h15 (durée 45 min) au Pavillon BE 4 sentier des Brugnauts\, 92220 BAGNEUX
URL:https://bagneuxenvironnement.org/evenement/invendus-alimentaires-15-3/
LOCATION:Pavillon de Bagneux Environnement\, 4 Sent. des Brugnauts\, BAGNEUX\, 92220\, France
CATEGORIES:invendus alimentaires
ATTACH;FMTTYPE=image/jpeg:https://bagneuxenvironnement.org/wp-content/uploads/2021/09/invendus-alimentaire-3.jpg
END:VEVENT
BEGIN:VEVENT
DTSTART;TZID=Europe/Paris:20220316T140000
DTEND;TZID=Europe/Paris:20220316T180000
DTSTAMP:20260420T054403
CREATED:20220405T182305Z
LAST-MODIFIED:20220405T182305Z
UID:10002994-1647439200-1647453600@bagneuxenvironnement.org
SUMMARY:ATELIER BE - les après-midis BEcréatif
DESCRIPTION:Location espace et équipements\, utilisation en autonomie ou avec les autres \n6 utilisateurs maximum (à partir de 7ans mais accompagné\, et à partir de 14 ans en autonomie) \ninscription obligatoire par mail : atelierbe@bagneuxenvironnement.org
URL:https://bagneuxenvironnement.org/evenement/atelier-be-les-apres-midis-becreatif-6/
LOCATION:Atelier BE\, 5 Allée du Poitou\, Bagneux\, Hauts-de-Seine\, 92220\, France
CATEGORIES:atelier BE
ATTACH;FMTTYPE=image/png:https://bagneuxenvironnement.org/wp-content/uploads/2022/02/HELLOASSO-Vignette-1.png
END:VEVENT
BEGIN:VEVENT
DTSTART;TZID=Europe/Paris:20220317T171500
DTEND;TZID=Europe/Paris:20220317T180000
DTSTAMP:20260420T054403
CREATED:20220302T141905Z
LAST-MODIFIED:20220302T141905Z
UID:10002974-1647537300-1647540000@bagneuxenvironnement.org
SUMMARY:INVENDUS ALIMENTAIRES
DESCRIPTION:Distribution gratuite des invendus alimentaires tous les jeudis à partir 17h15 (durée 45 min) au Pavillon BE 4 sentier des Brugnauts\, 92220 BAGNEUX
URL:https://bagneuxenvironnement.org/evenement/invendus-alimentaires-17-3/
LOCATION:Pavillon de Bagneux Environnement\, 4 Sent. des Brugnauts\, BAGNEUX\, 92220\, France
CATEGORIES:invendus alimentaires
ATTACH;FMTTYPE=image/jpeg:https://bagneuxenvironnement.org/wp-content/uploads/2021/09/invendus-alimentaire-3.jpg
END:VEVENT
BEGIN:VEVENT
DTSTART;TZID=Europe/Paris:20220319T100000
DTEND;TZID=Europe/Paris:20220319T120000
DTSTAMP:20260420T054403
CREATED:20211115T101216Z
LAST-MODIFIED:20220302T160611Z
UID:10002873-1647684000-1647691200@bagneuxenvironnement.org
SUMMARY:ATELIER NATURE EN VILLE - les fourmis (Agrocité)
DESCRIPTION:Les fourmis sont des insectes sociaux\, tout comme l’homme. A l’Agrocité\, découvrons ensemble le mode de vie et l’organisation des premiers animaux à avoir bâtis des villes ! \ninscription facile en ligne : https://www.helloasso.com/associations/bagneux-environnement/evenements/19-mars-atelier-nature-en-ville-les-fourmis
URL:https://bagneuxenvironnement.org/evenement/atelier-nature-en-ville-fourmis-agrocite/
LOCATION:Agrocité\, 23 rue de la Lisette\, Bagneux\, Hauts-de-Seine\, 92220\, France
CATEGORIES:atelier nature en ville
ATTACH;FMTTYPE=image/jpeg:https://bagneuxenvironnement.org/wp-content/uploads/2021/11/AtelierNatureVille_FourmisOnly.jpg
END:VEVENT
BEGIN:VEVENT
DTSTART;TZID=Europe/Paris:20220319T140000
DTEND;TZID=Europe/Paris:20220319T180000
DTSTAMP:20260420T054403
CREATED:20220405T182343Z
LAST-MODIFIED:20220405T182343Z
UID:10002996-1647698400-1647712800@bagneuxenvironnement.org
SUMMARY:ATELIER BE - les après-midis BEcréatif
DESCRIPTION:Location espace et équipements\, utilisation en autonomie ou avec les autres \n6 utilisateurs maximum (à partir de 7ans mais accompagné\, et à partir de 14 ans en autonomie) \ninscription obligatoire par mail : atelierbe@bagneuxenvironnement.org
URL:https://bagneuxenvironnement.org/evenement/atelier-be-les-apres-midis-becreatif-7/
LOCATION:Atelier BE\, 5 Allée du Poitou\, Bagneux\, Hauts-de-Seine\, 92220\, France
CATEGORIES:atelier BE
ATTACH;FMTTYPE=image/png:https://bagneuxenvironnement.org/wp-content/uploads/2022/02/HELLOASSO-Vignette-1.png
END:VEVENT
BEGIN:VEVENT
DTSTART;TZID=Europe/Paris:20220319T143000
DTEND;TZID=Europe/Paris:20220319T163000
DTSTAMP:20260420T054403
CREATED:20220302T143851Z
LAST-MODIFIED:20220302T160545Z
UID:10002975-1647700200-1647707400@bagneuxenvironnement.org
SUMMARY:ATELIER NATURE EN VILLE - les fourmis (CSC Fontaine Gueffier)
DESCRIPTION:Les fourmis sont des insectes sociaux\, tout comme l’homme. Au CSC Fontaine Gueffier\, découvrons ensemble le mode de vie et l’organisation des premiers animaux à avoir bâtis des villes ! \ninscription facile par téléphone : 01.47.40.26.00
URL:https://bagneuxenvironnement.org/evenement/atelier-nature-en-ville-les-fourmis-csc-fontaine-gueffier/
LOCATION:CSC Gueffier\, 1 Rue de la Fontaine\, Bagneux\, Hauts-de-Seine\, 92220\, France
CATEGORIES:atelier nature en ville
ATTACH;FMTTYPE=image/jpeg:https://bagneuxenvironnement.org/wp-content/uploads/2021/11/AtelierNatureVille_FourmisOnly.jpg
END:VEVENT
BEGIN:VEVENT
DTSTART;TZID=Europe/Paris:20220320T160000
DTEND;TZID=Europe/Paris:20220320T180000
DTSTAMP:20260420T054403
CREATED:20220302T162432Z
LAST-MODIFIED:20220302T162432Z
UID:10002976-1647792000-1647799200@bagneuxenvironnement.org
SUMMARY:ASSEMBLÉE GÉNÉRALE
DESCRIPTION:L’Assemblée Générale annuelle est l’occasion de remercier les nombreuses personnes dynamiques qui s’impliquent au quotidien dans l’association\, d’expliquer les missions de chaque pôle\, faire l’inventaire de toutes les actions menées\, de présenter le programme à venir et d’élire le nouveau bureau de l’association.
URL:https://bagneuxenvironnement.org/evenement/assemblee-generale/
LOCATION:Pavillon de Bagneux Environnement\, 4 Sent. des Brugnauts\, BAGNEUX\, 92220\, France
CATEGORIES:asso
ATTACH;FMTTYPE=image/jpeg:https://bagneuxenvironnement.org/wp-content/uploads/2022/03/BE_Team2020_LD.jpg
END:VEVENT
BEGIN:VEVENT
DTSTART;TZID=Europe/Paris:20220322T171500
DTEND;TZID=Europe/Paris:20220322T180000
DTSTAMP:20260420T054403
CREATED:20220302T162847Z
LAST-MODIFIED:20220302T162847Z
UID:10002978-1647969300-1647972000@bagneuxenvironnement.org
SUMMARY:INVENDUS ALIMENTAIRES
DESCRIPTION:Distribution gratuite des invendus alimentaires tous les mardis (sauf dernier du mois) à partir 17h15 (durée 45 min) au Pavillon BE 4 sentier des Brugnauts\, 92220 BAGNEUX
URL:https://bagneuxenvironnement.org/evenement/invendus-alimentaires-25/
LOCATION:Pavillon de Bagneux Environnement\, 4 Sent. des Brugnauts\, BAGNEUX\, 92220\, France
CATEGORIES:invendus alimentaires
ATTACH;FMTTYPE=image/jpeg:https://bagneuxenvironnement.org/wp-content/uploads/2021/09/invendus-alimentaire-3.jpg
END:VEVENT
BEGIN:VEVENT
DTSTART;TZID=Europe/Paris:20220323T140000
DTEND;TZID=Europe/Paris:20220323T180000
DTSTAMP:20260420T054403
CREATED:20220405T182419Z
LAST-MODIFIED:20220405T182419Z
UID:10002997-1648044000-1648058400@bagneuxenvironnement.org
SUMMARY:ATELIER BE - les après-midis BEcréatif
DESCRIPTION:Location espace et équipements\, utilisation en autonomie ou avec les autres \n6 utilisateurs maximum (à partir de 7ans mais accompagné\, et à partir de 14 ans en autonomie) \ninscription obligatoire par mail : atelierbe@bagneuxenvironnement.org
URL:https://bagneuxenvironnement.org/evenement/atelier-be-les-apres-midis-becreatif-8/
LOCATION:Atelier BE\, 5 Allée du Poitou\, Bagneux\, Hauts-de-Seine\, 92220\, France
CATEGORIES:atelier BE
ATTACH;FMTTYPE=image/png:https://bagneuxenvironnement.org/wp-content/uploads/2022/02/HELLOASSO-Vignette-1.png
END:VEVENT
BEGIN:VEVENT
DTSTART;TZID=Europe/Paris:20220326T140000
DTEND;TZID=Europe/Paris:20220326T180000
DTSTAMP:20260420T054403
CREATED:20220405T182451Z
LAST-MODIFIED:20220405T182451Z
UID:10002998-1648303200-1648317600@bagneuxenvironnement.org
SUMMARY:ATELIER BE - les après-midis BEcréatif
DESCRIPTION:Location espace et équipements\, utilisation en autonomie ou avec les autres \n6 utilisateurs maximum (à partir de 7ans mais accompagné\, et à partir de 14 ans en autonomie) \ninscription obligatoire par mail : atelierbe@bagneuxenvironnement.org
URL:https://bagneuxenvironnement.org/evenement/atelier-be-les-apres-midis-becreatif-9/
LOCATION:Atelier BE\, 5 Allée du Poitou\, Bagneux\, Hauts-de-Seine\, 92220\, France
CATEGORIES:atelier BE
ATTACH;FMTTYPE=image/png:https://bagneuxenvironnement.org/wp-content/uploads/2022/02/HELLOASSO-Vignette-1.png
END:VEVENT
BEGIN:VEVENT
DTSTART;TZID=Europe/Paris:20220330T140000
DTEND;TZID=Europe/Paris:20220330T180000
DTSTAMP:20260420T054403
CREATED:20220405T182519Z
LAST-MODIFIED:20220405T182519Z
UID:10002999-1648648800-1648663200@bagneuxenvironnement.org
SUMMARY:ATELIER BE - les après-midis BEcréatif
DESCRIPTION:Location espace et équipements\, utilisation en autonomie ou avec les autres \n6 utilisateurs maximum (à partir de 7ans mais accompagné\, et à partir de 14 ans en autonomie) \ninscription obligatoire par mail : atelierbe@bagneuxenvironnement.org
URL:https://bagneuxenvironnement.org/evenement/atelier-be-les-apres-midis-becreatif-10/
LOCATION:Atelier BE\, 5 Allée du Poitou\, Bagneux\, Hauts-de-Seine\, 92220\, France
CATEGORIES:atelier BE
ATTACH;FMTTYPE=image/png:https://bagneuxenvironnement.org/wp-content/uploads/2022/02/HELLOASSO-Vignette-1.png
END:VEVENT
BEGIN:VEVENT
DTSTART;TZID=Europe/Paris:20220331T171500
DTEND;TZID=Europe/Paris:20220331T180000
DTSTAMP:20260420T054403
CREATED:20220302T162934Z
LAST-MODIFIED:20220302T162934Z
UID:10002980-1648746900-1648749600@bagneuxenvironnement.org
SUMMARY:INVENDUS ALIMENTAIRES
DESCRIPTION:Distribution gratuite des invendus alimentaires tous les jeudis à partir 17h15 (durée 45 min) au Pavillon BE 4 sentier des Brugnauts\, 92220 BAGNEUX
URL:https://bagneuxenvironnement.org/evenement/invendus-alimentaires-26/
LOCATION:Pavillon de Bagneux Environnement\, 4 Sent. des Brugnauts\, BAGNEUX\, 92220\, France
CATEGORIES:invendus alimentaires
ATTACH;FMTTYPE=image/jpeg:https://bagneuxenvironnement.org/wp-content/uploads/2021/09/invendus-alimentaire-3.jpg
END:VEVENT
BEGIN:VEVENT
DTSTART;TZID=Europe/Paris:20220405T171500
DTEND;TZID=Europe/Paris:20220405T180000
DTSTAMP:20260420T054403
CREATED:20220405T183251Z
LAST-MODIFIED:20220405T183251Z
UID:10003007-1649178900-1649181600@bagneuxenvironnement.org
SUMMARY:INVENDUS ALIMENTAIRES
DESCRIPTION:Distribution gratuite des invendus alimentaires tous les jeudis à partir 17h15 (durée 45 min) au Pavillon BE 4 sentier des Brugnauts\, 92220 BAGNEUX
URL:https://bagneuxenvironnement.org/evenement/invendus-alimentaires-27/
LOCATION:Pavillon de Bagneux Environnement\, 4 Sent. des Brugnauts\, BAGNEUX\, 92220\, France
CATEGORIES:invendus alimentaires
ATTACH;FMTTYPE=image/jpeg:https://bagneuxenvironnement.org/wp-content/uploads/2021/09/invendus-alimentaire-3.jpg
END:VEVENT
BEGIN:VEVENT
DTSTART;TZID=Europe/Paris:20220406T140000
DTEND;TZID=Europe/Paris:20220406T180000
DTSTAMP:20260420T054403
CREATED:20220405T181532Z
LAST-MODIFIED:20220405T181532Z
UID:10002984-1649253600-1649268000@bagneuxenvironnement.org
SUMMARY:ATELIER BE - les après-midis BEcréatif
DESCRIPTION:Location espace et équipements\, utilisation en autonomie ou avec les autres \n6 utilisateurs maximum (à partir de 7ans mais accompagné\, et à partir de 14 ans en autonomie) \ninscription obligatoire par mail : atelierbe@bagneuxenvironnement.org
URL:https://bagneuxenvironnement.org/evenement/atelier-be-les-apres-midis-becreatif/
LOCATION:Atelier BE\, 5 Allée du Poitou\, Bagneux\, Hauts-de-Seine\, 92220\, France
CATEGORIES:atelier BE
ATTACH;FMTTYPE=image/png:https://bagneuxenvironnement.org/wp-content/uploads/2022/02/HELLOASSO-Vignette-1.png
END:VEVENT
BEGIN:VEVENT
DTSTART;TZID=Europe/Paris:20220407T171500
DTEND;TZID=Europe/Paris:20220407T180000
DTSTAMP:20260420T054403
CREATED:20220405T183332Z
LAST-MODIFIED:20220405T183332Z
UID:10003008-1649351700-1649354400@bagneuxenvironnement.org
SUMMARY:INVENDUS ALIMENTAIRES
DESCRIPTION:Distribution gratuite des invendus alimentaires tous les jeudis à partir 17h15 (durée 45 min) au Pavillon BE 4 sentier des Brugnauts\, 92220 BAGNEUX
URL:https://bagneuxenvironnement.org/evenement/invendus-alimentaires-28/
LOCATION:Pavillon de Bagneux Environnement\, 4 Sent. des Brugnauts\, BAGNEUX\, 92220\, France
CATEGORIES:invendus alimentaires
ATTACH;FMTTYPE=image/jpeg:https://bagneuxenvironnement.org/wp-content/uploads/2021/09/invendus-alimentaire-3.jpg
END:VEVENT
BEGIN:VEVENT
DTSTART;TZID=Europe/Paris:20220409T140000
DTEND;TZID=Europe/Paris:20220409T180000
DTSTAMP:20260420T054403
CREATED:20220405T182548Z
LAST-MODIFIED:20220405T182548Z
UID:10003000-1649512800-1649527200@bagneuxenvironnement.org
SUMMARY:ATELIER BE - les après-midis BEcréatif
DESCRIPTION:Location espace et équipements\, utilisation en autonomie ou avec les autres \n6 utilisateurs maximum (à partir de 7ans mais accompagné\, et à partir de 14 ans en autonomie) \ninscription obligatoire par mail : atelierbe@bagneuxenvironnement.org
URL:https://bagneuxenvironnement.org/evenement/atelier-be-les-apres-midis-becreatif-11/
LOCATION:Atelier BE\, 5 Allée du Poitou\, Bagneux\, Hauts-de-Seine\, 92220\, France
CATEGORIES:atelier BE
ATTACH;FMTTYPE=image/png:https://bagneuxenvironnement.org/wp-content/uploads/2022/02/HELLOASSO-Vignette-1.png
END:VEVENT
BEGIN:VEVENT
DTSTART;TZID=Europe/Paris:20220412T171500
DTEND;TZID=Europe/Paris:20220412T180000
DTSTAMP:20260420T054403
CREATED:20220405T183406Z
LAST-MODIFIED:20220405T183406Z
UID:10003009-1649783700-1649786400@bagneuxenvironnement.org
SUMMARY:INVENDUS ALIMENTAIRES
DESCRIPTION:Distribution gratuite des invendus alimentaires tous les jeudis à partir 17h15 (durée 45 min) au Pavillon BE 4 sentier des Brugnauts\, 92220 BAGNEUX
URL:https://bagneuxenvironnement.org/evenement/invendus-alimentaires-29/
LOCATION:Pavillon de Bagneux Environnement\, 4 Sent. des Brugnauts\, BAGNEUX\, 92220\, France
CATEGORIES:invendus alimentaires
ATTACH;FMTTYPE=image/jpeg:https://bagneuxenvironnement.org/wp-content/uploads/2021/09/invendus-alimentaire-3.jpg
END:VEVENT
BEGIN:VEVENT
DTSTART;TZID=Europe/Paris:20220413T140000
DTEND;TZID=Europe/Paris:20220413T180000
DTSTAMP:20260420T054403
CREATED:20220405T182622Z
LAST-MODIFIED:20220405T182622Z
UID:10003001-1649858400-1649872800@bagneuxenvironnement.org
SUMMARY:ATELIER BE - les après-midis BEcréatif
DESCRIPTION:Location espace et équipements\, utilisation en autonomie ou avec les autres \n6 utilisateurs maximum (à partir de 7ans mais accompagné\, et à partir de 14 ans en autonomie) \ninscription obligatoire par mail : atelierbe@bagneuxenvironnement.org
URL:https://bagneuxenvironnement.org/evenement/atelier-be-les-apres-midis-becreatif-12/
LOCATION:Atelier BE\, 5 Allée du Poitou\, Bagneux\, Hauts-de-Seine\, 92220\, France
CATEGORIES:atelier BE
ATTACH;FMTTYPE=image/png:https://bagneuxenvironnement.org/wp-content/uploads/2022/02/HELLOASSO-Vignette-1.png
END:VEVENT
BEGIN:VEVENT
DTSTART;TZID=Europe/Paris:20220414T171500
DTEND;TZID=Europe/Paris:20220414T180000
DTSTAMP:20260420T054403
CREATED:20220405T183438Z
LAST-MODIFIED:20220405T183438Z
UID:10002870-1649956500-1649959200@bagneuxenvironnement.org
SUMMARY:INVENDUS ALIMENTAIRES
DESCRIPTION:Distribution gratuite des invendus alimentaires tous les jeudis à partir 17h15 (durée 45 min) au Pavillon BE 4 sentier des Brugnauts\, 92220 BAGNEUX
URL:https://bagneuxenvironnement.org/evenement/invendus-alimentaires-30/
LOCATION:Pavillon de Bagneux Environnement\, 4 Sent. des Brugnauts\, BAGNEUX\, 92220\, France
CATEGORIES:invendus alimentaires
ATTACH;FMTTYPE=image/jpeg:https://bagneuxenvironnement.org/wp-content/uploads/2021/09/invendus-alimentaire-3.jpg
END:VEVENT
BEGIN:VEVENT
DTSTART;TZID=Europe/Paris:20220416T140000
DTEND;TZID=Europe/Paris:20220416T180000
DTSTAMP:20260420T054403
CREATED:20220405T182652Z
LAST-MODIFIED:20220405T182652Z
UID:10003002-1650117600-1650132000@bagneuxenvironnement.org
SUMMARY:ATELIER BE - les après-midis BEcréatif
DESCRIPTION:Location espace et équipements\, utilisation en autonomie ou avec les autres \n6 utilisateurs maximum (à partir de 7ans mais accompagné\, et à partir de 14 ans en autonomie) \ninscription obligatoire par mail : atelierbe@bagneuxenvironnement.org
URL:https://bagneuxenvironnement.org/evenement/atelier-be-les-apres-midis-becreatif-13/
LOCATION:Atelier BE\, 5 Allée du Poitou\, Bagneux\, Hauts-de-Seine\, 92220\, France
CATEGORIES:atelier BE
ATTACH;FMTTYPE=image/png:https://bagneuxenvironnement.org/wp-content/uploads/2022/02/HELLOASSO-Vignette-1.png
END:VEVENT
BEGIN:VEVENT
DTSTART;TZID=Europe/Paris:20220419T171500
DTEND;TZID=Europe/Paris:20220419T180000
DTSTAMP:20260420T054403
CREATED:20220405T183515Z
LAST-MODIFIED:20220405T183515Z
UID:10002872-1650388500-1650391200@bagneuxenvironnement.org
SUMMARY:INVENDUS ALIMENTAIRES
DESCRIPTION:Distribution gratuite des invendus alimentaires tous les jeudis à partir 17h15 (durée 45 min) au Pavillon BE 4 sentier des Brugnauts\, 92220 BAGNEUX
URL:https://bagneuxenvironnement.org/evenement/invendus-alimentaires-31/
LOCATION:Pavillon de Bagneux Environnement\, 4 Sent. des Brugnauts\, BAGNEUX\, 92220\, France
CATEGORIES:invendus alimentaires
ATTACH;FMTTYPE=image/jpeg:https://bagneuxenvironnement.org/wp-content/uploads/2021/09/invendus-alimentaire-3.jpg
END:VEVENT
BEGIN:VEVENT
DTSTART;TZID=Europe/Paris:20220420T140000
DTEND;TZID=Europe/Paris:20220420T180000
DTSTAMP:20260420T054403
CREATED:20220405T182720Z
LAST-MODIFIED:20220405T182720Z
UID:10003003-1650463200-1650477600@bagneuxenvironnement.org
SUMMARY:ATELIER BE - les après-midis BEcréatif
DESCRIPTION:Location espace et équipements\, utilisation en autonomie ou avec les autres \n6 utilisateurs maximum (à partir de 7ans mais accompagné\, et à partir de 14 ans en autonomie) \ninscription obligatoire par mail : atelierbe@bagneuxenvironnement.org
URL:https://bagneuxenvironnement.org/evenement/atelier-be-les-apres-midis-becreatif-14/
LOCATION:Atelier BE\, 5 Allée du Poitou\, Bagneux\, Hauts-de-Seine\, 92220\, France
CATEGORIES:atelier BE
ATTACH;FMTTYPE=image/png:https://bagneuxenvironnement.org/wp-content/uploads/2022/02/HELLOASSO-Vignette-1.png
END:VEVENT
BEGIN:VEVENT
DTSTART;TZID=Europe/Paris:20220421T171500
DTEND;TZID=Europe/Paris:20220421T180000
DTSTAMP:20260420T054403
CREATED:20220405T183556Z
LAST-MODIFIED:20220405T183556Z
UID:10002874-1650561300-1650564000@bagneuxenvironnement.org
SUMMARY:INVENDUS ALIMENTAIRES
DESCRIPTION:Distribution gratuite des invendus alimentaires tous les jeudis à partir 17h15 (durée 45 min) au Pavillon BE 4 sentier des Brugnauts\, 92220 BAGNEUX
URL:https://bagneuxenvironnement.org/evenement/invendus-alimentaires-32/
LOCATION:Pavillon de Bagneux Environnement\, 4 Sent. des Brugnauts\, BAGNEUX\, 92220\, France
CATEGORIES:invendus alimentaires
ATTACH;FMTTYPE=image/jpeg:https://bagneuxenvironnement.org/wp-content/uploads/2021/09/invendus-alimentaire-3.jpg
END:VEVENT
BEGIN:VEVENT
DTSTART;TZID=Europe/Paris:20220423T140000
DTEND;TZID=Europe/Paris:20220423T180000
DTSTAMP:20260420T054403
CREATED:20220405T182822Z
LAST-MODIFIED:20220405T182822Z
UID:10003004-1650722400-1650736800@bagneuxenvironnement.org
SUMMARY:ATELIER BE - les après-midis BEcréatif
DESCRIPTION:Location espace et équipements\, utilisation en autonomie ou avec les autres \n6 utilisateurs maximum (à partir de 7ans mais accompagné\, et à partir de 14 ans en autonomie) \ninscription obligatoire par mail : atelierbe@bagneuxenvironnement.org
URL:https://bagneuxenvironnement.org/evenement/atelier-be-les-apres-midis-becreatif-15/
LOCATION:Atelier BE\, 5 Allée du Poitou\, Bagneux\, Hauts-de-Seine\, 92220\, France
CATEGORIES:atelier BE
ATTACH;FMTTYPE=image/png:https://bagneuxenvironnement.org/wp-content/uploads/2022/02/HELLOASSO-Vignette-1.png
END:VEVENT
BEGIN:VEVENT
DTSTART;TZID=Europe/Paris:20220427T140000
DTEND;TZID=Europe/Paris:20220427T180000
DTSTAMP:20260420T054403
CREATED:20220405T182906Z
LAST-MODIFIED:20220405T182906Z
UID:10003005-1651068000-1651082400@bagneuxenvironnement.org
SUMMARY:ATELIER BE - les après-midis BEcréatif
DESCRIPTION:Location espace et équipements\, utilisation en autonomie ou avec les autres \n6 utilisateurs maximum (à partir de 7ans mais accompagné\, et à partir de 14 ans en autonomie) \ninscription obligatoire par mail : atelierbe@bagneuxenvironnement.org
URL:https://bagneuxenvironnement.org/evenement/atelier-be-les-apres-midis-becreatif-16/
LOCATION:Atelier BE\, 5 Allée du Poitou\, Bagneux\, Hauts-de-Seine\, 92220\, France
CATEGORIES:atelier BE
ATTACH;FMTTYPE=image/png:https://bagneuxenvironnement.org/wp-content/uploads/2022/02/HELLOASSO-Vignette-1.png
END:VEVENT
BEGIN:VEVENT
DTSTART;TZID=Europe/Paris:20220428T171500
DTEND;TZID=Europe/Paris:20220428T180000
DTSTAMP:20260420T054403
CREATED:20220405T183630Z
LAST-MODIFIED:20220405T183630Z
UID:10002876-1651166100-1651168800@bagneuxenvironnement.org
SUMMARY:INVENDUS ALIMENTAIRES
DESCRIPTION:Distribution gratuite des invendus alimentaires tous les jeudis à partir 17h15 (durée 45 min) au Pavillon BE 4 sentier des Brugnauts\, 92220 BAGNEUX
URL:https://bagneuxenvironnement.org/evenement/invendus-alimentaires-33/
LOCATION:Pavillon de Bagneux Environnement\, 4 Sent. des Brugnauts\, BAGNEUX\, 92220\, France
CATEGORIES:invendus alimentaires
ATTACH;FMTTYPE=image/jpeg:https://bagneuxenvironnement.org/wp-content/uploads/2021/09/invendus-alimentaire-3.jpg
END:VEVENT
BEGIN:VEVENT
DTSTART;TZID=Europe/Paris:20220430T140000
DTEND;TZID=Europe/Paris:20220430T180000
DTSTAMP:20260420T054403
CREATED:20220405T182937Z
LAST-MODIFIED:20220405T182937Z
UID:10003006-1651327200-1651341600@bagneuxenvironnement.org
SUMMARY:ATELIER BE - les après-midis BEcréatif
DESCRIPTION:Location espace et équipements\, utilisation en autonomie ou avec les autres \n6 utilisateurs maximum (à partir de 7ans mais accompagné\, et à partir de 14 ans en autonomie) \ninscription obligatoire par mail : atelierbe@bagneuxenvironnement.org
URL:https://bagneuxenvironnement.org/evenement/atelier-be-les-apres-midis-becreatif-17/
LOCATION:Atelier BE\, 5 Allée du Poitou\, Bagneux\, Hauts-de-Seine\, 92220\, France
CATEGORIES:atelier BE
ATTACH;FMTTYPE=image/png:https://bagneuxenvironnement.org/wp-content/uploads/2022/02/HELLOASSO-Vignette-1.png
END:VEVENT
BEGIN:VEVENT
DTSTART;TZID=Europe/Paris:20220602T171500
DTEND;TZID=Europe/Paris:20220602T180000
DTSTAMP:20260420T054403
CREATED:20220602T155621Z
LAST-MODIFIED:20220602T155621Z
UID:10002881-1654190100-1654192800@bagneuxenvironnement.org
SUMMARY:INVENDUS ALIMENTAIRES
DESCRIPTION:Distribution gratuite des invendus alimentaires tous les jeudis à partir 17h15 (durée 45 min) au Pavillon BE 4 sentier des Brugnauts\, 92220 BAGNEUX
URL:https://bagneuxenvironnement.org/evenement/invendus-alimentaires-34/
LOCATION:Pavillon de Bagneux Environnement\, 4 Sent. des Brugnauts\, BAGNEUX\, 92220\, France
CATEGORIES:invendus alimentaires
ATTACH;FMTTYPE=image/jpeg:https://bagneuxenvironnement.org/wp-content/uploads/2021/09/invendus-alimentaire-3.jpg
END:VEVENT
BEGIN:VEVENT
DTSTART;TZID=Europe/Paris:20220604T140000
DTEND;TZID=Europe/Paris:20220604T190000
DTSTAMP:20260420T054403
CREATED:20220603T101631Z
LAST-MODIFIED:20220603T101847Z
UID:10003019-1654351200-1654369200@bagneuxenvironnement.org
SUMMARY:ATELIER BE - les après-midis BEcréatif
DESCRIPTION:Location espace et équipements\, utilisation en autonomie ou avec les autres \n6 utilisateurs maximum (à partir de 7ans mais accompagné\, et à partir de 14 ans en autonomie) \ninscription obligatoire par mail : atelierbe@bagneuxenvironnement.org
URL:https://bagneuxenvironnement.org/evenement/atelier-be-les-apres-midis-becreatif-18/
LOCATION:Atelier BE\, 5 Allée du Poitou\, Bagneux\, Hauts-de-Seine\, 92220\, France
CATEGORIES:atelier BE
ATTACH;FMTTYPE=image/png:https://bagneuxenvironnement.org/wp-content/uploads/2022/02/HELLOASSO-Vignette-1.png
END:VEVENT
BEGIN:VEVENT
DTSTART;TZID=Europe/Paris:20220607T171500
DTEND;TZID=Europe/Paris:20220607T180000
DTSTAMP:20260420T054403
CREATED:20220602T155951Z
LAST-MODIFIED:20220602T155951Z
UID:10003011-1654622100-1654624800@bagneuxenvironnement.org
SUMMARY:INVENDUS ALIMENTAIRES
DESCRIPTION:Distribution gratuite des invendus alimentaires tous les jeudis à partir 17h15 (durée 45 min) au Pavillon BE 4 sentier des Brugnauts\, 92220 BAGNEUX
URL:https://bagneuxenvironnement.org/evenement/invendus-alimentaires-35/
LOCATION:Pavillon de Bagneux Environnement\, 4 Sent. des Brugnauts\, BAGNEUX\, 92220\, France
CATEGORIES:invendus alimentaires
ATTACH;FMTTYPE=image/jpeg:https://bagneuxenvironnement.org/wp-content/uploads/2021/09/invendus-alimentaire-3.jpg
END:VEVENT
END:VCALENDAR