BEGIN:VCALENDAR
VERSION:2.0
PRODID:-//Bagneux Environnement - ECPv6.2.4//NONSGML v1.0//EN
CALSCALE:GREGORIAN
METHOD:PUBLISH
X-WR-CALNAME:Bagneux Environnement
X-ORIGINAL-URL:https://bagneuxenvironnement.org
X-WR-CALDESC:évènements pour Bagneux Environnement
REFRESH-INTERVAL;VALUE=DURATION:PT1H
X-Robots-Tag:noindex
X-PUBLISHED-TTL:PT1H
BEGIN:VTIMEZONE
TZID:Europe/Paris
BEGIN:DAYLIGHT
TZOFFSETFROM:+0100
TZOFFSETTO:+0200
TZNAME:CEST
DTSTART:20220327T010000
END:DAYLIGHT
BEGIN:STANDARD
TZOFFSETFROM:+0200
TZOFFSETTO:+0100
TZNAME:CET
DTSTART:20221030T010000
END:STANDARD
END:VTIMEZONE
BEGIN:VEVENT
DTSTART;TZID=Europe/Paris:20220427T140000
DTEND;TZID=Europe/Paris:20220427T180000
DTSTAMP:20260421T044656
CREATED:20220405T182906Z
LAST-MODIFIED:20220405T182906Z
UID:10003005-1651068000-1651082400@bagneuxenvironnement.org
SUMMARY:ATELIER BE - les après-midis BEcréatif
DESCRIPTION:Location espace et équipements\, utilisation en autonomie ou avec les autres \n6 utilisateurs maximum (à partir de 7ans mais accompagné\, et à partir de 14 ans en autonomie) \ninscription obligatoire par mail : atelierbe@bagneuxenvironnement.org
URL:https://bagneuxenvironnement.org/evenement/atelier-be-les-apres-midis-becreatif-16/
LOCATION:Atelier BE\, 5 Allée du Poitou\, Bagneux\, Hauts-de-Seine\, 92220\, France
CATEGORIES:atelier BE
ATTACH;FMTTYPE=image/png:https://bagneuxenvironnement.org/wp-content/uploads/2022/02/HELLOASSO-Vignette-1.png
END:VEVENT
BEGIN:VEVENT
DTSTART;TZID=Europe/Paris:20220428T171500
DTEND;TZID=Europe/Paris:20220428T180000
DTSTAMP:20260421T044656
CREATED:20220405T183630Z
LAST-MODIFIED:20220405T183630Z
UID:10002876-1651166100-1651168800@bagneuxenvironnement.org
SUMMARY:INVENDUS ALIMENTAIRES
DESCRIPTION:Distribution gratuite des invendus alimentaires tous les jeudis à partir 17h15 (durée 45 min) au Pavillon BE 4 sentier des Brugnauts\, 92220 BAGNEUX
URL:https://bagneuxenvironnement.org/evenement/invendus-alimentaires-33/
LOCATION:Pavillon de Bagneux Environnement\, 4 Sent. des Brugnauts\, BAGNEUX\, 92220\, France
CATEGORIES:invendus alimentaires
ATTACH;FMTTYPE=image/jpeg:https://bagneuxenvironnement.org/wp-content/uploads/2021/09/invendus-alimentaire-3.jpg
END:VEVENT
BEGIN:VEVENT
DTSTART;TZID=Europe/Paris:20220430T140000
DTEND;TZID=Europe/Paris:20220430T180000
DTSTAMP:20260421T044656
CREATED:20220405T182937Z
LAST-MODIFIED:20220405T182937Z
UID:10003006-1651327200-1651341600@bagneuxenvironnement.org
SUMMARY:ATELIER BE - les après-midis BEcréatif
DESCRIPTION:Location espace et équipements\, utilisation en autonomie ou avec les autres \n6 utilisateurs maximum (à partir de 7ans mais accompagné\, et à partir de 14 ans en autonomie) \ninscription obligatoire par mail : atelierbe@bagneuxenvironnement.org
URL:https://bagneuxenvironnement.org/evenement/atelier-be-les-apres-midis-becreatif-17/
LOCATION:Atelier BE\, 5 Allée du Poitou\, Bagneux\, Hauts-de-Seine\, 92220\, France
CATEGORIES:atelier BE
ATTACH;FMTTYPE=image/png:https://bagneuxenvironnement.org/wp-content/uploads/2022/02/HELLOASSO-Vignette-1.png
END:VEVENT
BEGIN:VEVENT
DTSTART;TZID=Europe/Paris:20220602T171500
DTEND;TZID=Europe/Paris:20220602T180000
DTSTAMP:20260421T044656
CREATED:20220602T155621Z
LAST-MODIFIED:20220602T155621Z
UID:10002881-1654190100-1654192800@bagneuxenvironnement.org
SUMMARY:INVENDUS ALIMENTAIRES
DESCRIPTION:Distribution gratuite des invendus alimentaires tous les jeudis à partir 17h15 (durée 45 min) au Pavillon BE 4 sentier des Brugnauts\, 92220 BAGNEUX
URL:https://bagneuxenvironnement.org/evenement/invendus-alimentaires-34/
LOCATION:Pavillon de Bagneux Environnement\, 4 Sent. des Brugnauts\, BAGNEUX\, 92220\, France
CATEGORIES:invendus alimentaires
ATTACH;FMTTYPE=image/jpeg:https://bagneuxenvironnement.org/wp-content/uploads/2021/09/invendus-alimentaire-3.jpg
END:VEVENT
BEGIN:VEVENT
DTSTART;TZID=Europe/Paris:20220604T140000
DTEND;TZID=Europe/Paris:20220604T190000
DTSTAMP:20260421T044656
CREATED:20220603T101631Z
LAST-MODIFIED:20220603T101847Z
UID:10003019-1654351200-1654369200@bagneuxenvironnement.org
SUMMARY:ATELIER BE - les après-midis BEcréatif
DESCRIPTION:Location espace et équipements\, utilisation en autonomie ou avec les autres \n6 utilisateurs maximum (à partir de 7ans mais accompagné\, et à partir de 14 ans en autonomie) \ninscription obligatoire par mail : atelierbe@bagneuxenvironnement.org
URL:https://bagneuxenvironnement.org/evenement/atelier-be-les-apres-midis-becreatif-18/
LOCATION:Atelier BE\, 5 Allée du Poitou\, Bagneux\, Hauts-de-Seine\, 92220\, France
CATEGORIES:atelier BE
ATTACH;FMTTYPE=image/png:https://bagneuxenvironnement.org/wp-content/uploads/2022/02/HELLOASSO-Vignette-1.png
END:VEVENT
BEGIN:VEVENT
DTSTART;TZID=Europe/Paris:20220607T171500
DTEND;TZID=Europe/Paris:20220607T180000
DTSTAMP:20260421T044656
CREATED:20220602T155951Z
LAST-MODIFIED:20220602T155951Z
UID:10003011-1654622100-1654624800@bagneuxenvironnement.org
SUMMARY:INVENDUS ALIMENTAIRES
DESCRIPTION:Distribution gratuite des invendus alimentaires tous les jeudis à partir 17h15 (durée 45 min) au Pavillon BE 4 sentier des Brugnauts\, 92220 BAGNEUX
URL:https://bagneuxenvironnement.org/evenement/invendus-alimentaires-35/
LOCATION:Pavillon de Bagneux Environnement\, 4 Sent. des Brugnauts\, BAGNEUX\, 92220\, France
CATEGORIES:invendus alimentaires
ATTACH;FMTTYPE=image/jpeg:https://bagneuxenvironnement.org/wp-content/uploads/2021/09/invendus-alimentaire-3.jpg
END:VEVENT
BEGIN:VEVENT
DTSTART;TZID=Europe/Paris:20220608T140000
DTEND;TZID=Europe/Paris:20220608T190000
DTSTAMP:20260421T044656
CREATED:20220603T101701Z
LAST-MODIFIED:20220603T101806Z
UID:10003035-1654696800-1654714800@bagneuxenvironnement.org
SUMMARY:ATELIER BE - les après-midis BEcréatif
DESCRIPTION:Location espace et équipements\, utilisation en autonomie ou avec les autres \n6 utilisateurs maximum (à partir de 7ans mais accompagné\, et à partir de 14 ans en autonomie) \ninscription obligatoire par mail : atelierbe@bagneuxenvironnement.org
URL:https://bagneuxenvironnement.org/evenement/atelier-be-les-apres-midis-becreatif-19/
LOCATION:Atelier BE\, 5 Allée du Poitou\, Bagneux\, Hauts-de-Seine\, 92220\, France
CATEGORIES:atelier BE
ATTACH;FMTTYPE=image/png:https://bagneuxenvironnement.org/wp-content/uploads/2022/02/HELLOASSO-Vignette-1.png
END:VEVENT
BEGIN:VEVENT
DTSTART;TZID=Europe/Paris:20220611T140000
DTEND;TZID=Europe/Paris:20220611T190000
DTSTAMP:20260421T044656
CREATED:20220603T101922Z
LAST-MODIFIED:20220603T101922Z
UID:10003034-1654956000-1654974000@bagneuxenvironnement.org
SUMMARY:ATELIER BE - les après-midis BEcréatif
DESCRIPTION:Location espace et équipements\, utilisation en autonomie ou avec les autres \n6 utilisateurs maximum (à partir de 7ans mais accompagné\, et à partir de 14 ans en autonomie) \ninscription obligatoire par mail : atelierbe@bagneuxenvironnement.org
URL:https://bagneuxenvironnement.org/evenement/atelier-be-les-apres-midis-becreatif-20/
LOCATION:Atelier BE\, 5 Allée du Poitou\, Bagneux\, Hauts-de-Seine\, 92220\, France
CATEGORIES:atelier BE
ATTACH;FMTTYPE=image/png:https://bagneuxenvironnement.org/wp-content/uploads/2022/02/HELLOASSO-Vignette-1.png
END:VEVENT
BEGIN:VEVENT
DTSTART;TZID=Europe/Paris:20220614T171500
DTEND;TZID=Europe/Paris:20220614T180000
DTSTAMP:20260421T044656
CREATED:20220602T160224Z
LAST-MODIFIED:20220602T160224Z
UID:10003012-1655226900-1655229600@bagneuxenvironnement.org
SUMMARY:INVENDUS ALIMENTAIRES
DESCRIPTION:Distribution gratuite des invendus alimentaires tous les jeudis à partir 17h15 (durée 45 min) au Pavillon BE 4 sentier des Brugnauts\, 92220 BAGNEUX
URL:https://bagneuxenvironnement.org/evenement/invendus-alimentaires-37/
LOCATION:Pavillon de Bagneux Environnement\, 4 Sent. des Brugnauts\, BAGNEUX\, 92220\, France
CATEGORIES:invendus alimentaires
ATTACH;FMTTYPE=image/jpeg:https://bagneuxenvironnement.org/wp-content/uploads/2021/09/invendus-alimentaire-3.jpg
END:VEVENT
BEGIN:VEVENT
DTSTART;TZID=Europe/Paris:20220615T140000
DTEND;TZID=Europe/Paris:20220615T190000
DTSTAMP:20260421T044656
CREATED:20220603T102020Z
LAST-MODIFIED:20220603T102020Z
UID:10003033-1655301600-1655319600@bagneuxenvironnement.org
SUMMARY:ATELIER BE - les après-midis BEcréatif
DESCRIPTION:Location espace et équipements\, utilisation en autonomie ou avec les autres \n6 utilisateurs maximum (à partir de 7ans mais accompagné\, et à partir de 14 ans en autonomie) \ninscription obligatoire par mail : atelierbe@bagneuxenvironnement.org
URL:https://bagneuxenvironnement.org/evenement/atelier-be-les-apres-midis-becreatif-21/
LOCATION:Atelier BE\, 5 Allée du Poitou\, Bagneux\, Hauts-de-Seine\, 92220\, France
CATEGORIES:atelier BE
ATTACH;FMTTYPE=image/png:https://bagneuxenvironnement.org/wp-content/uploads/2022/02/HELLOASSO-Vignette-1.png
END:VEVENT
BEGIN:VEVENT
DTSTART;TZID=Europe/Paris:20220616T171500
DTEND;TZID=Europe/Paris:20220616T180000
DTSTAMP:20260421T044656
CREATED:20220602T160253Z
LAST-MODIFIED:20220602T160253Z
UID:10002887-1655399700-1655402400@bagneuxenvironnement.org
SUMMARY:INVENDUS ALIMENTAIRES
DESCRIPTION:Distribution gratuite des invendus alimentaires tous les jeudis à partir 17h15 (durée 45 min) au Pavillon BE 4 sentier des Brugnauts\, 92220 BAGNEUX
URL:https://bagneuxenvironnement.org/evenement/invendus-alimentaires-38/
LOCATION:Pavillon de Bagneux Environnement\, 4 Sent. des Brugnauts\, BAGNEUX\, 92220\, France
CATEGORIES:invendus alimentaires
ATTACH;FMTTYPE=image/jpeg:https://bagneuxenvironnement.org/wp-content/uploads/2021/09/invendus-alimentaire-3.jpg
END:VEVENT
BEGIN:VEVENT
DTSTART;TZID=Europe/Paris:20220618T140000
DTEND;TZID=Europe/Paris:20220618T190000
DTSTAMP:20260421T044656
CREATED:20220603T102148Z
LAST-MODIFIED:20220603T102148Z
UID:10003031-1655560800-1655578800@bagneuxenvironnement.org
SUMMARY:ATELIER BE - les après-midis BEcréatif
DESCRIPTION:Location espace et équipements\, utilisation en autonomie ou avec les autres \n6 utilisateurs maximum (à partir de 7ans mais accompagné\, et à partir de 14 ans en autonomie) \ninscription obligatoire par mail : atelierbe@bagneuxenvironnement.org
URL:https://bagneuxenvironnement.org/evenement/atelier-be-les-apres-midis-becreatif-22/
LOCATION:Atelier BE\, 5 Allée du Poitou\, Bagneux\, Hauts-de-Seine\, 92220\, France
CATEGORIES:atelier BE
ATTACH;FMTTYPE=image/png:https://bagneuxenvironnement.org/wp-content/uploads/2022/02/HELLOASSO-Vignette-1.png
END:VEVENT
BEGIN:VEVENT
DTSTART;TZID=Europe/Paris:20220621T171500
DTEND;TZID=Europe/Paris:20220621T180000
DTSTAMP:20260421T044656
CREATED:20220602T160319Z
LAST-MODIFIED:20220602T160319Z
UID:10002885-1655831700-1655834400@bagneuxenvironnement.org
SUMMARY:INVENDUS ALIMENTAIRES
DESCRIPTION:Distribution gratuite des invendus alimentaires tous les jeudis à partir 17h15 (durée 45 min) au Pavillon BE 4 sentier des Brugnauts\, 92220 BAGNEUX
URL:https://bagneuxenvironnement.org/evenement/invendus-alimentaires-39/
LOCATION:Pavillon de Bagneux Environnement\, 4 Sent. des Brugnauts\, BAGNEUX\, 92220\, France
CATEGORIES:invendus alimentaires
ATTACH;FMTTYPE=image/jpeg:https://bagneuxenvironnement.org/wp-content/uploads/2021/09/invendus-alimentaire-3.jpg
END:VEVENT
BEGIN:VEVENT
DTSTART;TZID=Europe/Paris:20220622T140000
DTEND;TZID=Europe/Paris:20220622T190000
DTSTAMP:20260421T044656
CREATED:20220603T102223Z
LAST-MODIFIED:20220603T102223Z
UID:10003029-1655906400-1655924400@bagneuxenvironnement.org
SUMMARY:ATELIER BE - les après-midis BEcréatif
DESCRIPTION:Location espace et équipements\, utilisation en autonomie ou avec les autres \n6 utilisateurs maximum (à partir de 7ans mais accompagné\, et à partir de 14 ans en autonomie) \ninscription obligatoire par mail : atelierbe@bagneuxenvironnement.org
URL:https://bagneuxenvironnement.org/evenement/atelier-be-les-apres-midis-becreatif-23/
LOCATION:Atelier BE\, 5 Allée du Poitou\, Bagneux\, Hauts-de-Seine\, 92220\, France
CATEGORIES:atelier BE
ATTACH;FMTTYPE=image/png:https://bagneuxenvironnement.org/wp-content/uploads/2022/02/HELLOASSO-Vignette-1.png
END:VEVENT
BEGIN:VEVENT
DTSTART;TZID=Europe/Paris:20220623T171500
DTEND;TZID=Europe/Paris:20220623T180000
DTSTAMP:20260421T044656
CREATED:20220602T160506Z
LAST-MODIFIED:20220602T160506Z
UID:10002883-1656004500-1656007200@bagneuxenvironnement.org
SUMMARY:INVENDUS ALIMENTAIRES
DESCRIPTION:Distribution gratuite des invendus alimentaires tous les jeudis à partir 17h15 (durée 45 min) au Pavillon BE 4 sentier des Brugnauts\, 92220 BAGNEUX
URL:https://bagneuxenvironnement.org/evenement/invendus-alimentaires-40/
LOCATION:Pavillon de Bagneux Environnement\, 4 Sent. des Brugnauts\, BAGNEUX\, 92220\, France
CATEGORIES:invendus alimentaires
ATTACH;FMTTYPE=image/jpeg:https://bagneuxenvironnement.org/wp-content/uploads/2021/09/invendus-alimentaire-3.jpg
END:VEVENT
BEGIN:VEVENT
DTSTART;TZID=Europe/Paris:20220625T140000
DTEND;TZID=Europe/Paris:20220625T190000
DTSTAMP:20260421T044656
CREATED:20220603T102309Z
LAST-MODIFIED:20220603T102309Z
UID:10003027-1656165600-1656183600@bagneuxenvironnement.org
SUMMARY:ATELIER BE - les après-midis BEcréatif
DESCRIPTION:Location espace et équipements\, utilisation en autonomie ou avec les autres \n6 utilisateurs maximum (à partir de 7ans mais accompagné\, et à partir de 14 ans en autonomie) \ninscription obligatoire par mail : atelierbe@bagneuxenvironnement.org
URL:https://bagneuxenvironnement.org/evenement/atelier-be-les-apres-midis-becreatif-24/
LOCATION:Atelier BE\, 5 Allée du Poitou\, Bagneux\, Hauts-de-Seine\, 92220\, France
CATEGORIES:atelier BE
ATTACH;FMTTYPE=image/png:https://bagneuxenvironnement.org/wp-content/uploads/2022/02/HELLOASSO-Vignette-1.png
END:VEVENT
BEGIN:VEVENT
DTSTART;TZID=Europe/Paris:20220629T140000
DTEND;TZID=Europe/Paris:20220629T190000
DTSTAMP:20260421T044656
CREATED:20220603T102347Z
LAST-MODIFIED:20220603T102347Z
UID:10003025-1656511200-1656529200@bagneuxenvironnement.org
SUMMARY:ATELIER BE - les après-midis BEcréatif
DESCRIPTION:Location espace et équipements\, utilisation en autonomie ou avec les autres \n6 utilisateurs maximum (à partir de 7ans mais accompagné\, et à partir de 14 ans en autonomie) \ninscription obligatoire par mail : atelierbe@bagneuxenvironnement.org
URL:https://bagneuxenvironnement.org/evenement/atelier-be-les-apres-midis-becreatif-25/
LOCATION:Atelier BE\, 5 Allée du Poitou\, Bagneux\, Hauts-de-Seine\, 92220\, France
CATEGORIES:atelier BE
ATTACH;FMTTYPE=image/png:https://bagneuxenvironnement.org/wp-content/uploads/2022/02/HELLOASSO-Vignette-1.png
END:VEVENT
BEGIN:VEVENT
DTSTART;TZID=Europe/Paris:20220630T171500
DTEND;TZID=Europe/Paris:20220630T180000
DTSTAMP:20260421T044656
CREATED:20220603T103723Z
LAST-MODIFIED:20220603T103723Z
UID:10003044-1656609300-1656612000@bagneuxenvironnement.org
SUMMARY:INVENDUS ALIMENTAIRES
DESCRIPTION:Distribution gratuite des invendus alimentaires tous les jeudis à partir 17h15 (durée 45 min) au Pavillon BE 4 sentier des Brugnauts\, 92220 BAGNEUX
URL:https://bagneuxenvironnement.org/evenement/invendus-alimentaires-42/
LOCATION:Pavillon de Bagneux Environnement\, 4 Sent. des Brugnauts\, BAGNEUX\, 92220\, France
CATEGORIES:invendus alimentaires
ATTACH;FMTTYPE=image/jpeg:https://bagneuxenvironnement.org/wp-content/uploads/2021/09/invendus-alimentaire-3.jpg
END:VEVENT
BEGIN:VEVENT
DTSTART;TZID=Europe/Paris:20220705T171500
DTEND;TZID=Europe/Paris:20220705T180000
DTSTAMP:20260421T044656
CREATED:20220603T103759Z
LAST-MODIFIED:20220603T103759Z
UID:10003043-1657041300-1657044000@bagneuxenvironnement.org
SUMMARY:INVENDUS ALIMENTAIRES
DESCRIPTION:Distribution gratuite des invendus alimentaires tous les jeudis à partir 17h15 (durée 45 min) au Pavillon BE 4 sentier des Brugnauts\, 92220 BAGNEUX
URL:https://bagneuxenvironnement.org/evenement/invendus-alimentaires-43/
LOCATION:Pavillon de Bagneux Environnement\, 4 Sent. des Brugnauts\, BAGNEUX\, 92220\, France
CATEGORIES:invendus alimentaires
ATTACH;FMTTYPE=image/jpeg:https://bagneuxenvironnement.org/wp-content/uploads/2021/09/invendus-alimentaire-3.jpg
END:VEVENT
BEGIN:VEVENT
DTSTART;TZID=Europe/Paris:20220706T140000
DTEND;TZID=Europe/Paris:20220706T190000
DTSTAMP:20260421T044656
CREATED:20220603T102634Z
LAST-MODIFIED:20220603T102634Z
UID:10003023-1657116000-1657134000@bagneuxenvironnement.org
SUMMARY:ATELIER BE - les après-midis BEcréatif
DESCRIPTION:Location espace et équipements\, utilisation en autonomie ou avec les autres \n6 utilisateurs maximum (à partir de 7ans mais accompagné\, et à partir de 14 ans en autonomie) \ninscription obligatoire par mail : atelierbe@bagneuxenvironnement.org
URL:https://bagneuxenvironnement.org/evenement/atelier-be-les-apres-midis-becreatif-26/
LOCATION:Atelier BE\, 5 Allée du Poitou\, Bagneux\, Hauts-de-Seine\, 92220\, France
CATEGORIES:atelier BE
ATTACH;FMTTYPE=image/png:https://bagneuxenvironnement.org/wp-content/uploads/2022/02/HELLOASSO-Vignette-1.png
END:VEVENT
BEGIN:VEVENT
DTSTART;TZID=Europe/Paris:20220707T171500
DTEND;TZID=Europe/Paris:20220707T180000
DTSTAMP:20260421T044656
CREATED:20220603T103826Z
LAST-MODIFIED:20220603T103826Z
UID:10003042-1657214100-1657216800@bagneuxenvironnement.org
SUMMARY:INVENDUS ALIMENTAIRES
DESCRIPTION:Distribution gratuite des invendus alimentaires tous les jeudis à partir 17h15 (durée 45 min) au Pavillon BE 4 sentier des Brugnauts\, 92220 BAGNEUX
URL:https://bagneuxenvironnement.org/evenement/invendus-alimentaires-44/
LOCATION:Pavillon de Bagneux Environnement\, 4 Sent. des Brugnauts\, BAGNEUX\, 92220\, France
CATEGORIES:invendus alimentaires
ATTACH;FMTTYPE=image/jpeg:https://bagneuxenvironnement.org/wp-content/uploads/2021/09/invendus-alimentaire-3.jpg
END:VEVENT
BEGIN:VEVENT
DTSTART;TZID=Europe/Paris:20220709T140000
DTEND;TZID=Europe/Paris:20220709T190000
DTSTAMP:20260421T044656
CREATED:20220603T102714Z
LAST-MODIFIED:20220603T102714Z
UID:10003021-1657375200-1657393200@bagneuxenvironnement.org
SUMMARY:ATELIER BE - les après-midis BEcréatif
DESCRIPTION:Location espace et équipements\, utilisation en autonomie ou avec les autres \n6 utilisateurs maximum (à partir de 7ans mais accompagné\, et à partir de 14 ans en autonomie) \ninscription obligatoire par mail : atelierbe@bagneuxenvironnement.org
URL:https://bagneuxenvironnement.org/evenement/atelier-be-les-apres-midis-becreatif-27/
LOCATION:Atelier BE\, 5 Allée du Poitou\, Bagneux\, Hauts-de-Seine\, 92220\, France
CATEGORIES:atelier BE
ATTACH;FMTTYPE=image/png:https://bagneuxenvironnement.org/wp-content/uploads/2022/02/HELLOASSO-Vignette-1.png
END:VEVENT
BEGIN:VEVENT
DTSTART;TZID=Europe/Paris:20220713T140000
DTEND;TZID=Europe/Paris:20220713T190000
DTSTAMP:20260421T044656
CREATED:20220603T102955Z
LAST-MODIFIED:20220603T102955Z
UID:10003036-1657720800-1657738800@bagneuxenvironnement.org
SUMMARY:ATELIER BE - les après-midis BEcréatif
DESCRIPTION:Location espace et équipements\, utilisation en autonomie ou avec les autres \n6 utilisateurs maximum (à partir de 7ans mais accompagné\, et à partir de 14 ans en autonomie) \ninscription obligatoire par mail : atelierbe@bagneuxenvironnement.org
URL:https://bagneuxenvironnement.org/evenement/atelier-be-les-apres-midis-becreatif-28/
LOCATION:Atelier BE\, 5 Allée du Poitou\, Bagneux\, Hauts-de-Seine\, 92220\, France
CATEGORIES:atelier BE
ATTACH;FMTTYPE=image/png:https://bagneuxenvironnement.org/wp-content/uploads/2022/02/HELLOASSO-Vignette-1.png
END:VEVENT
BEGIN:VEVENT
DTSTART;TZID=Europe/Paris:20220716T140000
DTEND;TZID=Europe/Paris:20220716T190000
DTSTAMP:20260421T044656
CREATED:20220603T103107Z
LAST-MODIFIED:20220603T103107Z
UID:10003037-1657980000-1657998000@bagneuxenvironnement.org
SUMMARY:ATELIER BE - les après-midis BEcréatif
DESCRIPTION:Location espace et équipements\, utilisation en autonomie ou avec les autres \n6 utilisateurs maximum (à partir de 7ans mais accompagné\, et à partir de 14 ans en autonomie) \ninscription obligatoire par mail : atelierbe@bagneuxenvironnement.org
URL:https://bagneuxenvironnement.org/evenement/atelier-be-les-apres-midis-becreatif-29/
LOCATION:Atelier BE\, 5 Allée du Poitou\, Bagneux\, Hauts-de-Seine\, 92220\, France
CATEGORIES:atelier BE
ATTACH;FMTTYPE=image/png:https://bagneuxenvironnement.org/wp-content/uploads/2022/02/HELLOASSO-Vignette-1.png
END:VEVENT
BEGIN:VEVENT
DTSTART;TZID=Europe/Paris:20220720T140000
DTEND;TZID=Europe/Paris:20220720T190000
DTSTAMP:20260421T044656
CREATED:20220603T103213Z
LAST-MODIFIED:20220603T103213Z
UID:10003039-1658325600-1658343600@bagneuxenvironnement.org
SUMMARY:ATELIER BE - les après-midis BEcréatif
DESCRIPTION:Location espace et équipements\, utilisation en autonomie ou avec les autres \n6 utilisateurs maximum (à partir de 7ans mais accompagné\, et à partir de 14 ans en autonomie) \ninscription obligatoire par mail : atelierbe@bagneuxenvironnement.org
URL:https://bagneuxenvironnement.org/evenement/atelier-be-les-apres-midis-becreatif-31/
LOCATION:Atelier BE\, 5 Allée du Poitou\, Bagneux\, Hauts-de-Seine\, 92220\, France
CATEGORIES:atelier BE
ATTACH;FMTTYPE=image/png:https://bagneuxenvironnement.org/wp-content/uploads/2022/02/HELLOASSO-Vignette-1.png
END:VEVENT
BEGIN:VEVENT
DTSTART;TZID=Europe/Paris:20220723T140000
DTEND;TZID=Europe/Paris:20220723T190000
DTSTAMP:20260421T044656
CREATED:20220603T103142Z
LAST-MODIFIED:20220603T103142Z
UID:10003038-1658584800-1658602800@bagneuxenvironnement.org
SUMMARY:ATELIER BE - les après-midis BEcréatif
DESCRIPTION:Location espace et équipements\, utilisation en autonomie ou avec les autres \n6 utilisateurs maximum (à partir de 7ans mais accompagné\, et à partir de 14 ans en autonomie) \ninscription obligatoire par mail : atelierbe@bagneuxenvironnement.org
URL:https://bagneuxenvironnement.org/evenement/atelier-be-les-apres-midis-becreatif-30/
LOCATION:Atelier BE\, 5 Allée du Poitou\, Bagneux\, Hauts-de-Seine\, 92220\, France
CATEGORIES:atelier BE
ATTACH;FMTTYPE=image/png:https://bagneuxenvironnement.org/wp-content/uploads/2022/02/HELLOASSO-Vignette-1.png
END:VEVENT
BEGIN:VEVENT
DTSTART;TZID=Europe/Paris:20220727T140000
DTEND;TZID=Europe/Paris:20220727T190000
DTSTAMP:20260421T044656
CREATED:20220603T103302Z
LAST-MODIFIED:20220603T103302Z
UID:10003041-1658930400-1658948400@bagneuxenvironnement.org
SUMMARY:ATELIER BE - les après-midis BEcréatif
DESCRIPTION:Location espace et équipements\, utilisation en autonomie ou avec les autres \n6 utilisateurs maximum (à partir de 7ans mais accompagné\, et à partir de 14 ans en autonomie) \ninscription obligatoire par mail : atelierbe@bagneuxenvironnement.org
URL:https://bagneuxenvironnement.org/evenement/atelier-be-les-apres-midis-becreatif-32/
LOCATION:Atelier BE\, 5 Allée du Poitou\, Bagneux\, Hauts-de-Seine\, 92220\, France
CATEGORIES:atelier BE
ATTACH;FMTTYPE=image/png:https://bagneuxenvironnement.org/wp-content/uploads/2022/02/HELLOASSO-Vignette-1.png
END:VEVENT
BEGIN:VEVENT
DTSTART;TZID=Europe/Paris:20220730T140000
DTEND;TZID=Europe/Paris:20220730T190000
DTSTAMP:20260421T044656
CREATED:20220603T103326Z
LAST-MODIFIED:20220603T103326Z
UID:10003040-1659189600-1659207600@bagneuxenvironnement.org
SUMMARY:ATELIER BE - les après-midis BEcréatif
DESCRIPTION:Location espace et équipements\, utilisation en autonomie ou avec les autres \n6 utilisateurs maximum (à partir de 7ans mais accompagné\, et à partir de 14 ans en autonomie) \ninscription obligatoire par mail : atelierbe@bagneuxenvironnement.orghttps://bagneuxenvironnement.org/wp-admin/profile.php
URL:https://bagneuxenvironnement.org/evenement/atelier-be-les-apres-midis-becreatif-33/
LOCATION:Atelier BE\, 5 Allée du Poitou\, Bagneux\, Hauts-de-Seine\, 92220\, France
CATEGORIES:atelier BE
ATTACH;FMTTYPE=image/png:https://bagneuxenvironnement.org/wp-content/uploads/2022/02/HELLOASSO-Vignette-1.png
END:VEVENT
BEGIN:VEVENT
DTSTART;TZID=Europe/Paris:20220803T140000
DTEND;TZID=Europe/Paris:20220803T190000
DTSTAMP:20260421T044656
CREATED:20220626T201235Z
LAST-MODIFIED:20220626T201235Z
UID:10003048-1659535200-1659553200@bagneuxenvironnement.org
SUMMARY:ATELIER BE - les après-midis BEcréatif
DESCRIPTION:Location espace et équipements\, utilisation en autonomie ou avec les autres \n6 utilisateurs maximum (à partir de 7ans mais accompagné\, et à partir de 14 ans en autonomie) \nInscription obligatoire.
URL:https://bagneuxenvironnement.org/evenement/atelier-be-les-apres-midis-becreatif-34/
LOCATION:Atelier BE\, 5 Allée du Poitou\, Bagneux\, Hauts-de-Seine\, 92220\, France
CATEGORIES:atelier BE
ATTACH;FMTTYPE=image/png:https://bagneuxenvironnement.org/wp-content/uploads/2022/02/HELLOASSO-Vignette-1.png
END:VEVENT
BEGIN:VEVENT
DTSTART;TZID=Europe/Paris:20220806T140000
DTEND;TZID=Europe/Paris:20220806T190000
DTSTAMP:20260421T044656
CREATED:20220806T121905Z
LAST-MODIFIED:20220626T201448Z
UID:10003052-1659794400-1659812400@bagneuxenvironnement.org
SUMMARY:ATELIER BE - les après-midis BEcréatif
DESCRIPTION:Location espace et équipements\, utilisation en autonomie ou avec les autres \n6 utilisateurs maximum (à partir de 7ans mais accompagné\, et à partir de 14 ans en autonomie) \nInscription obligatoire.
URL:https://bagneuxenvironnement.org/evenement/atelier-be-les-apres-midis-becreatif-35/
LOCATION:Atelier BE\, 5 Allée du Poitou\, Bagneux\, Hauts-de-Seine\, 92220\, France
CATEGORIES:atelier BE
ATTACH;FMTTYPE=image/png:https://bagneuxenvironnement.org/wp-content/uploads/2022/02/HELLOASSO-Vignette-1.png
END:VEVENT
END:VCALENDAR