BEGIN:VCALENDAR
VERSION:2.0
PRODID:-//Bagneux Environnement - ECPv6.2.4//NONSGML v1.0//EN
CALSCALE:GREGORIAN
METHOD:PUBLISH
X-WR-CALNAME:Bagneux Environnement
X-ORIGINAL-URL:https://bagneuxenvironnement.org
X-WR-CALDESC:évènements pour Bagneux Environnement
REFRESH-INTERVAL;VALUE=DURATION:PT1H
X-Robots-Tag:noindex
X-PUBLISHED-TTL:PT1H
BEGIN:VTIMEZONE
TZID:Europe/Paris
BEGIN:DAYLIGHT
TZOFFSETFROM:+0100
TZOFFSETTO:+0200
TZNAME:CEST
DTSTART:20230326T010000
END:DAYLIGHT
BEGIN:STANDARD
TZOFFSETFROM:+0200
TZOFFSETTO:+0100
TZNAME:CET
DTSTART:20231029T010000
END:STANDARD
END:VTIMEZONE
BEGIN:VEVENT
DTSTART;TZID=Europe/Paris:20230719T183000
DTEND;TZID=Europe/Paris:20230719T213000
DTSTAMP:20260422T205449
CREATED:20230608T135447Z
LAST-MODIFIED:20230615T151439Z
UID:10003121-1689791400-1689802200@bagneuxenvironnement.org
SUMMARY:Atelier : Fresque du Numérique
DESCRIPTION:La Fresque du Numérique est un atelier ludique et collaboratif de 3h\, avec une pédagogie similaire à celle de La Fresque du Climat.\nLe but est de se sensibiliser et se former aux enjeux environnementaux du numérique.\nL’atelier vise aussi à expliquer les grandes lignes des actions à mettre en place pour évoluer vers un numérique plus soutenable\, puis à ouvrir des discussions sur le sujet. \nIl se divise en 4 temps : \n\n💻 Compréhension\, en reconstituant la fresque avec les cartes\n\n\n💻 Créativité\, en illustrant avec des dessins\, des écritures…\n\n\n💻 Restitution qui résume ce qui a été construit\n\n\n💻 Action qui permet de voir les solutions à apporter\n\nLieu : Agrocité dans le Recyclab (bâtiment en bois\, tout au fond du jardin\, à gauche)\nConditions : à partir de 16 ans \nMerci de vous inscrire via le formulaire ci-dessous ou via ce lien !
URL:https://bagneuxenvironnement.org/evenement/atelier-fresque-numerique/
LOCATION:Agrocité\, 23 rue de la Lisette\, Bagneux\, Hauts-de-Seine\, 92220\, France
ATTACH;FMTTYPE=image/jpeg:https://bagneuxenvironnement.org/wp-content/uploads/2023/06/IMG_20230506_174518158-scaled.jpg
END:VEVENT
BEGIN:VEVENT
DTSTART;TZID=Europe/Paris:20230811T183000
DTEND;TZID=Europe/Paris:20230811T213000
DTSTAMP:20260422T205449
CREATED:20230609T065122Z
LAST-MODIFIED:20230615T150414Z
UID:10003128-1691778600-1691789400@bagneuxenvironnement.org
SUMMARY:Atelier : Fresque du Numérique
DESCRIPTION:La Fresque du Numérique est un atelier ludique et collaboratif de 3h\, avec une pédagogie similaire à celle de La Fresque du Climat.\nLe but est de se sensibiliser et se former aux enjeux environnementaux du numérique.\nL’atelier vise aussi à expliquer les grandes lignes des actions à mettre en place pour évoluer vers un numérique plus soutenable\, puis à ouvrir des discussions sur le sujet. \nIl se divise en 4 temps : \n\n💻 Compréhension\, en reconstituant la fresque avec les cartes\n\n\n💻 Créativité\, en illustrant avec des dessins\, des écritures…\n\n\n💻 Restitution qui résume ce qui a été construit\n\n\n💻 Action qui permet de voir les solutions à apporter\n\nLieu : Agrocité dans le Recyclab (bâtiment en bois\, tout au fond du jardin\, à gauche)\nConditions : à partir de 16 ans \nMerci de vous inscrire via le formulaire ci-dessous ou via ce lien ! \nhttps://infomaniak.events/shop/32LWKf6z8K/
URL:https://bagneuxenvironnement.org/evenement/atelier-fresque-du-numerique/
LOCATION:Agrocité\, 23 rue de la Lisette\, Bagneux\, Hauts-de-Seine\, 92220\, France
ATTACH;FMTTYPE=image/jpeg:https://bagneuxenvironnement.org/wp-content/uploads/2023/06/IMG_20230506_174518158-scaled.jpg
END:VEVENT
END:VCALENDAR