BEGIN:VCALENDAR
VERSION:2.0
PRODID:-//Bagneux Environnement - ECPv6.2.4//NONSGML v1.0//EN
CALSCALE:GREGORIAN
METHOD:PUBLISH
X-WR-CALNAME:Bagneux Environnement
X-ORIGINAL-URL:https://bagneuxenvironnement.org
X-WR-CALDESC:évènements pour Bagneux Environnement
REFRESH-INTERVAL;VALUE=DURATION:PT1H
X-Robots-Tag:noindex
X-PUBLISHED-TTL:PT1H
BEGIN:VTIMEZONE
TZID:Europe/Paris
BEGIN:DAYLIGHT
TZOFFSETFROM:+0100
TZOFFSETTO:+0200
TZNAME:CEST
DTSTART:20260329T010000
END:DAYLIGHT
BEGIN:STANDARD
TZOFFSETFROM:+0200
TZOFFSETTO:+0100
TZNAME:CET
DTSTART:20261025T010000
END:STANDARD
END:VTIMEZONE
BEGIN:VEVENT
DTSTART;TZID=Europe/Paris:20260125T103000
DTEND;TZID=Europe/Paris:20260125T123000
DTSTAMP:20260420T054340
CREATED:20260107T165759Z
LAST-MODIFIED:20260107T170348Z
UID:10016733-1769337000-1769344200@bagneuxenvironnement.org
SUMMARY:🫧 Atelier Fabriqu'O'Naturel – Shampooing solide & baume capillaire
DESCRIPTION:Dans le cadre du Défi Zéro Déchet de Vallée Sud Grand Paris (VSGP)\, venez apprendre à fabriquer vos cosmétiques maison lors d’un atelier pratique et convivial. \nAu programme : \n\ncréation de shampooings solides\, respectueux de vos cheveux et de l’environnement\nconfection d’un baume capillaire nourrissant adapté à tous types de cheveux\nastuces pour réduire les déchets dans votre salle de bain et adopter des alternatives durables\n\nUn moment pratique\, créatif et écoresponsable\, accessible à toutes et tous\, pour repartir avec vos produits faits maison et vos nouvelles compétences zéro déchet. \n📍 Dimanche 25 janvier – 10h30 à 12h30 à Clamart🔗 Inscription obligatoire : https://www.valleesud.fr/inscrivez-vous-pour-la-nouvelle-saison-du-defi-zero-dechet/
URL:https://bagneuxenvironnement.org/evenement/atelier-fabriquonaturel-shampooing-solide-baume-capillaire/
LOCATION:Clamart\, Clamart\, 92140
CATEGORIES:Atelier Fabriqu’O’Naturel
ATTACH;FMTTYPE=image/png:https://bagneuxenvironnement.org/wp-content/uploads/2026/01/Baume-capillaire.png
END:VEVENT
BEGIN:VEVENT
DTSTART;TZID=Europe/Paris:20260130T193000
DTEND;TZID=Europe/Paris:20260130T213000
DTSTAMP:20260420T054340
CREATED:20260107T171759Z
LAST-MODIFIED:20260107T171759Z
UID:10016735-1769801400-1769808600@bagneuxenvironnement.org
SUMMARY:🫧 Atelier Fabriqu'O'Naturel – Déodorant & Cold Cream
DESCRIPTION:Dans le cadre du Défi Zéro Déchet de Vallée Sud Grand Paris (VSGP)\, participez à un atelier pratique et créatif pour fabriquer vos cosmétiques maison. \nAu programme : \n\nconfection d’un déodorant naturel adapté à tous types de peaux\nréalisation d’une cold cream nourrissante pour protéger et hydrater la peau\nastuces pour réduire les déchets dans votre salle de bain et adopter des alternatives durables\n\nUn moment convivial\, pratique et écoresponsable\, pour repartir avec vos produits faits maison et apprendre des gestes simples pour un quotidien plus zéro déchet. \n📍 Châtillon🗓 19h30 – 21h30🔗 Inscription obligatoire : https://www.valleesud.fr/inscrivez-vous-pour-la-nouvelle-saison-du-defi-zero-dechet/
URL:https://bagneuxenvironnement.org/evenement/%f0%9f%ab%a7-atelier-fabriquonaturel-deodorant-cold-cream/
LOCATION:Châtillon\, Châtillon\, 92320
CATEGORIES:Atelier Fabriqu’O’Naturel
ATTACH;FMTTYPE=image/png:https://bagneuxenvironnement.org/wp-content/uploads/2026/01/Baume-capillaire.png
END:VEVENT
BEGIN:VEVENT
DTSTART;TZID=Europe/Paris:20260206T193000
DTEND;TZID=Europe/Paris:20260206T213000
DTSTAMP:20260420T054340
CREATED:20260204T130502Z
LAST-MODIFIED:20260204T130502Z
UID:10016798-1770406200-1770413400@bagneuxenvironnement.org
SUMMARY:🫧 Atelier Fabriqu'O'Naturel – Déodorant solide
DESCRIPTION:Dans le cadre du Défi Zéro Déchet de Vallée Sud Grand Paris (VSGP)\, participez à un atelier pratique et créatif pour fabriquer vos cosmétiques maison. \nLors de cet atelier\, vous aurez l’occasion de réaliser un déodorant naturel solide\, adapté à tous les types de peau ! \nUn moment convivial\, pratique et écoresponsable\, pour repartir avec vos produits faits maison et apprendre des gestes simples pour un quotidien plus zéro déchet. \n📍 Châtenay-Malabry 🗓  19h30 – 21h30🔗 Inscription obligatoire : https://www.valleesud.fr/inscrivez-vous-pour-la-nouvelle-saison-du-defi-zero-dechet/
URL:https://bagneuxenvironnement.org/evenement/%f0%9f%ab%a7-atelier-fabriquonaturel-deodorant-solide/
LOCATION:Châtenay-Malabry\, Châtenay-Malabry\, Hauts-de-Seine\, 92290\, France
CATEGORIES:Atelier Fabriqu’O’Naturel
ATTACH;FMTTYPE=image/png:https://bagneuxenvironnement.org/wp-content/uploads/2026/01/Baume-capillaire.png
END:VEVENT
BEGIN:VEVENT
DTSTART;TZID=Europe/Paris:20260213T193000
DTEND;TZID=Europe/Paris:20260213T213000
DTSTAMP:20260420T054340
CREATED:20260204T131358Z
LAST-MODIFIED:20260204T131358Z
UID:10016799-1771011000-1771018200@bagneuxenvironnement.org
SUMMARY:💄 Atelier Fabriqu'O'Naturel – Fard et lotion démaquillante
DESCRIPTION:Dans le cadre du Défi Zéro Déchet de Vallée Sud Grand Paris (VSGP)\, participez à un atelier pratique et créatif pour fabriquer vos cosmétiques maison. \nLors de cet atelier\, vous aurez l’occasion de réaliser un fard à paupière maison ainsi que votre propre lotion démaquillante\, le tout avec des ingrédients bio qui respectent la peau ! \nUn moment convivial\, pratique et écoresponsable\, pour repartir avec vos produits faits maison et apprendre des gestes simples pour un quotidien plus zéro déchet. \n📍 La Maison des associations (salle 5)\, 105 Avenue Aristide Briand\, 92120\, Montrouge🗓  19h30 – 21h30🔗 Inscription obligatoire : https://www.valleesud.fr/inscrivez-vous-pour-la-nouvelle-saison-du-defi-zero-dechet/
URL:https://bagneuxenvironnement.org/evenement/%f0%9f%92%84-atelier-fabriquonaturel-fard-et-lotion-demaquillante/
LOCATION:Maison des associations\, 105 avenue Aristide Briand\, Montrouge\, Hauts-de-Seine\, 92120\, France
CATEGORIES:Atelier Fabriqu’O’Naturel
ATTACH;FMTTYPE=image/png:https://bagneuxenvironnement.org/wp-content/uploads/2026/01/Baume-capillaire.png
END:VEVENT
BEGIN:VEVENT
DTSTART;TZID=Europe/Paris:20260305T193000
DTEND;TZID=Europe/Paris:20260305T213000
DTSTAMP:20260420T054340
CREATED:20260227T143236Z
LAST-MODIFIED:20260227T143236Z
UID:10016804-1772739000-1772746200@bagneuxenvironnement.org
SUMMARY:🫧 Atelier Fabriqu'O'Naturel – Shampooing solide & baume capillaire
DESCRIPTION:Dans le cadre du Défi Zéro Déchet de Vallée Sud Grand Paris (VSGP)\, venez apprendre à fabriquer vos cosmétiques maison lors d’un atelier pratique et convivial. \nAu programme : \n\ncréation de shampooings solides\, respectueux de vos cheveux et de l’environnement\nconfection d’un baume capillaire nourrissant adapté à tous types de cheveux\nastuces pour réduire les déchets dans votre salle de bain et adopter des alternatives durables\n\nUn moment pratique\, créatif et écoresponsable\, accessible à toutes et tous\, pour repartir avec vos produits faits maison et vos nouvelles compétences zéro déchet. \n🕑 Dimanche 05 mars – 19h30 à 21h30 \n📍 Salle du parc\, 6 allée du parc\, à Fontenay-aux-Roses \n🔗 Inscription obligatoire : https://www.valleesud.fr/inscrivez-vous-pour-la-nouvelle-saison-du-defi-zero-dechet/
URL:https://bagneuxenvironnement.org/evenement/%f0%9f%ab%a7-atelier-fabriquonaturel-shampooing-solide-baume-capillaire/
LOCATION:Salle du Parc\, 6 allée du parc\, Fontenay-aux-Roses\, Hauts-de-Seine\, 92260\, France
CATEGORIES:Atelier Fabriqu’O’Naturel
ATTACH;FMTTYPE=image/png:https://bagneuxenvironnement.org/wp-content/uploads/2026/01/Baume-capillaire.png
END:VEVENT
BEGIN:VEVENT
DTSTART;TZID=Europe/Paris:20260316T193000
DTEND;TZID=Europe/Paris:20260316T213000
DTSTAMP:20260420T054340
CREATED:20260227T160133Z
LAST-MODIFIED:20260227T160133Z
UID:10016940-1773689400-1773696600@bagneuxenvironnement.org
SUMMARY:💈 Atelier Fabriqu'O'Naturel – Mousse à raser et baume après rasage
DESCRIPTION:Atelier Fabriqu’O’Naturel – Mousse à raser et baume après rasage\, Défi Zéro Déchet 💈\nDans le cadre du Défi Zéro Déchet de Vallée Sud Grand Paris (VSGP)\, venez apprendre à fabriquer vos cosmétiques maison lors d’un atelier pratique et convivial. \nAu programme : \n\nconfection de mousse à raser\, respectueuse de votre peau et de l’environnement\nconfection d’un baume après rasage adapté à tous les types de peau\nastuces pour réduire les déchets dans votre salle de bain et adopter des alternatives durables\n\nUn moment pratique\, créatif et écoresponsable\, accessible à toutes et tous\, pour repartir avec vos produits faits maison et vos nouvelles compétences zéro déchet. \n🕑 Lundi 16 mars – 19h30 à 21h30 \n📍  Ecole Pierre Brossolette\, 59 rue Jean Longuet\, Châtenay-Malabry \n🔗 Inscription obligatoire : https://www.valleesud.fr/inscrivez-vous-pour-la-nouvelle-saison-du-defi-zero-dechet/
URL:https://bagneuxenvironnement.org/evenement/%f0%9f%92%88-atelier-fabriquonaturel-mousse-a-raser-et-baume-apres-rasage/
LOCATION:Ecole Pierre Brossolette\, 59 rue Jean Longuet\, Châtenay-Malabry\, Hauts-de-Seine\, 92290\, France
CATEGORIES:Atelier Fabriqu’O’Naturel
ATTACH;FMTTYPE=image/png:https://bagneuxenvironnement.org/wp-content/uploads/2026/01/Baume-capillaire.png
END:VEVENT
BEGIN:VEVENT
DTSTART;TZID=Europe/Paris:20260403T193000
DTEND;TZID=Europe/Paris:20260403T213000
DTSTAMP:20260420T054340
CREATED:20260327T174257Z
LAST-MODIFIED:20260327T174257Z
UID:10017088-1775244600-1775251800@bagneuxenvironnement.org
SUMMARY:💄 Atelier Fabriqu'O'Naturel – Fard et lotion démaquillante
DESCRIPTION:Dans le cadre du Défi Zéro Déchet de Vallée Sud Grand Paris (VSGP)\, participez à un atelier pratique et créatif pour fabriquer vos cosmétiques maison. \nLors de cet atelier\, vous aurez l’occasion de réaliser un fard à paupière maison ainsi que votre propre lotion démaquillante\, le tout avec des ingrédients bio qui respectent la peau ! \nUn moment convivial\, pratique et écoresponsable\, pour repartir avec vos produits faits maison et apprendre des gestes simples pour un quotidien plus zéro déchet. \n📍 Réfectoire de l’école Pierre Brossolette\, 59 rue Jean Longuet\, 92290\, Châtenay-Malabry🗓  19h30 – 21h30🔗 Inscription obligatoire : https://www.valleesud.fr/inscrivez-vous-pour-la-nouvelle-saison-du-defi-zero-dechet/
URL:https://bagneuxenvironnement.org/evenement/%f0%9f%92%84-atelier-fabriquonaturel-fard-et-lotion-demaquillante-2/
LOCATION:Ecole Pierre Brossolette\, 59 rue Jean Longuet\, Châtenay-Malabry\, Hauts-de-Seine\, 92290\, France
CATEGORIES:Atelier Fabriqu’O’Naturel
ATTACH;FMTTYPE=image/png:https://bagneuxenvironnement.org/wp-content/uploads/2026/01/Baume-capillaire.png
END:VEVENT
END:VCALENDAR