BEGIN:VCALENDAR
VERSION:2.0
PRODID:-//Bagneux Environnement - ECPv6.2.4//NONSGML v1.0//EN
CALSCALE:GREGORIAN
METHOD:PUBLISH
X-WR-CALNAME:Bagneux Environnement
X-ORIGINAL-URL:https://bagneuxenvironnement.org
X-WR-CALDESC:évènements pour Bagneux Environnement
REFRESH-INTERVAL;VALUE=DURATION:PT1H
X-Robots-Tag:noindex
X-PUBLISHED-TTL:PT1H
BEGIN:VTIMEZONE
TZID:Europe/Paris
BEGIN:DAYLIGHT
TZOFFSETFROM:+0100
TZOFFSETTO:+0200
TZNAME:CEST
DTSTART:20230326T010000
END:DAYLIGHT
BEGIN:STANDARD
TZOFFSETFROM:+0200
TZOFFSETTO:+0100
TZNAME:CET
DTSTART:20231029T010000
END:STANDARD
END:VTIMEZONE
BEGIN:VEVENT
DTSTART;TZID=Europe/Paris:20230121T100000
DTEND;TZID=Europe/Paris:20230121T123000
DTSTAMP:20260423T000520
CREATED:20221216T143313Z
LAST-MODIFIED:20221221T132409Z
UID:10003151-1674295200-1674304200@bagneuxenvironnement.org
SUMMARY:Initiation - Dessiner en 2D avec Inkscape
DESCRIPTION:À travers la réalisation d’un projet concret\, découvrez comment utiliser “Inkscape” (logiciel de dessin 2D)\, à préparer des fichiers pour imprimer avec la découpeuse laser et à intégrer vos photos ou vos dessins faits main. \nCondition : À partir de 12 ans. \nComment accéder à l’AtelierBE ?\nL’Atelier BE se trouve à l’intérieur de la résidence Meuniers-Poitou\, le portail piéton est toujours ouvert\, à la porte d’entrée sonnez à l’interphone FABLAB \nInscription : Merci de vous inscrire via le formulaire ci-dessous. \n\nVous n’avez pas besoin d’imprimer votre billet\, nous avons la liste des inscrits 😉\nVeuillez vous assurer d’avoir bien reçu un mail avec votre billet\, afin de vérifier que vous être bien inscrit !
URL:https://bagneuxenvironnement.org/evenement/initiation-dessiner-en-2d-avec-inkscape/
LOCATION:Atelier BE\, 5 Allée du Poitou\, Bagneux\, Hauts-de-Seine\, 92220\, France
CATEGORIES:atelier BE
ATTACH;FMTTYPE=image/jpeg:https://bagneuxenvironnement.org/wp-content/uploads/2022/05/Formation-Inkscape.jpg
END:VEVENT
BEGIN:VEVENT
DTSTART;TZID=Europe/Paris:20230415T100000
DTEND;TZID=Europe/Paris:20230415T120000
DTSTAMP:20260423T000520
CREATED:20230227T150702Z
LAST-MODIFIED:20230411T092421Z
UID:10003213-1681552800-1681560000@bagneuxenvironnement.org
SUMMARY:Initiation - Dessiner en 2D avec Inkscape
DESCRIPTION:Pendant cette initiation\, à travers la réalisation d’un projet concret\, vous découvrirez : Comment utiliser “Inkscape” (logiciel de dessin 2D) pour préparer les dessins afin de les transmettre à la brodeuse numérique ou à la découpeuse laser\, ou encore à la découpeuse vinyl\, ( 3 machines à commande numérique à votre disposition à l’AtelierBE). \nConditions : \n\nAucun prérequis demandé\nÀ partir de 10 ans\n8 personnes maximum\n\nComment accéder à l’AtelierBE ?\nL’Atelier BE se trouve au sein de la résidence Meuniers-Poitou. Le portail piéton est ouvert et sonnez FABLAB à l’interphone. \nInscription : Merci de vous inscrire via le formulaire ci-dessous ou le lien suivant
URL:https://bagneuxenvironnement.org/evenement/initiation-dessiner-en-2d-avec-inkscape-2/
LOCATION:Atelier BE\, 5 Allée du Poitou\, Bagneux\, Hauts-de-Seine\, 92220\, France
CATEGORIES:Initiation
ATTACH;FMTTYPE=image/jpeg:https://bagneuxenvironnement.org/wp-content/uploads/2023/02/Inkscape-1.jpg
END:VEVENT
BEGIN:VEVENT
DTSTART;TZID=Europe/Paris:20230502T100000
DTEND;TZID=Europe/Paris:20230505T120000
DTSTAMP:20260423T000520
CREATED:20230301T113153Z
LAST-MODIFIED:20230411T085846Z
UID:10003218-1683021600-1683288000@bagneuxenvironnement.org
SUMMARY:Stage - Découverte du Fablab
DESCRIPTION:À travers trois ateliers consécutifs (découpe et gravure laser\, impression 3D et travail du bois) découvrez la célèbre philosophie des makers ; bricoler\, expérimenter\, apprendre en faisant… et tout ça en s’amusant ! \nConditions : \n\nStage ado/adulte à partir de 12 ans.\n8 personnes maximum\n\nQu’allez-vous faire pendant ces 3 ateliers de 10h à 12h/13h ?\nMardi 02.05 – 10h à 12h : Initiation au dessin 2D sur Inkscape et à la découpe laser\nMercredi 03.05 – 10h à 12h : Initiation à l’impression 3D\nJeudi 04.05 et Vendredi 05.05 – 10h à 13h: Atelier bois avec la fabrication d’une planche à découper \nBONUS : Samedi 06.05 – 14h à 19h : Entrée libre au BEcréatif\, accompagné.e d’une personne de votre choix 🙂 \nComment accéder à l’Atelier BE ?\nL’Atelier BE se trouve au sein de la résidence Meuniers-Poitou. Le portail piéton est toujours ouvert\, sonnez “FABLAB” à l’interphone ! \nInscription : Merci de vous inscrire via le formulaire ci-dessous ou le lien suivant
URL:https://bagneuxenvironnement.org/evenement/stage-decouverte-du-fablab/
LOCATION:Atelier BE\, 5 Allée du Poitou\, Bagneux\, Hauts-de-Seine\, 92220\, France
CATEGORIES:atelier BE,Stage
ATTACH;FMTTYPE=image/jpeg:https://bagneuxenvironnement.org/wp-content/uploads/2022/12/Laser-Cut-Calendrier.jpg
END:VEVENT
BEGIN:VEVENT
DTSTART;TZID=Europe/Paris:20230617T100000
DTEND;TZID=Europe/Paris:20230617T120000
DTSTAMP:20260423T000520
CREATED:20230412T115628Z
LAST-MODIFIED:20230412T115628Z
UID:10003250-1686996000-1687003200@bagneuxenvironnement.org
SUMMARY:Initiation - Découpeuse Laser et DAO 2D (Inkscape)
DESCRIPTION:Pendant cette initiation\, à travers la réalisation d’un projet concret\, vous découvrirez :  Comment utiliser “Inkscape” (logiciel de dessin 2D) pour préparer les dessins afin de les transmettre à la brodeuse numérique ou à la découpeuse laser\, ou encore à la découpeuse vinyl\, (les 3 machines à commande numérique qui sont à votre disposition à l’AtelierBE) \nConditions : \n\nAucun prérequis demandé\nÀ partir de 12 ans\n8 personnes maximum\n\nComment accéder à l’AtelierBE ?\nL’Atelier BE se trouve au sein de la résidence Meuniers-Poitou. Le portail piéton est ouvert et sonnez “FABLAB” à l’interphone. \nInscription : Merci de vous inscrire via le formulaire ci-dessous ou le lien suivant
URL:https://bagneuxenvironnement.org/evenement/initiation-decoupeuse-laser-et-dao-2d/
LOCATION:Atelier BE\, 5 Allée du Poitou\, Bagneux\, Hauts-de-Seine\, 92220\, France
CATEGORIES:Initiation
ATTACH;FMTTYPE=image/jpeg:https://bagneuxenvironnement.org/wp-content/uploads/2023/02/Inkscape-1.jpg
END:VEVENT
END:VCALENDAR