BEGIN:VCALENDAR
VERSION:2.0
PRODID:-//Bagneux Environnement - ECPv6.2.4//NONSGML v1.0//EN
CALSCALE:GREGORIAN
METHOD:PUBLISH
X-ORIGINAL-URL:https://bagneuxenvironnement.org
X-WR-CALDESC:évènements pour Bagneux Environnement
REFRESH-INTERVAL;VALUE=DURATION:PT1H
X-Robots-Tag:noindex
X-PUBLISHED-TTL:PT1H
BEGIN:VTIMEZONE
TZID:Europe/Paris
BEGIN:DAYLIGHT
TZOFFSETFROM:+0100
TZOFFSETTO:+0200
TZNAME:CEST
DTSTART:20260329T010000
END:DAYLIGHT
BEGIN:STANDARD
TZOFFSETFROM:+0200
TZOFFSETTO:+0100
TZNAME:CET
DTSTART:20261025T010000
END:STANDARD
END:VTIMEZONE
BEGIN:VEVENT
DTSTART;TZID=Europe/Paris:20260403T193000
DTEND;TZID=Europe/Paris:20260403T213000
DTSTAMP:20260419T183910
CREATED:20260327T174257Z
LAST-MODIFIED:20260327T174257Z
UID:10017088-1775244600-1775251800@bagneuxenvironnement.org
SUMMARY:💄 Atelier Fabriqu'O'Naturel – Fard et lotion démaquillante
DESCRIPTION:Dans le cadre du Défi Zéro Déchet de Vallée Sud Grand Paris (VSGP)\, participez à un atelier pratique et créatif pour fabriquer vos cosmétiques maison. \nLors de cet atelier\, vous aurez l’occasion de réaliser un fard à paupière maison ainsi que votre propre lotion démaquillante\, le tout avec des ingrédients bio qui respectent la peau ! \nUn moment convivial\, pratique et écoresponsable\, pour repartir avec vos produits faits maison et apprendre des gestes simples pour un quotidien plus zéro déchet. \n📍 Réfectoire de l’école Pierre Brossolette\, 59 rue Jean Longuet\, 92290\, Châtenay-Malabry🗓  19h30 – 21h30🔗 Inscription obligatoire : https://www.valleesud.fr/inscrivez-vous-pour-la-nouvelle-saison-du-defi-zero-dechet/
URL:https://bagneuxenvironnement.org/evenement/%f0%9f%92%84-atelier-fabriquonaturel-fard-et-lotion-demaquillante-2/
LOCATION:Ecole Pierre Brossolette\, 59 rue Jean Longuet\, Châtenay-Malabry\, Hauts-de-Seine\, 92290\, France
CATEGORIES:Atelier Fabriqu’O’Naturel
ATTACH;FMTTYPE=image/png:https://bagneuxenvironnement.org/wp-content/uploads/2026/01/Baume-capillaire.png
END:VEVENT
BEGIN:VEVENT
DTSTART;TZID=Europe/Paris:20260404T143000
DTEND;TZID=Europe/Paris:20260404T170000
DTSTAMP:20260419T183910
CREATED:20260401T081734Z
LAST-MODIFIED:20260401T122542Z
UID:10017091-1775313000-1775322000@bagneuxenvironnement.org
SUMMARY:🎨 Atelier origamis pour accueillir le printemps 🪺
DESCRIPTION:Rejoignez nous à l’Agrocité pour un atelier créatif et printanier ! 🌷\n  \nAu programme : confection d’origamis en forme de fleurs et d’animaux à partir de papiers recyclés. Vous pouvez apporter du papier à origami si vous en avez\, ou bien vos chutes de papier cadeau et papier journal pour leur donner une seconde vie. \nUn atelier ouvert à tous et à toutes\, pour tous les niveaux et tous les goûts ! \n  \nL’atelier origamis c’est quand ?\n\n📅 Samedi 4 avril\n🕑 à 14h30\n📍 dans l’Agrocité\, 23 rue de la Lisette\, 92220 Bagneux
URL:https://bagneuxenvironnement.org/evenement/%f0%9f%8e%a8-atelier-origamis-pour-accueillir-le-printemps-%f0%9f%aa%ba/
LOCATION:Agrocité\, 23 rue de la Lisette\, Bagneux\, Hauts-de-Seine\, 92220\, France
CATEGORIES:Activité Agrocité,Agrocité de Bagneux,asso
ATTACH;FMTTYPE=image/jpeg:https://bagneuxenvironnement.org/wp-content/uploads/2026/04/36fde25d-d1e7-4336-8afe-3088d043cd39-e1775046298392.jpg
END:VEVENT
BEGIN:VEVENT
DTSTART;TZID=Europe/Paris:20260407T140000
DTEND;TZID=Europe/Paris:20260407T160000
DTSTAMP:20260419T183910
CREATED:20260401T113402Z
LAST-MODIFIED:20260401T113402Z
UID:10017100-1775570400-1775577600@bagneuxenvironnement.org
SUMMARY:🌿 Atelier bouturage et découverte de la forêt-jardin
DESCRIPTION:🌱 L’association Bagneux Environnement vous propose un atelier de découverte du bouturage avec le CAEL de Bourg-la-Reine !\n  \nAu programme\, quelques explications sur le processus de bouturage avant de passer à la pratique sur de jolies plantes. Chaque participant.e pourra repartir avec ses boutures ! Cette animation se déroulera dans la forêt-jardin du tiers-lieu de la Lisette\, une occasion parfaite de découvrir le fonctionnement de ce lieu ! \nLes inscriptions se font directement via le CAEL. \n  \n📅 Mardi 7 avril \n🕑 14h-16h \n📍 à la forêt-jardin\, 4 sentier des Brugnauts\, 92220 Bagneux
URL:https://bagneuxenvironnement.org/evenement/%f0%9f%8c%bf-atelier-bouturage-et-decouverte-de-la-foret-jardin/
LOCATION:Forêt jardin\, 4 sentier des Brugnauts\, Bagneux
CATEGORIES:asso,forêt jardin,Forêt-jardin
ATTACH;FMTTYPE=image/png:https://bagneuxenvironnement.org/wp-content/uploads/2025/04/1-e1772213680496.png
ORGANIZER;CN="CAEL Bourg-la-Reine":MAILTO:accueil@caelmjc.com
END:VEVENT
BEGIN:VEVENT
DTSTART;TZID=Europe/Paris:20260408T193000
DTEND;TZID=Europe/Paris:20260408T213000
DTSTAMP:20260419T183910
CREATED:20260401T084221Z
LAST-MODIFIED:20260401T084221Z
UID:10017092-1775676600-1775683800@bagneuxenvironnement.org
SUMMARY:📖 Atelier Carnet up-cyclé - Défi Zéro Déchet
DESCRIPTION:📖 Atelier fabrication de carnet de brouillon up-cyclé – VSGP\n\nVenez découvrir l’art de donner une seconde vie aux matériaux du quotidien ! Lors de cet atelier créatif\, vous apprendrez à confectionner votre propre carnet de brouillon up-cyclé à partir de matériaux récupérés. Une activité ludique\, durable et idéale pour développer votre créativité tout en réduisant les déchets. \nCet atelier est réalisé dans le cadre du Défi Zéro Déchet organisé par Vallée Sud Grand Paris. \n📅 Mercredi 8 avril \n🕑 19h30-21h30 \n📍 Salle du Parc\, 6 avenue du Parc\, 92260\, Fontenay-aux-Roses \nInscription obligatoire. Plus d’infos ici : Inscrivez vous pour la nouvelle saison du Défi Zéro Déchet ! – Vallée Sud – Grand Paris
URL:https://bagneuxenvironnement.org/evenement/%f0%9f%93%96-atelier-carnet-up-cycle-defi-zero-dechet/
LOCATION:Salle du Parc\, 6 allée du parc\, Fontenay-aux-Roses\, Hauts-de-Seine\, 92260\, France
CATEGORIES:asso,atelier réduction des déchets
ATTACH;FMTTYPE=image/png:https://bagneuxenvironnement.org/wp-content/uploads/2025/08/Design-sans-titre29-e1775032748537.png
END:VEVENT
BEGIN:VEVENT
DTSTART;TZID=Europe/Paris:20260409T193000
DTEND;TZID=Europe/Paris:20260409T213000
DTSTAMP:20260419T183911
CREATED:20260327T172419Z
LAST-MODIFIED:20260327T172419Z
UID:10017083-1775763000-1775770200@bagneuxenvironnement.org
SUMMARY:🎸Formation Guitares à 1 ou 3 cordes
DESCRIPTION:🎸 Fabrication de guitares à 1 ou 3 cordes\nVous aimez la musique et le bricolage ? Nous vous proposons ce mois-ci 5 ateliers pour fabriquer votre propre guitare\, à 1 ou 3 cordes. De quoi confectionner votre propre instrument original ! Ces ateliers vous permettront de vous familiariser avec différents outils manuels comme numériques\, notamment les outils du bois\, la découpeuse laser et l’imprimante 3D. \nVenez fabriquer votre guitare de A à Z\, le tout dans une ambiance conviviale ! Ateliers accessibles à tous les niveaux. \nATTENTION : Il est essentiel de suivre les 5 ateliers du mois\, chaque jeudi étant consacré à une étape différente de la fabrication de l’instrument. \n🗓 Au programme : \n\nJeudi 2 avril : fabrication de la caisse de résonnance\nJeudi 9 avril : finition sur la caisse de résonnance\nJeudi 16 avril : fabrication de pièces de guitare à l’imprimante 3D\nJeudi 23 avril : assemblage de la guitare\nJeudi 30 avril : finitions\, fin de l’assemblage et tests de l’instrument\n\n📍 Fablab – Tiers Lieu de la Lisette\, Bagneux\n1 rue de la Fontaine 92220 Bagneux\nEntrée via le parking du gymnase Romain Rolland
URL:https://bagneuxenvironnement.org/evenement/formation-guitares-a-1-ou-3-cordes/2026-04-09/
LOCATION:Fablab\, 23 rue de la lisette\, Bagneux\, France
CATEGORIES:Fablab,Formation,Initiation,Réservation Machines
ATTACH;FMTTYPE=image/jpeg:https://bagneuxenvironnement.org/wp-content/uploads/2026/03/20260131_222059.jpg
END:VEVENT
BEGIN:VEVENT
DTSTART;TZID=Europe/Paris:20260410T193000
DTEND;TZID=Europe/Paris:20260410T213000
DTSTAMP:20260419T183911
CREATED:20260401T133142Z
LAST-MODIFIED:20260401T133142Z
UID:10017104-1775849400-1775856600@bagneuxenvironnement.org
SUMMARY:🖌️ Atelier encaustique multi-usages pour le mobilier - Défi Zéro Déchet
DESCRIPTION:🖌️ Apprenez à fabriquer une encaustique parfaite pour nourrir et faire briller le bois !\n  \nDans le cadre du Défi Zéro Déchet et en partenariat avec Vallée Sud Grand Paris\, nous vous proposons un atelier Fabriqu’O Naturel idéal pour votre mobilier. Vous y apprendrez à réaliser votre propre encaustique\, parfaite pour les meubles en bois ou bien le plancher\, faite d’ingrédients respectueux du matériau\, de votre environnement et de votre santé ! Un atelier idéal pour apprendre à fabriquer ses propres produits d’entretien et utiliser moins de produits chimiques dans la vie de tous les jours. \nCet atelier vous est proposé dans le cadre du Défi Zéro Déchet lancé par VSGP. Il est réservé aux participant.es du défi. \n  \n📅 Vendredi 10 avril \n🕑 19h30-21h30 \n📍 Espace Maison Blanche\, 2 avenue Saint-Exupéry\, 92320 Châtillon \n  \nPour plus d’informations sur le Défi Zéro Déchet et pour s’inscrire\, c’est ici : Inscrivez vous pour la nouvelle saison du Défi Zéro Déchet ! – Vallée Sud – Grand Paris \n 
URL:https://bagneuxenvironnement.org/evenement/%f0%9f%96%8c%ef%b8%8f-atelier-encaustique-multi-usages-pour-le-mobilier-defi-zero-dechet/
LOCATION:Espace Maison Blanche\, 2 avenue de Saint-Exupéry\, Châtillon\, Hauts-de-Seine\, 92320\, France
ATTACH;FMTTYPE=image/png:https://bagneuxenvironnement.org/wp-content/uploads/2025/08/Design-sans-titre30-e1775050274101.png
END:VEVENT
BEGIN:VEVENT
DTSTART;TZID=Europe/Paris:20260413T160000
DTEND;TZID=Europe/Paris:20260413T173000
DTSTAMP:20260419T183911
CREATED:20260401T092245Z
LAST-MODIFIED:20260401T092245Z
UID:10017094-1776096000-1776101400@bagneuxenvironnement.org
SUMMARY:🎨 Ballade dessinée dans Bagneux
DESCRIPTION:🎨 Vous aimez dessiner et vous promener ? Vous avez simplement envie d’exprimer votre créativité ?\n  \nEulalie\, en service civique à l’association Bagneux Environnement\, vous propose une ballade dessinée dans Bagneux\, à départ de l’Agrocité ! \nAmenez votre carnet ou un peu de papier\, quelques crayons et retrouvez-nous à 16h pour une promenade d’1h15 dans Bagneux avec plusieurs points d’arrêts pour réaliser nos croquis et échanger. \n  \n📅 Lundi 13 avril \n🕑 16h-17h15 \n📍 départ de l’Agrocité\, 23 rue de la Lisette\, 92220 Bagneux
URL:https://bagneuxenvironnement.org/evenement/%f0%9f%8e%a8-ballade-dessinee-dans-bagneux/
LOCATION:Agrocité\, 23 rue de la Lisette\, Bagneux\, Hauts-de-Seine\, 92220\, France
CATEGORIES:Agrocité de Bagneux
ATTACH;FMTTYPE=image/jpeg:https://bagneuxenvironnement.org/wp-content/uploads/2026/04/2026-02-28-Atelier-Eulalie-dessin-nature-morte-12-e1775034477268.jpeg
END:VEVENT
BEGIN:VEVENT
DTSTART;TZID=Europe/Paris:20260416T193000
DTEND;TZID=Europe/Paris:20260416T213000
DTSTAMP:20260419T183911
CREATED:20260327T172419Z
LAST-MODIFIED:20260327T172419Z
UID:10017084-1776367800-1776375000@bagneuxenvironnement.org
SUMMARY:🎸Formation Guitares à 1 ou 3 cordes
DESCRIPTION:🎸 Fabrication de guitares à 1 ou 3 cordes\nVous aimez la musique et le bricolage ? Nous vous proposons ce mois-ci 5 ateliers pour fabriquer votre propre guitare\, à 1 ou 3 cordes. De quoi confectionner votre propre instrument original ! Ces ateliers vous permettront de vous familiariser avec différents outils manuels comme numériques\, notamment les outils du bois\, la découpeuse laser et l’imprimante 3D. \nVenez fabriquer votre guitare de A à Z\, le tout dans une ambiance conviviale ! Ateliers accessibles à tous les niveaux. \nATTENTION : Il est essentiel de suivre les 5 ateliers du mois\, chaque jeudi étant consacré à une étape différente de la fabrication de l’instrument. \n🗓 Au programme : \n\nJeudi 2 avril : fabrication de la caisse de résonnance\nJeudi 9 avril : finition sur la caisse de résonnance\nJeudi 16 avril : fabrication de pièces de guitare à l’imprimante 3D\nJeudi 23 avril : assemblage de la guitare\nJeudi 30 avril : finitions\, fin de l’assemblage et tests de l’instrument\n\n📍 Fablab – Tiers Lieu de la Lisette\, Bagneux\n1 rue de la Fontaine 92220 Bagneux\nEntrée via le parking du gymnase Romain Rolland
URL:https://bagneuxenvironnement.org/evenement/formation-guitares-a-1-ou-3-cordes/2026-04-16/
LOCATION:Fablab\, 23 rue de la lisette\, Bagneux\, France
CATEGORIES:Fablab,Formation,Initiation,Réservation Machines
ATTACH;FMTTYPE=image/jpeg:https://bagneuxenvironnement.org/wp-content/uploads/2026/03/20260131_222059.jpg
END:VEVENT
BEGIN:VEVENT
DTSTART;TZID=Europe/Paris:20260418T090000
DTEND;TZID=Europe/Paris:20260418T180000
DTSTAMP:20260419T183911
CREATED:20260401T110935Z
LAST-MODIFIED:20260401T110935Z
UID:10017099-1776502800-1776535200@bagneuxenvironnement.org
SUMMARY:🌱 Foire Horticole - Bagneux Respire 2026
DESCRIPTION:🌱 Le Samedi 18 avril\, c’est la Foire Horticole de Bagneux !\nRejoignez-nous aux serres municipales de la ville pour cet événement incontournable pour tous les passionnés de jardinage\, de plantes et de nature. Nous y tiendrons deux stands : l’un de vente de produits artisanaux faits par nos bénévoles\, l’autre de distribution gratuite de compost ! \nAlors\, passez nous rencontrer ! \n📅 Samedi 18 avril \n🕑 9h-18h \n📍 aux Serres Municipales de Bagneux\, 26 avenue Albert Petit\, 92220 Bagneux
URL:https://bagneuxenvironnement.org/evenement/%f0%9f%8c%b1-foire-horticole-bagneux-respire-2026/
LOCATION:Serres municipales\, 26\, avenue Albert-Petit\, Bagneux\, 92220
CATEGORIES:asso,Stand
ATTACH;FMTTYPE=image/jpeg:https://bagneuxenvironnement.org/wp-content/uploads/2026/04/csm_bagneux_respire_2026_eb09b9c199-e1775041388507.jpg
END:VEVENT
BEGIN:VEVENT
DTSTART;TZID=Europe/Paris:20260421T193000
DTEND;TZID=Europe/Paris:20260421T213000
DTSTAMP:20260419T183911
CREATED:20260401T102040Z
LAST-MODIFIED:20260401T102040Z
UID:10017097-1776799800-1776807000@bagneuxenvironnement.org
SUMMARY:🫧 Atelier Lessive écologique - Défi Zéro Déchet
DESCRIPTION:🫧 Faire sa propre lessive ? Rien de plus simple !\nDans le cadre du Défi Zéro Déchet organisé par Vallée Sud Grand Paris\, l’association Bagneux Environnement vous propose un atelier Fabriqu’O Naturel pour apprendre à fabriquer votre lessive maison. \nLes participant.es recevront un échantillon de lessive à la cendre avec des explications sur les modalités de fabrication. Puis\, iels pourront confectionner deux lessives maison à base de savon de Marseille : une lessive liquide et une lessive en poudre. \nCet atelier est réalisé en partenariat avec VSGP dans le cadre du Défi Zéro Déchet. \n\n📅 Mardi 21 avril\n🕑 19h30-21h30\n📍 Maison des associations\, 105 avenue Aristide Briand\, 92120 Montrouge\n\nInscription obligatoire. Pour plus d’information\, c’est ici : Inscrivez vous pour la nouvelle saison du Défi Zéro Déchet ! – Vallée Sud – Grand Paris \n 
URL:https://bagneuxenvironnement.org/evenement/%f0%9f%ab%a7-atelier-lessive-ecologique-defi-zero-dechet/
LOCATION:Maison des associations\, 105 avenue Aristide Briand\, Montrouge\, Hauts-de-Seine\, 92120\, France
CATEGORIES:asso,Atelier Fabriqu’O’Naturel,atelier réduction des déchets,Fabriqu'O'Naturel
ATTACH;FMTTYPE=image/jpeg:https://bagneuxenvironnement.org/wp-content/uploads/2026/04/Lessive-maison-au-savon-de-Marseille-5-e1775038322626.jpg
END:VEVENT
BEGIN:VEVENT
DTSTART;TZID=Europe/Paris:20260422T140000
DTEND;TZID=Europe/Paris:20260422T160000
DTSTAMP:20260419T183911
CREATED:20260401T125400Z
LAST-MODIFIED:20260401T130040Z
UID:10017102-1776866400-1776873600@bagneuxenvironnement.org
SUMMARY:🖼️ Atelier Peinture végétale - CAEL Bourg-la-Reine
DESCRIPTION:🖼️ Un atelier créatif et ludique pour les petits et les grands ! Découvrez la peinture végétale avec l’association Bagneux Environnement !\n  \nMercredi 22 avril\, venez nous rencontrer au Centre d’Animation\, d’Expression et de Loisirs de Bourg-la-Reine pour un atelier  peinture. Vous découvrirez la peinture végétale\, réalisée à partir de pigments naturels que nous pouvons retrouver dans les plantes qui nous entourent telles que le chou\, l’oignon ou bien la ronce. Cet atelier est adapté aux petits comme aux grands ! Venez exprimer votre créativité et en apprendre plus sur la peinture végétale. \nLes inscriptions se font directement auprès du CAEL de Bourg-la-Reine. \n  \n📅 Mercredi 22 avril \n🕑 14h-16h \n📍 au CAEL\, 11 rue des rosiers\, 92340 Bourg-la-Reine
URL:https://bagneuxenvironnement.org/evenement/%f0%9f%96%bc%ef%b8%8f-atelier-peinture-vegetale-cael-bourg-la-reine/
LOCATION:CAEL\, 11 rue des rosiers\, Bourg-la-reine
CATEGORIES:asso
ATTACH;FMTTYPE=image/jpeg:https://bagneuxenvironnement.org/wp-content/uploads/2026/04/WhatsApp-Image-2026-02-26-at-17.24.40-e1775047931145.jpeg
ORGANIZER;CN="CAEL Bourg-la-Reine":MAILTO:accueil@caelmjc.com
END:VEVENT
BEGIN:VEVENT
DTSTART;TZID=Europe/Paris:20260423T193000
DTEND;TZID=Europe/Paris:20260423T213000
DTSTAMP:20260419T183911
CREATED:20260327T172419Z
LAST-MODIFIED:20260327T172419Z
UID:10017085-1776972600-1776979800@bagneuxenvironnement.org
SUMMARY:🎸Formation Guitares à 1 ou 3 cordes
DESCRIPTION:🎸 Fabrication de guitares à 1 ou 3 cordes\nVous aimez la musique et le bricolage ? Nous vous proposons ce mois-ci 5 ateliers pour fabriquer votre propre guitare\, à 1 ou 3 cordes. De quoi confectionner votre propre instrument original ! Ces ateliers vous permettront de vous familiariser avec différents outils manuels comme numériques\, notamment les outils du bois\, la découpeuse laser et l’imprimante 3D. \nVenez fabriquer votre guitare de A à Z\, le tout dans une ambiance conviviale ! Ateliers accessibles à tous les niveaux. \nATTENTION : Il est essentiel de suivre les 5 ateliers du mois\, chaque jeudi étant consacré à une étape différente de la fabrication de l’instrument. \n🗓 Au programme : \n\nJeudi 2 avril : fabrication de la caisse de résonnance\nJeudi 9 avril : finition sur la caisse de résonnance\nJeudi 16 avril : fabrication de pièces de guitare à l’imprimante 3D\nJeudi 23 avril : assemblage de la guitare\nJeudi 30 avril : finitions\, fin de l’assemblage et tests de l’instrument\n\n📍 Fablab – Tiers Lieu de la Lisette\, Bagneux\n1 rue de la Fontaine 92220 Bagneux\nEntrée via le parking du gymnase Romain Rolland
URL:https://bagneuxenvironnement.org/evenement/formation-guitares-a-1-ou-3-cordes/2026-04-23/
LOCATION:Fablab\, 23 rue de la lisette\, Bagneux\, France
CATEGORIES:Fablab,Formation,Initiation,Réservation Machines
ATTACH;FMTTYPE=image/jpeg:https://bagneuxenvironnement.org/wp-content/uploads/2026/03/20260131_222059.jpg
END:VEVENT
BEGIN:VEVENT
DTSTART;TZID=Europe/Paris:20260425T090000
DTEND;TZID=Europe/Paris:20260425T120000
DTSTAMP:20260419T183911
CREATED:20260401T104956Z
LAST-MODIFIED:20260401T104956Z
UID:10017098-1777107600-1777118400@bagneuxenvironnement.org
SUMMARY:🧵 Atelier couture : sac à tarte - Défi Zéro Déchet
DESCRIPTION:👜 Atelier couture : réalisez votre sac à tarte !\nUn atelier pratique et convivial pour apprendre à coudre tout en repartant avec un accessoire aussi utile qu’original. Le sac à tarte est l’allié parfait pour transporter vos gourmandises maison avec style et facilité. Une belle occasion de découvrir la couture ou de vous exercer\, mais aussi de créer un objet zéro déchet et réutilisable. \nCet atelier vous est proposé dans le cadre du Défi Zéro Déchet organisé par Vallée Sud Grand Paris. \n\n📅 Samedi 25 avril  \n🕑 9h-12h \n📍 au Fablab\, 1 rue de la Fontaine\, 92220 Bagneux \nInscription obligatoire. Plus d’informations par ici : Inscrivez vous pour la nouvelle saison du Défi Zéro Déchet ! – Vallée Sud – Grand Paris
URL:https://bagneuxenvironnement.org/evenement/%f0%9f%a7%b5-atelier-couture-sac-a-tarte-defi-zero-dechet/
LOCATION:Fablab\, 23 rue de la lisette\, Bagneux\, France
CATEGORIES:asso,atelier BE,Fablab,Formation,Initiation
ATTACH;FMTTYPE=image/png:https://bagneuxenvironnement.org/wp-content/uploads/2025/06/13-e1775040499656.png
END:VEVENT
BEGIN:VEVENT
DTSTART;TZID=Europe/Paris:20260426T160000
DTEND;TZID=Europe/Paris:20260426T180000
DTSTAMP:20260419T183911
CREATED:20260401T090110Z
LAST-MODIFIED:20260401T090146Z
UID:10017093-1777219200-1777226400@bagneuxenvironnement.org
SUMMARY:🥗 Blind cooking et Apéro-Débat
DESCRIPTION:😋 Retrouvez-nous pour un atelier cuisine à l’aveugle et un temps de discussion conviviale\n  \nLes bénévoles de l’association vous proposent un temps de cuisine mystère ! Apportez des ingrédients que vous n’avez pas cuisiné et préparons ensemble un apéritif à l’aveugle\, sans recette\, avec ce que nous apporterons. Place à l’improvisation et à la créativité ! \nCe temps de préparation sera suivi par un apéritif partagé\, l’occasion également d’échanger et de débattre tous ensemble ! \n  \n📅 Dimanche 26 avril \n🕑 16h \n📍 à l’Agrocité\, 23 rue de la Lisette\, 92220 Bagneux
URL:https://bagneuxenvironnement.org/evenement/%f0%9f%a5%97-blind-cooking-et-apero-debat/
LOCATION:Agrocité\, 23 rue de la Lisette\, Bagneux\, Hauts-de-Seine\, 92220\, France
CATEGORIES:Agrocité de Bagneux,asso,atelier réduction des déchets
ATTACH;FMTTYPE=image/jpeg:https://bagneuxenvironnement.org/wp-content/uploads/2026/04/Henri-Rousseau-Scene-a-Bagneux-e1775033413460.jpg
END:VEVENT
BEGIN:VEVENT
DTSTART;TZID=Europe/Paris:20260430T193000
DTEND;TZID=Europe/Paris:20260430T213000
DTSTAMP:20260419T183911
CREATED:20260327T172419Z
LAST-MODIFIED:20260327T172419Z
UID:10017086-1777577400-1777584600@bagneuxenvironnement.org
SUMMARY:🎸Formation Guitares à 1 ou 3 cordes
DESCRIPTION:🎸 Fabrication de guitares à 1 ou 3 cordes\nVous aimez la musique et le bricolage ? Nous vous proposons ce mois-ci 5 ateliers pour fabriquer votre propre guitare\, à 1 ou 3 cordes. De quoi confectionner votre propre instrument original ! Ces ateliers vous permettront de vous familiariser avec différents outils manuels comme numériques\, notamment les outils du bois\, la découpeuse laser et l’imprimante 3D. \nVenez fabriquer votre guitare de A à Z\, le tout dans une ambiance conviviale ! Ateliers accessibles à tous les niveaux. \nATTENTION : Il est essentiel de suivre les 5 ateliers du mois\, chaque jeudi étant consacré à une étape différente de la fabrication de l’instrument. \n🗓 Au programme : \n\nJeudi 2 avril : fabrication de la caisse de résonnance\nJeudi 9 avril : finition sur la caisse de résonnance\nJeudi 16 avril : fabrication de pièces de guitare à l’imprimante 3D\nJeudi 23 avril : assemblage de la guitare\nJeudi 30 avril : finitions\, fin de l’assemblage et tests de l’instrument\n\n📍 Fablab – Tiers Lieu de la Lisette\, Bagneux\n1 rue de la Fontaine 92220 Bagneux\nEntrée via le parking du gymnase Romain Rolland
URL:https://bagneuxenvironnement.org/evenement/formation-guitares-a-1-ou-3-cordes/2026-04-30/
LOCATION:Fablab\, 23 rue de la lisette\, Bagneux\, France
CATEGORIES:Fablab,Formation,Initiation,Réservation Machines
ATTACH;FMTTYPE=image/jpeg:https://bagneuxenvironnement.org/wp-content/uploads/2026/03/20260131_222059.jpg
END:VEVENT
END:VCALENDAR