BEGIN:VCALENDAR
VERSION:2.0
PRODID:-//Bagneux Environnement - ECPv6.2.4//NONSGML v1.0//EN
CALSCALE:GREGORIAN
METHOD:PUBLISH
X-WR-CALNAME:Bagneux Environnement
X-ORIGINAL-URL:https://bagneuxenvironnement.org
X-WR-CALDESC:évènements pour Bagneux Environnement
REFRESH-INTERVAL;VALUE=DURATION:PT1H
X-Robots-Tag:noindex
X-PUBLISHED-TTL:PT1H
BEGIN:VTIMEZONE
TZID:Europe/Paris
BEGIN:DAYLIGHT
TZOFFSETFROM:+0100
TZOFFSETTO:+0200
TZNAME:CEST
DTSTART:20220327T010000
END:DAYLIGHT
BEGIN:STANDARD
TZOFFSETFROM:+0200
TZOFFSETTO:+0100
TZNAME:CET
DTSTART:20221030T010000
END:STANDARD
BEGIN:DAYLIGHT
TZOFFSETFROM:+0100
TZOFFSETTO:+0200
TZNAME:CEST
DTSTART:20230326T010000
END:DAYLIGHT
BEGIN:STANDARD
TZOFFSETFROM:+0200
TZOFFSETTO:+0100
TZNAME:CET
DTSTART:20231029T010000
END:STANDARD
BEGIN:DAYLIGHT
TZOFFSETFROM:+0100
TZOFFSETTO:+0200
TZNAME:CEST
DTSTART:20240331T010000
END:DAYLIGHT
BEGIN:STANDARD
TZOFFSETFROM:+0200
TZOFFSETTO:+0100
TZNAME:CET
DTSTART:20241027T010000
END:STANDARD
BEGIN:DAYLIGHT
TZOFFSETFROM:+0100
TZOFFSETTO:+0200
TZNAME:CEST
DTSTART:20250330T010000
END:DAYLIGHT
BEGIN:STANDARD
TZOFFSETFROM:+0200
TZOFFSETTO:+0100
TZNAME:CET
DTSTART:20251026T010000
END:STANDARD
BEGIN:DAYLIGHT
TZOFFSETFROM:+0100
TZOFFSETTO:+0200
TZNAME:CEST
DTSTART:20260329T010000
END:DAYLIGHT
BEGIN:STANDARD
TZOFFSETFROM:+0200
TZOFFSETTO:+0100
TZNAME:CET
DTSTART:20261025T010000
END:STANDARD
END:VTIMEZONE
BEGIN:VEVENT
DTSTART;TZID=Europe/Paris:20220301T140000
DTEND;TZID=Europe/Paris:20220301T153000
DTSTAMP:20260420T114830
CREATED:20220228T100032Z
LAST-MODIFIED:20220302T130724Z
UID:10002892-1646143200-1646148600@bagneuxenvironnement.org
SUMMARY:ATELIER NATURE EN VILLE - enfants instruits en Famille
DESCRIPTION:CYCLE “LES CRAPAUDS” – atelier III : comptage des crapauds à la friche de la lisette. Venez découvrir les écosystèmes et leurs habitants que l’on peut trouver plus près qu’on ne le pense dans notre ville ! Deux créneaux horaires possibles par cycle : de 14h00 à 15h30 ou de 15h30 à 17h00. \ninscription facile en ligne : https://www.helloasso.com/associations/bagneux-environnement/evenements/ateliers-nature-en-ville-pour-les-non-sco-2021-2022
URL:https://bagneuxenvironnement.org/evenement/atelier-nature-en-ville-enfant-instruit-en-famille-7/
LOCATION:Agrocité\, 23 rue de la Lisette\, Bagneux\, Hauts-de-Seine\, 92220\, France
CATEGORIES:atelier nature en ville
ATTACH;FMTTYPE=image/png:https://bagneuxenvironnement.org/wp-content/uploads/2021/11/Atelier-Nature-en-Ville.png
END:VEVENT
BEGIN:VEVENT
DTSTART;TZID=Europe/Paris:20230512T164500
DTEND;TZID=Europe/Paris:20230512T184500
DTSTAMP:20260420T114830
CREATED:20230407T085215Z
LAST-MODIFIED:20230504T095239Z
UID:10003232-1683909900-1683917100@bagneuxenvironnement.org
SUMMARY:Après l'Ecole\, Jeux de Société
DESCRIPTION:Vous ne savez pas comment occuper vos enfants vendredi après l’école ? Catherine vous propose des jeux de société en libre-service ! \nN’hésitez pas à ramener vos jeux de société pour les faire découvrir aux autres 😉 \nPas d’inscription nécessaire 😉 \nProchaine date : vendredi 09 juin !
URL:https://bagneuxenvironnement.org/evenement/apres-lecole-jeux-de-societe/
LOCATION:Agrocité\, 23 rue de la Lisette\, Bagneux\, Hauts-de-Seine\, 92220\, France
CATEGORIES:Activité Agrocité,Agrocité de Bagneux
END:VEVENT
BEGIN:VEVENT
DTSTART;TZID=Europe/Paris:20230609T164500
DTEND;TZID=Europe/Paris:20230609T184500
DTSTAMP:20260420T114830
CREATED:20230412T085125Z
LAST-MODIFIED:20230504T094847Z
UID:10003248-1686329100-1686336300@bagneuxenvironnement.org
SUMMARY:Après l'Ecole\, Jeux de Société
DESCRIPTION:Vous ne savez pas comment occuper vos enfants vendredi après l’école ? Catherine vous propose des jeux de société en libre-service ! \nN’hésitez pas à ramener vos jeux de société pour les faire découvrir aux autres 😉 \nPas d’inscription nécessaire 😉
URL:https://bagneuxenvironnement.org/evenement/apres-lecole-jeux-de-societe-2/
LOCATION:Agrocité\, 23 rue de la Lisette\, Bagneux\, Hauts-de-Seine\, 92220\, France
CATEGORIES:Activité Agrocité,Agrocité de Bagneux
END:VEVENT
BEGIN:VEVENT
DTSTART;TZID=Europe/Paris:20230707T164500
DTEND;TZID=Europe/Paris:20230707T184500
DTSTAMP:20260420T114830
CREATED:20230524T145732Z
LAST-MODIFIED:20230524T145732Z
UID:10003284-1688748300-1688755500@bagneuxenvironnement.org
SUMMARY:Après l'Ecole\, Jeux de Société
DESCRIPTION:Vous ne savez pas comment occuper vos enfants vendredi après l’école ? Catherine vous propose des jeux de société en libre-service ! \nN’hésitez pas à ramener vos jeux de société pour les faire découvrir aux autres 😉 \nPas d’inscription nécessaire 😉
URL:https://bagneuxenvironnement.org/evenement/apres-lecole-jeux-de-societe-3/
LOCATION:Agrocité\, 23 rue de la Lisette\, Bagneux\, Hauts-de-Seine\, 92220\, France
CATEGORIES:Activité Agrocité,Agrocité de Bagneux
ATTACH;FMTTYPE=image/jpeg:https://bagneuxenvironnement.org/wp-content/uploads/2023/05/Jeux-de-Societe-1.jpg
END:VEVENT
BEGIN:VEVENT
DTSTART;TZID=Europe/Paris:20260401T140000
DTEND;TZID=Europe/Paris:20260401T153000
DTSTAMP:20260420T114830
CREATED:20260401T100106Z
LAST-MODIFIED:20260401T100106Z
UID:10017095-1775052000-1775057400@bagneuxenvironnement.org
SUMMARY:🧚 Conte de Nature - "Découverte de la vie du sol" et "Crapaud en ville"
DESCRIPTION:🧚 Rendez-vous au Centre Social et Culturel des Blagis pour une après-midi féérique dédiée à la nature !\n  \nLes animateurices de l’association Bagneux Environnement vous proposent deux sessions de contes et de jeux autour de la nature\, pour amuser les petits comme les grands. \nAu programme : une première session sur la vie du sol et ses petits habitants\, et une seconde sur le crapaud\, notre voisin urbain de tous les jours ! \n  \nDates et horaires :\nPremière session\, “Découverte de la vie du sol” \n\n📅 Mercredi 1 avril\n🕑 14h-15h30\n📍 CSC Blagis\, 2 rue du Docteur Roux\, 92330 Sceaux\n\nSeconde session\, “Crapaud en ville” \n\n📅 Lundi 20 avril\n🕑 14h-15h30\n📍 à l’Agrocité\, 23 rue de la Lisette\, 92220 Bagneux\n\nLes inscriptions se font auprès du CSC Blagis !
URL:https://bagneuxenvironnement.org/evenement/%f0%9f%a7%9a-conte-de-nature-decouverte-de-la-vie-du-sol-et-crapaud-en-ville/2026-04-01/
LOCATION:CSC Blagis\, 2 Rue du Dr Roux\, Sceaux
CATEGORIES:Activité Agrocité,Agrocité de Bagneux,asso,atelier nature en ville,Atelier Non-Sco,Centre Social Culturelle,Les P'tits Ateliers Nature
ATTACH;FMTTYPE=image/jpeg:https://bagneuxenvironnement.org/wp-content/uploads/2026/04/2026-03-17-ITN-Boites-papillons-Niki-de-St-Phalle-17.jpg
END:VEVENT
BEGIN:VEVENT
DTSTART;TZID=Europe/Paris:20260420T140000
DTEND;TZID=Europe/Paris:20260420T153000
DTSTAMP:20260420T114830
CREATED:20260401T100106Z
LAST-MODIFIED:20260401T100106Z
UID:10017096-1776693600-1776699000@bagneuxenvironnement.org
SUMMARY:🧚 Conte de Nature - "Découverte de la vie du sol" et "Crapaud en ville"
DESCRIPTION:🧚 Rendez-vous au Centre Social et Culturel des Blagis pour une après-midi féérique dédiée à la nature !\n  \nLes animateurices de l’association Bagneux Environnement vous proposent deux sessions de contes et de jeux autour de la nature\, pour amuser les petits comme les grands. \nAu programme : une première session sur la vie du sol et ses petits habitants\, et une seconde sur le crapaud\, notre voisin urbain de tous les jours ! \n  \nDates et horaires :\nPremière session\, “Découverte de la vie du sol” \n\n📅 Mercredi 1 avril\n🕑 14h-15h30\n📍 CSC Blagis\, 2 rue du Docteur Roux\, 92330 Sceaux\n\nSeconde session\, “Crapaud en ville” \n\n📅 Lundi 20 avril\n🕑 14h-15h30\n📍 à l’Agrocité\, 23 rue de la Lisette\, 92220 Bagneux\n\nLes inscriptions se font auprès du CSC Blagis !
URL:https://bagneuxenvironnement.org/evenement/%f0%9f%a7%9a-conte-de-nature-decouverte-de-la-vie-du-sol-et-crapaud-en-ville/2026-04-20/
LOCATION:CSC Blagis\, 2 Rue du Dr Roux\, Sceaux
CATEGORIES:Activité Agrocité,Agrocité de Bagneux,asso,atelier nature en ville,Atelier Non-Sco,Centre Social Culturelle,Les P'tits Ateliers Nature
ATTACH;FMTTYPE=image/jpeg:https://bagneuxenvironnement.org/wp-content/uploads/2026/04/2026-03-17-ITN-Boites-papillons-Niki-de-St-Phalle-17.jpg
END:VEVENT
END:VCALENDAR