BEGIN:VCALENDAR
VERSION:2.0
PRODID:-//Bagneux Environnement - ECPv6.2.4//NONSGML v1.0//EN
CALSCALE:GREGORIAN
METHOD:PUBLISH
X-WR-CALNAME:Bagneux Environnement
X-ORIGINAL-URL:https://bagneuxenvironnement.org
X-WR-CALDESC:évènements pour Bagneux Environnement
REFRESH-INTERVAL;VALUE=DURATION:PT1H
X-Robots-Tag:noindex
X-PUBLISHED-TTL:PT1H
BEGIN:VTIMEZONE
TZID:Europe/Paris
BEGIN:DAYLIGHT
TZOFFSETFROM:+0100
TZOFFSETTO:+0200
TZNAME:CEST
DTSTART:20260329T010000
END:DAYLIGHT
BEGIN:STANDARD
TZOFFSETFROM:+0200
TZOFFSETTO:+0100
TZNAME:CET
DTSTART:20261025T010000
END:STANDARD
END:VTIMEZONE
BEGIN:VEVENT
DTSTART;TZID=Europe/Paris:20260420T140000
DTEND;TZID=Europe/Paris:20260420T153000
DTSTAMP:20260420T061619
CREATED:20260401T100106Z
LAST-MODIFIED:20260401T100106Z
UID:10017096-1776693600-1776699000@bagneuxenvironnement.org
SUMMARY:🧚 Conte de Nature - "Découverte de la vie du sol" et "Crapaud en ville"
DESCRIPTION:🧚 Rendez-vous au Centre Social et Culturel des Blagis pour une après-midi féérique dédiée à la nature !\n  \nLes animateurices de l’association Bagneux Environnement vous proposent deux sessions de contes et de jeux autour de la nature\, pour amuser les petits comme les grands. \nAu programme : une première session sur la vie du sol et ses petits habitants\, et une seconde sur le crapaud\, notre voisin urbain de tous les jours ! \n  \nDates et horaires :\nPremière session\, “Découverte de la vie du sol” \n\n📅 Mercredi 1 avril\n🕑 14h-15h30\n📍 CSC Blagis\, 2 rue du Docteur Roux\, 92330 Sceaux\n\nSeconde session\, “Crapaud en ville” \n\n📅 Lundi 20 avril\n🕑 14h-15h30\n📍 à l’Agrocité\, 23 rue de la Lisette\, 92220 Bagneux\n\nLes inscriptions se font auprès du CSC Blagis !
URL:https://bagneuxenvironnement.org/evenement/%f0%9f%a7%9a-conte-de-nature-decouverte-de-la-vie-du-sol-et-crapaud-en-ville/2026-04-20/
LOCATION:CSC Blagis\, 2 Rue du Dr Roux\, Sceaux
CATEGORIES:Activité Agrocité,Agrocité de Bagneux,asso,atelier nature en ville,Atelier Non-Sco,Centre Social Culturelle,Les P'tits Ateliers Nature
ATTACH;FMTTYPE=image/jpeg:https://bagneuxenvironnement.org/wp-content/uploads/2026/04/2026-03-17-ITN-Boites-papillons-Niki-de-St-Phalle-17.jpg
END:VEVENT
BEGIN:VEVENT
DTSTART;TZID=Europe/Paris:20260422T140000
DTEND;TZID=Europe/Paris:20260422T160000
DTSTAMP:20260420T061619
CREATED:20260401T125400Z
LAST-MODIFIED:20260401T130040Z
UID:10017102-1776866400-1776873600@bagneuxenvironnement.org
SUMMARY:🖼️ Atelier Peinture végétale - CAEL Bourg-la-Reine
DESCRIPTION:🖼️ Un atelier créatif et ludique pour les petits et les grands ! Découvrez la peinture végétale avec l’association Bagneux Environnement !\n  \nMercredi 22 avril\, venez nous rencontrer au Centre d’Animation\, d’Expression et de Loisirs de Bourg-la-Reine pour un atelier  peinture. Vous découvrirez la peinture végétale\, réalisée à partir de pigments naturels que nous pouvons retrouver dans les plantes qui nous entourent telles que le chou\, l’oignon ou bien la ronce. Cet atelier est adapté aux petits comme aux grands ! Venez exprimer votre créativité et en apprendre plus sur la peinture végétale. \nLes inscriptions se font directement auprès du CAEL de Bourg-la-Reine. \n  \n📅 Mercredi 22 avril \n🕑 14h-16h \n📍 au CAEL\, 11 rue des rosiers\, 92340 Bourg-la-Reine
URL:https://bagneuxenvironnement.org/evenement/%f0%9f%96%bc%ef%b8%8f-atelier-peinture-vegetale-cael-bourg-la-reine/
LOCATION:CAEL\, 11 rue des rosiers\, Bourg-la-reine
CATEGORIES:asso
ATTACH;FMTTYPE=image/jpeg:https://bagneuxenvironnement.org/wp-content/uploads/2026/04/WhatsApp-Image-2026-02-26-at-17.24.40-e1775047931145.jpeg
ORGANIZER;CN="CAEL Bourg-la-Reine":MAILTO:accueil@caelmjc.com
END:VEVENT
END:VCALENDAR