BEGIN:VCALENDAR
VERSION:2.0
PRODID:-//Bagneux Environnement - ECPv6.2.4//NONSGML v1.0//EN
CALSCALE:GREGORIAN
METHOD:PUBLISH
X-ORIGINAL-URL:https://bagneuxenvironnement.org
X-WR-CALDESC:évènements pour Bagneux Environnement
REFRESH-INTERVAL;VALUE=DURATION:PT1H
X-Robots-Tag:noindex
X-PUBLISHED-TTL:PT1H
BEGIN:VTIMEZONE
TZID:Europe/Paris
BEGIN:DAYLIGHT
TZOFFSETFROM:+0100
TZOFFSETTO:+0200
TZNAME:CEST
DTSTART:20240331T010000
END:DAYLIGHT
BEGIN:STANDARD
TZOFFSETFROM:+0200
TZOFFSETTO:+0100
TZNAME:CET
DTSTART:20241027T010000
END:STANDARD
END:VTIMEZONE
BEGIN:VEVENT
DTSTART;TZID=Europe/Paris:20240929T110000
DTEND;TZID=Europe/Paris:20240929T190000
DTSTAMP:20260421T201508
CREATED:20240906T103320Z
LAST-MODIFIED:20240906T103320Z
UID:10010752-1727607600-1727636400@bagneuxenvironnement.org
SUMMARY:Fêtes des Vendanges
DESCRIPTION:L’association Bagneux Environnement aura la gestion des gobelets réutilisables lors de la fête des Vendanges. Nous y tiendrons aussi un stand pour y proposer des boissons fraîches à partir d’invendus alimentaires. La fête aura lieu au niveau de la place Dampierre et du Parc du Puits Saint Etienne de Bagneux. \nCette année les horaires d’ouverture des stands sont différents sur les 2 jours. \n\nSamedi :\n– Place Dampierre : 11-22h\n– Parc du Puits Saint Étienne : 11h – 19h\nDimanche :\n– Place Dampierre : 11h-19h\n– Parc du Puits Saint Étienne : 11h-18h\n\nAfin d’assurer ce week-end intense\, nous avons encore besoin de bénévoles sur des créneaux de 2h : S’inscrire en tant que bénévole \n 
URL:https://bagneuxenvironnement.org/evenement/fetes-des-vendanges-2/2024-09-29/
LOCATION:Place Dampierre\, 12 Rue de la République\, Bagneux\, 92220\, France
CATEGORIES:asso,Stand
ATTACH;FMTTYPE=image/jpeg:https://bagneuxenvironnement.org/wp-content/uploads/2023/09/Fetedesvendanges.jpg
END:VEVENT
END:VCALENDAR