BEGIN:VCALENDAR
VERSION:2.0
PRODID:-//Bagneux Environnement - ECPv6.2.4//NONSGML v1.0//EN
CALSCALE:GREGORIAN
METHOD:PUBLISH
X-WR-CALNAME:Bagneux Environnement
X-ORIGINAL-URL:https://bagneuxenvironnement.org
X-WR-CALDESC:évènements pour Bagneux Environnement
REFRESH-INTERVAL;VALUE=DURATION:PT1H
X-Robots-Tag:noindex
X-PUBLISHED-TTL:PT1H
BEGIN:VTIMEZONE
TZID:Europe/Paris
BEGIN:DAYLIGHT
TZOFFSETFROM:+0100
TZOFFSETTO:+0200
TZNAME:CEST
DTSTART:20220327T010000
END:DAYLIGHT
BEGIN:STANDARD
TZOFFSETFROM:+0200
TZOFFSETTO:+0100
TZNAME:CET
DTSTART:20221030T010000
END:STANDARD
BEGIN:DAYLIGHT
TZOFFSETFROM:+0100
TZOFFSETTO:+0200
TZNAME:CEST
DTSTART:20230326T010000
END:DAYLIGHT
BEGIN:STANDARD
TZOFFSETFROM:+0200
TZOFFSETTO:+0100
TZNAME:CET
DTSTART:20231029T010000
END:STANDARD
BEGIN:DAYLIGHT
TZOFFSETFROM:+0100
TZOFFSETTO:+0200
TZNAME:CEST
DTSTART:20240331T010000
END:DAYLIGHT
BEGIN:STANDARD
TZOFFSETFROM:+0200
TZOFFSETTO:+0100
TZNAME:CET
DTSTART:20241027T010000
END:STANDARD
BEGIN:DAYLIGHT
TZOFFSETFROM:+0100
TZOFFSETTO:+0200
TZNAME:CEST
DTSTART:20250330T010000
END:DAYLIGHT
BEGIN:STANDARD
TZOFFSETFROM:+0200
TZOFFSETTO:+0100
TZNAME:CET
DTSTART:20251026T010000
END:STANDARD
BEGIN:DAYLIGHT
TZOFFSETFROM:+0100
TZOFFSETTO:+0200
TZNAME:CEST
DTSTART:20260329T010000
END:DAYLIGHT
BEGIN:STANDARD
TZOFFSETFROM:+0200
TZOFFSETTO:+0100
TZNAME:CET
DTSTART:20261025T010000
END:STANDARD
END:VTIMEZONE
BEGIN:VEVENT
DTSTART;TZID=Europe/Paris:20220301T140000
DTEND;TZID=Europe/Paris:20220301T153000
DTSTAMP:20260422T003800
CREATED:20220228T100032Z
LAST-MODIFIED:20220302T130724Z
UID:10002892-1646143200-1646148600@bagneuxenvironnement.org
SUMMARY:ATELIER NATURE EN VILLE - enfants instruits en Famille
DESCRIPTION:CYCLE “LES CRAPAUDS” – atelier III : comptage des crapauds à la friche de la lisette. Venez découvrir les écosystèmes et leurs habitants que l’on peut trouver plus près qu’on ne le pense dans notre ville ! Deux créneaux horaires possibles par cycle : de 14h00 à 15h30 ou de 15h30 à 17h00. \ninscription facile en ligne : https://www.helloasso.com/associations/bagneux-environnement/evenements/ateliers-nature-en-ville-pour-les-non-sco-2021-2022
URL:https://bagneuxenvironnement.org/evenement/atelier-nature-en-ville-enfant-instruit-en-famille-7/
LOCATION:Agrocité\, 23 rue de la Lisette\, Bagneux\, Hauts-de-Seine\, 92220\, France
CATEGORIES:atelier nature en ville
ATTACH;FMTTYPE=image/png:https://bagneuxenvironnement.org/wp-content/uploads/2021/11/Atelier-Nature-en-Ville.png
END:VEVENT
BEGIN:VEVENT
DTSTART;TZID=Europe/Paris:20220319T100000
DTEND;TZID=Europe/Paris:20220319T120000
DTSTAMP:20260422T003800
CREATED:20211115T101216Z
LAST-MODIFIED:20220302T160611Z
UID:10002873-1647684000-1647691200@bagneuxenvironnement.org
SUMMARY:ATELIER NATURE EN VILLE - les fourmis (Agrocité)
DESCRIPTION:Les fourmis sont des insectes sociaux\, tout comme l’homme. A l’Agrocité\, découvrons ensemble le mode de vie et l’organisation des premiers animaux à avoir bâtis des villes ! \ninscription facile en ligne : https://www.helloasso.com/associations/bagneux-environnement/evenements/19-mars-atelier-nature-en-ville-les-fourmis
URL:https://bagneuxenvironnement.org/evenement/atelier-nature-en-ville-fourmis-agrocite/
LOCATION:Agrocité\, 23 rue de la Lisette\, Bagneux\, Hauts-de-Seine\, 92220\, France
CATEGORIES:atelier nature en ville
ATTACH;FMTTYPE=image/jpeg:https://bagneuxenvironnement.org/wp-content/uploads/2021/11/AtelierNatureVille_FourmisOnly.jpg
END:VEVENT
BEGIN:VEVENT
DTSTART;TZID=Europe/Paris:20220319T143000
DTEND;TZID=Europe/Paris:20220319T163000
DTSTAMP:20260422T003800
CREATED:20220302T143851Z
LAST-MODIFIED:20220302T160545Z
UID:10002975-1647700200-1647707400@bagneuxenvironnement.org
SUMMARY:ATELIER NATURE EN VILLE - les fourmis (CSC Fontaine Gueffier)
DESCRIPTION:Les fourmis sont des insectes sociaux\, tout comme l’homme. Au CSC Fontaine Gueffier\, découvrons ensemble le mode de vie et l’organisation des premiers animaux à avoir bâtis des villes ! \ninscription facile par téléphone : 01.47.40.26.00
URL:https://bagneuxenvironnement.org/evenement/atelier-nature-en-ville-les-fourmis-csc-fontaine-gueffier/
LOCATION:CSC Gueffier\, 1 Rue de la Fontaine\, Bagneux\, Hauts-de-Seine\, 92220\, France
CATEGORIES:atelier nature en ville
ATTACH;FMTTYPE=image/jpeg:https://bagneuxenvironnement.org/wp-content/uploads/2021/11/AtelierNatureVille_FourmisOnly.jpg
END:VEVENT
BEGIN:VEVENT
DTSTART;TZID=Europe/Paris:20220327T150000
DTEND;TZID=Europe/Paris:20220327T180000
DTSTAMP:20260422T003800
CREATED:20220302T164746Z
LAST-MODIFIED:20220302T165248Z
UID:10002982-1648393200-1648404000@bagneuxenvironnement.org
SUMMARY:ATELIER AGRICULTURE URBAINE - apiculture écologique
DESCRIPTION:Au pavillon BE au 4 sentier des Brugnauds 92220 BAGNEUX puis au rucher à la friche\, découvrez le monde des abeilles domestiques et la pratique d’une apiculture respectueuse des abeilles. \nCette initiation (6 sessions) vous permettra d’acquérir les connaissances de base sur l’apiculture écologique. \ninscription facile en ligne : https://www.helloasso.com/associations/bagneux-environnement/evenements/27-mars-au-11-sept-formation-apiculture-ecologique \n 
URL:https://bagneuxenvironnement.org/evenement/atelier-agriculture-urbaine-apiculture-ecologique/
LOCATION:Pavillon de Bagneux Environnement\, 4 Sent. des Brugnauts\, BAGNEUX\, 92220\, France
ATTACH;FMTTYPE=image/jpeg:https://bagneuxenvironnement.org/wp-content/uploads/2022/03/MielBE.jpg
END:VEVENT
BEGIN:VEVENT
DTSTART;TZID=Europe/Paris:20221005T100000
DTEND;TZID=Europe/Paris:20221005T120000
DTSTAMP:20260422T003800
CREATED:20220831T104704Z
LAST-MODIFIED:20220914T093108Z
UID:10002925-1664964000-1664971200@bagneuxenvironnement.org
SUMMARY:Les Ateliers du Naturaliste en Herbe: Introduction
DESCRIPTION:Atelier 1/30 : Petite introduction sur le programme de l’année et visite des lieux pour les ateliers du naturaliste en herbe. \nInscription : à l’année sur le lien suivant\nCondition : de 8 à 12 ans\nLimite : 8 personnes maximum \nTu apprendras à utiliser les outils du naturaliste (filet à papillons\, parapluie japonais\, …) et tu aborderas la botanique (étude des plantes)\, l’entomologie (étude des insectes)\, l’ornithologie (étude des oiseaux). Tu pourras aussi utiliser le Fablab de l’association pour fabriquer du matériel pour ta pratique (planche à herbier) ou qui bénéficiera à la faune locale (mangeoire à oiseaux). Quel programme !   \nDes ateliers autour du potager ou de la confection de produits cosmétiques naturels s’intègreront dans le parcours pour une vision globale de la protection de l’environnement.  \nPROGRAMME :\n5 octobre : Séance d’introduction et confection d’un carnet de terrain 100% récup\n12 octobre : Atelier au Potager\n19 octobre : A la découverte des escargots et des limaces\nVACANCES\n9 novembre : Les oiseaux – généralités\n16-23-30 novembre : Réalisation de Mangeoires au fablab\n7 décembre : Les oiseaux en hiver\n14 décembre : Spécial fête\nVACANCES\n4 janvier :\n11 janvier : Initiation à la saisie des données naturalistes\n18 janvier : Initiation au dessin naturaliste\n25 janvier : Initiation à la photographie naturaliste\n1er\, 8 et 15 février : Construction de serres pliables au fablab\nVACANCES\n8 mars : Introduction au compost et atelier au Potager\n15 mars : La vie du sol\n22 mars : Sciences participatives : Spipoll\n29 mars : La pollinisation\, késako ?\n5 avril : Découvrir les abeilles domestiques\n12 avril : Comment protéger les abeilles sauvages ?\n19 avril : Et si on se fabriquait un baume à lèvre naturel ?\nVACANCES\n10 et 24 mai : Fabrication d’une presse pour herbier et sa boîte\n31 mai : Recherche et identification des feuilles\n7 juin : Les arbres comestibles\n14 juin : Vive les mares !\n21 juin : Les princesses de la mare : les libellules et demoiselles\n28 juin : Les papillons  \nCe type d’atelier vous passionne ? Venez aider et apprendre avec nous dans nos ateliers !
URL:https://bagneuxenvironnement.org/evenement/les-ateliers-du-naturaliste-en-herbe-introduction-2/
LOCATION:Agrocité\, 23 rue de la Lisette\, Bagneux\, Hauts-de-Seine\, 92220\, France
CATEGORIES:atelier nature en ville,Ateliers du Naturaliste en Herbe
ATTACH;FMTTYPE=image/jpeg:https://bagneuxenvironnement.org/wp-content/uploads/2022/03/Friche-des-trois-mares.jpg
END:VEVENT
BEGIN:VEVENT
DTSTART;TZID=Europe/Paris:20221006T140000
DTEND;TZID=Europe/Paris:20221006T170000
DTSTAMP:20260422T003800
CREATED:20220831T112243Z
LAST-MODIFIED:20220914T141036Z
UID:10002926-1665064800-1665075600@bagneuxenvironnement.org
SUMMARY:Atelier Non-Sco : Sauterelles\, criquets\, grillons
DESCRIPTION:Les P’tits Ateliers Nature sont dédiés aux enfants instruits en famille pour découvrir les ressources inattendues que nous offre la nature sur notre territoire\, pour se représenter l’organisation des écosystèmes et les liens qui unissent les êtres vivants entre eux et à leur milieu. Il s’agit également d’apprendre à connaître la ville dans laquelle nous évoluons\, la nature qui nous entoure pour se mobiliser à la restaurer\, la valoriser ou la protéger. \nInscription : à l’année sur le lien suivant\nCondition : de 8 à 12 ans et être non scolarisé\nLimite : 8 personnes maximum \nL’inscription est à l’année pour 17 ateliers:\n06/10 Sauterelles\, criquets\, grillons\n20/10 Les plantes et leur environnement\n10/11 Les champignons\n24/11 Les outils du naturaliste\n08/12 Les liminaires: ces animaux ni sauvages ni domestiques\n05/01 Le renard\n19/01 Je composte\, Tu compostes\n02/02 Les vers de terre et la vie du sol\n16/02 Potager au Naturel\n09/03 Hôtel à Insectes\n23/03 Sauvages de ma rue\n06/04 La pollinisation\n20/04 Les abeilles domestiques\n11/05 Protéger les abeilles sauvages\n25/05 Le hérisson\n08/06 Les chauves-souris\n22/06 Vive les mares! \nCe type d’atelier vous passionne ? Venez aider et apprendre avec nous dans nos ateliers !
URL:https://bagneuxenvironnement.org/evenement/atelier-non-sco-orthopteres/
LOCATION:Agrocité\, 23 rue de la Lisette\, Bagneux\, Hauts-de-Seine\, 92220\, France
CATEGORIES:atelier nature en ville,Atelier Non-Sco
ATTACH;FMTTYPE=image/jpeg:https://bagneuxenvironnement.org/wp-content/uploads/2020/12/DIV-enfants-mare-2-2.jpg
END:VEVENT
BEGIN:VEVENT
DTSTART;TZID=Europe/Paris:20221012T100000
DTEND;TZID=Europe/Paris:20221012T120000
DTSTAMP:20260422T003800
CREATED:20220831T095823Z
LAST-MODIFIED:20220907T173050Z
UID:10002923-1665568800-1665576000@bagneuxenvironnement.org
SUMMARY:Les Ateliers du Naturaliste en Herbe: Potager au naturel
DESCRIPTION:Atelier 2/30 : Voir ses légumes s’épanouir depuis sa fenêtre ou dans son jardin\, quoi de plus réjouissant ! Mais au fait\, qu’est-ce qu’un légume ? \nInscription : à l’année\nCondition : de 8 à 12 ans\nLimite : 8 personnes maximum \nCe type d’atelier vous passionne ? Venez aider et apprendre avec nous dans nos ateliers !
URL:https://bagneuxenvironnement.org/evenement/les-ateliers-du-naturaliste-en-herbe-introduction/
LOCATION:Agrocité\, 23 rue de la Lisette\, Bagneux\, Hauts-de-Seine\, 92220\, France
CATEGORIES:atelier nature en ville,Ateliers du Naturaliste en Herbe
ATTACH;FMTTYPE=image/jpeg:https://bagneuxenvironnement.org/wp-content/uploads/2022/03/Friche-des-trois-mares.jpg
END:VEVENT
BEGIN:VEVENT
DTSTART;TZID=Europe/Paris:20221016T170000
DTEND;TZID=Europe/Paris:20221016T193000
DTSTAMP:20260422T003800
CREATED:20220914T100904Z
LAST-MODIFIED:20220914T101623Z
UID:10003085-1665939600-1665948600@bagneuxenvironnement.org
SUMMARY:Balade d'Automne & Repas Partagé
DESCRIPTION:Envie de découvrir des petits coins de verdure en pays de Bagneux ? Oui\, ils existent !\nEnfilez vos chaussures les plus confortables et laissez-vous guider à travers le patrimoine environnemental de Bagneux lors d’une balade d’automne. \nBagneux est riche d’une nature étonnante ! Lors de cette promenade\, vous aurez l’occasion de découvrir les initiatives mises en place pour protéger cet environnement par la Ville et les associations locales. \nAu programme :\n17h : rendez-vous au composteur du parc François Mitterand (rue des Pichets)\n18h15 : arrivée à l’Agrocité (rue de la Lisette)\n18h30 : apéro et lecture de textes et poèmes\n19h : Soupe partagée au couché du soleil (s’il est au rendez-vous) \nBalade gratuite sur réservation : reservationtvh@valleesud.fr / 01 46 63 96 66 \nCette balade est organisée par le Théâtre Victor Hugo en lien avec les associations :  Bagneux Environnement\, L’Agrocité et l’Hébergerie. \nS’inscrire en tant que bénévole pour nous aider à cuisiner :\nNous lançons un concours de soupe pour nous réchauffer autour du poêle ! Elle devra être chaude pour 19h ! vous pouvez utiliser la cuisine de l’Agrocité ou la préparer chez vous.
URL:https://bagneuxenvironnement.org/evenement/balade-dautomne-repas-partage/
LOCATION:Composteur Parc François Mitterrand Sud\, 12 Rue des Frères Lumière\, Bagneux\, 92220\, France
CATEGORIES:Activité Agrocité,Agrocité de Bagneux
ATTACH;FMTTYPE=image/jpeg:https://bagneuxenvironnement.org/wp-content/uploads/2022/09/Balade-Bagneux.jpg
ORGANIZER;CN="Th%C3%A9%C3%A2tre Victor Hugo":MAILTO:reservationtvh@valleesud.fr
END:VEVENT
BEGIN:VEVENT
DTSTART;TZID=Europe/Paris:20221019T100000
DTEND;TZID=Europe/Paris:20221019T120000
DTSTAMP:20260422T003800
CREATED:20220831T105126Z
LAST-MODIFIED:20220831T110904Z
UID:10002924-1666173600-1666180800@bagneuxenvironnement.org
SUMMARY:Les Ateliers du Naturaliste en Herbe : Escargots et limaces
DESCRIPTION:Atelier 3/30 : Escargots et limaces\nInscription : à l’année\nCondition : de 8 à 12 ans\nLimite : 8 personnes maximum \nCe type d’atelier vous passionne ? Venez aider et apprendre avec nous dans nos ateliers !
URL:https://bagneuxenvironnement.org/evenement/les-ateliers-du-naturaliste-en-herbe-escargots-et-limaces/
LOCATION:Agrocité\, 23 rue de la Lisette\, Bagneux\, Hauts-de-Seine\, 92220\, France
CATEGORIES:atelier nature en ville,Ateliers du Naturaliste en Herbe
ATTACH;FMTTYPE=image/jpeg:https://bagneuxenvironnement.org/wp-content/uploads/2022/03/Friche-des-trois-mares.jpg
END:VEVENT
BEGIN:VEVENT
DTSTART;TZID=Europe/Paris:20221020T140000
DTEND;TZID=Europe/Paris:20221020T170000
DTSTAMP:20260422T003800
CREATED:20220831T114652Z
LAST-MODIFIED:20220831T120733Z
UID:10002927-1666274400-1666285200@bagneuxenvironnement.org
SUMMARY:Atelier Non-Sco : Les plantes et leurs environnements
DESCRIPTION:Atelier 2/17 : Les plantes et leurs environnements  \nInscription : à l’année\nCondition : de 8 à 12 ans et être non scolarisé\nLimite : 8 personnes maximum \nCe type d’atelier vous passionne ? Venez aider et apprendre avec nous dans nos ateliers !
URL:https://bagneuxenvironnement.org/evenement/atelier-non-sco-les-plantes-et-leurs-environnements/
LOCATION:Agrocité\, 23 rue de la Lisette\, Bagneux\, Hauts-de-Seine\, 92220\, France
CATEGORIES:atelier nature en ville,Atelier Non-Sco
ATTACH;FMTTYPE=image/jpeg:https://bagneuxenvironnement.org/wp-content/uploads/2020/12/DIV-enfants-mare-2-2.jpg
END:VEVENT
BEGIN:VEVENT
DTSTART;TZID=Europe/Paris:20221110T140000
DTEND;TZID=Europe/Paris:20221110T170000
DTSTAMP:20260422T003800
CREATED:20221017T110753Z
LAST-MODIFIED:20221017T111109Z
UID:10003106-1668088800-1668099600@bagneuxenvironnement.org
SUMMARY:Les P'tits Ateliers Nature : N°3 Les champignons
DESCRIPTION:Atelier N°3 Les champignons : Classe bien souvent oubliée\, les fonges sont pourtant partout. Avec leurs différents modes de vie et leur résistance\, ils ont réussi à s’adapter à tous les environnements et à coloniser la quasi-totalité de la planète.\nVenez en apprendre plus sur ces organismes fascinants et leurs rôles dans nos écosystèmes\, lors d’une sortie au parc de François-Mitterand à Bagneux. Au programme\, intervention en plein air\, avec des activités pour tester vos connaissances. Apprenez à connaître ces organismes et vous ne les regarderez plus jamais comme avant \nLes P’tits Ateliers Nature : sont dédiés aux enfants instruits en famille pour découvrir les ressources inattendues que nous offre la nature sur notre territoire\, pour se représenter l’organisation des écosystèmes et les liens qui unissent les êtres vivants entre eux et à leur milieu. Il s’agit également d’apprendre à connaître la ville dans laquelle nous évoluons\, la nature qui nous entoure pour se mobiliser à la restaurer\, la valoriser ou la protéger. \nInscription : à l’année sur le lien suivant\nCondition : de 8 à 12 ans et être non scolarisé\nLimite : 8 personnes maximum \nL’inscription est à l’année pour 17 ateliers:\n06/10 Sauterelles\, criquets\, grillons\n20/10 Les plantes et leur environnement\n10/11 Les champignons\n24/11 Les outils du naturaliste\n08/12 Les liminaires: ces animaux ni sauvages ni domestiques\n05/01 Le renard\n19/01 Je composte\, Tu compostes\n02/02 Les vers de terre et la vie du sol\n16/02 Potager au Naturel\n09/03 Hôtel à Insectes\n23/03 Sauvages de ma rue\n06/04 La pollinisation\n20/04 Les abeilles domestiques\n11/05 Protéger les abeilles sauvages\n25/05 Le hérisson\n08/06 Les chauves-souris\n22/06 Vive les mares! \nCe type d’atelier vous passionne ? Venez aider et apprendre avec nous dans nos ateliers !
URL:https://bagneuxenvironnement.org/evenement/les-ptits-ateliers-nature-n3-les-champignons/
LOCATION:Agrocité\, 23 rue de la Lisette\, Bagneux\, Hauts-de-Seine\, 92220\, France
CATEGORIES:atelier nature en ville,Atelier Non-Sco
ATTACH;FMTTYPE=image/jpeg:https://bagneuxenvironnement.org/wp-content/uploads/2020/12/DIV-enfants-mare-2-2.jpg
END:VEVENT
BEGIN:VEVENT
DTSTART;TZID=Europe/Paris:20221124T140000
DTEND;TZID=Europe/Paris:20221124T170000
DTSTAMP:20260422T003800
CREATED:20221017T141817Z
LAST-MODIFIED:20221017T141817Z
UID:10003109-1669298400-1669309200@bagneuxenvironnement.org
SUMMARY:Les P'tits Ateliers Nature : N°4 Je composte\, tu compostes
DESCRIPTION:Atelier N°4 Je composte\, tu compostes : Pourquoi et comment faire du compost ? Combien de temps faut-il attendre pour pouvoir l’utiliser ? Avec nous\, vous saurez tout sur le compost ! \nLes P’tits Ateliers Nature : sont dédiés aux enfants instruits en famille pour découvrir les ressources inattendues que nous offre la nature sur notre territoire\, pour se représenter l’organisation des écosystèmes et les liens qui unissent les êtres vivants entre eux et à leur milieu. Il s’agit également d’apprendre à connaître la ville dans laquelle nous évoluons\, la nature qui nous entoure pour se mobiliser à la restaurer\, la valoriser ou la protéger. \nInscription : à l’année sur le lien suivant\nCondition : de 3 à 12 ans et être non scolarisé\nLimite : 8 personnes maximum \nL’inscription est à l’année pour 17 ateliers:\n06/10 Sauterelles\, criquets\, grillons\n20/10 Les plantes et leur environnement\n10/11 Les champignons\n24/11 Les outils du naturaliste\n08/12 Les liminaires: ces animaux ni sauvages ni domestiques\n05/01 Le renard\n19/01 Je composte\, Tu compostes\n02/02 Les vers de terre et la vie du sol\n16/02 Potager au Naturel\n09/03 Hôtel à Insectes\n23/03 Sauvages de ma rue\n06/04 La pollinisation\n20/04 Les abeilles domestiques\n11/05 Protéger les abeilles sauvages\n25/05 Le hérisson\n08/06 Les chauves-souris\n22/06 Vive les mares! \nCe type d’atelier vous passionne ? Venez aider et apprendre avec nous dans nos ateliers !
URL:https://bagneuxenvironnement.org/evenement/les-ptits-ateliers-nature-n4-je-composte-tu-compostes/
LOCATION:Agrocité\, 23 rue de la Lisette\, Bagneux\, Hauts-de-Seine\, 92220\, France
CATEGORIES:atelier nature en ville,Atelier Non-Sco
ATTACH;FMTTYPE=image/jpeg:https://bagneuxenvironnement.org/wp-content/uploads/2020/12/DIV-enfants-mare-2-2.jpg
END:VEVENT
BEGIN:VEVENT
DTSTART;TZID=Europe/Paris:20230416T170000
DTEND;TZID=Europe/Paris:20230416T193000
DTSTAMP:20260422T003800
CREATED:20230307T150656Z
LAST-MODIFIED:20230307T150656Z
UID:10003221-1681664400-1681673400@bagneuxenvironnement.org
SUMMARY:Balade de Printemps
DESCRIPTION:Envie de découvrir des petits coins de verdure en pays de Bagneux ? Oui\, ils existent ! Enfilez vos chaussures les plus confortables et laissez-vous guider à travers le patrimoine environnemental de Bagneux lors d’une balade printanière le dimanche 16 Avril. \nBagneux est riche d’une nature étonnante ! Lors de cette promenade\, vous aurez l’occasion de découvrir les initiatives mises en place pour protéger cet environnement par la Ville et les associations locales. \nAu programme :\n17h : rendez-vous au composteur du parc Richelieu (rue des Pichets)\n18h15 : arrivée à l’Agrocité (rue de la Lisette)\n18h30 : apéro dans le jardin de l’Agrocité et lecture de poèmes avec l’association A Mots Croisés \nBalade gratuite sur réservation ou pas : reservationtvh@valleesud.fr / 01 46 63 96 66 \nCette balade est organisée par le : Théâtre Victor Hugo\, L’Agrocité\, A Mots Croisés et les Espaces Verts de Bagneux.
URL:https://bagneuxenvironnement.org/evenement/balade/
LOCATION:Composteur Richelieu\, 6 Rue Etienne Dolet\, BAGNEUX\, Hauts de Seines\, 92220
CATEGORIES:Activité Agrocité,Agrocité de Bagneux,atelier nature en ville
ATTACH;FMTTYPE=image/jpeg:https://bagneuxenvironnement.org/wp-content/uploads/2022/09/Balade-Bagneux.jpg
ORGANIZER;CN="Th%C3%A9%C3%A2tre Victor Hugo":MAILTO:reservationtvh@valleesud.fr
END:VEVENT
BEGIN:VEVENT
DTSTART;TZID=Europe/Paris:20260131T100000
DTEND;TZID=Europe/Paris:20260131T120000
DTSTAMP:20260422T003800
CREATED:20260107T144352Z
LAST-MODIFIED:20260107T144515Z
UID:10016318-1769853600-1769860800@bagneuxenvironnement.org
SUMMARY:📚 Club de lecture autour du poêle à bois – Walden de Henry David Thoreau
DESCRIPTION:Prenez le temps de ralentir et de vous retrouver autour du poêle à bois de l’Agrocité pour un club de lecture convivial et chaleureux avec Eulalie\, service civique de l’association. \nPour cette rencontre\, nous vous proposons d’échanger autour deWalden\, ou la vie dans les bois de Henry David Thoreau\, un texte emblématique qui questionne notre rapport à la nature\, à la simplicité et au mode de vie. \nQue vous ayez lu tout ou partie de l’ouvrage\, ou que vous soyez simplement curieux.se\, vous êtes les bienvenu.es pour lire\, écouter\, discuter et partager vos impressions dans une ambiance détendue. \n☕ Moment d’échange ouvert à toutes et tous\, au coin du feu.
URL:https://bagneuxenvironnement.org/evenement/club-de-lecture-autour-du-poele-a-bois/
LOCATION:Agrocité\, 23 rue de la Lisette\, Bagneux\, Hauts-de-Seine\, 92220\, France
CATEGORIES:Activité Agrocité,Agrocité de Bagneux
ATTACH;FMTTYPE=image/png:https://bagneuxenvironnement.org/wp-content/uploads/2026/01/Club-de-lecture.png
END:VEVENT
BEGIN:VEVENT
DTSTART;TZID=Europe/Paris:20260316T180000
DTEND;TZID=Europe/Paris:20260316T191500
DTSTAMP:20260422T003800
CREATED:20260227T160703Z
LAST-MODIFIED:20260227T160803Z
UID:10016941-1773684000-1773688500@bagneuxenvironnement.org
SUMMARY:📚 Club de lecture autour du poêle à bois – Walden de Henry David Thoreau
DESCRIPTION:📚 Club de lecture autour du poêle à bois\nPrenez le temps de ralentir et de vous retrouver autour du poêle à bois de l’Agrocité pour un club de lecture convivial et chaleureux avec Eulalie\, service civique de l’association. \nPour cette seconde session\, nous vous proposons de continuer notre réflexion autour deWalden\, ou la vie dans les bois de Henry David Thoreau\, un texte emblématique qui questionne notre rapport à la nature\, à la simplicité et au mode de vie. \nPour cette session\, nous concentrerons la discussion sur le rapport au quotidien présenté dans l’ouvrage : une invitation à repenser notre rythme de vie. \n☕ Moment d’échange ouvert à toutes et tous\, au coin du feu. \n📅 Lundi 16 mars \n🕑 18h – 19h15 \n📍 à l’Agrocité\, 23 rue de la Lisette\, 92220 Bagneux
URL:https://bagneuxenvironnement.org/evenement/%f0%9f%93%9a-club-de-lecture-autour-du-poele-a-bois-walden-de-henry-david-thoreau/
LOCATION:Agrocité\, 23 rue de la Lisette\, Bagneux\, Hauts-de-Seine\, 92220\, France
CATEGORIES:Activité Agrocité,Agrocité de Bagneux
ATTACH;FMTTYPE=image/png:https://bagneuxenvironnement.org/wp-content/uploads/2026/01/Club-de-lecture.png
END:VEVENT
END:VCALENDAR